{"text_format":"1","workbook":"xlsx","n_sheets":7,"sheets":["Atenção","Conceito","Exemplo","Cadastro de Produtos","Inventário","Estoque","Relatório"],"not_rendered":{"charts":4,"images":11,"macros":1,"external_links":0,"defined_names":9,"comments":1,"pivot_tables":0},"unopened":[],"bounds":{"document_bytes":16777216,"sheet_cells":100000,"rows_first":2000,"rows_last":500,"rows_between":2000,"halvings":0,"cell_chars":16384,"cell_head_chars":4096},"cells_cut":0,"cells_raw":0,"read":"whole","date_system":"1900"}

{"sheet":"Atenção","index":0,"n_rows":21,"n_cols":1,"rows_kept":21,"cut":false,"hidden":false,"merged":[[20,0,21,10]]}
[]
[]
[]
[]
[]
[]
[]
[]
[]
[]
[]
[]
[]
[]
[]
[]
[]
[]
[]
[]
["Clique aqui para começar a utilização da ferramenta"]

{"sheet":"Conceito","index":1,"n_rows":0,"n_cols":0,"rows_kept":0,"cut":false,"hidden":false,"merged":[]}

{"sheet":"Exemplo","index":2,"n_rows":0,"n_cols":0,"rows_kept":0,"cut":false,"hidden":false,"merged":[]}

{"sheet":"Cadastro de Produtos","index":3,"n_rows":205,"n_cols":8,"rows_kept":205,"cut":false,"hidden":false,"merged":[[1,1,1,7],[204,1,204,6]]}
[]
[]
[]
[null,"Número do Produto","Nome do Produto","para o procv","Descrição","Unidade de consumo","Estoque Mínimo","Estoque Máximo"]
[null,1]
[null,2]
[null,3]
[null,4]
[null,5]
[null,6]
[null,7]
[null,8]
[null,9]
[null,10,null,10]
[null,11,null,11]
[null,12,null,12]
[null,13,null,13]
[null,14,null,14]
[null,15,null,15]
[null,16,null,16]
[null,17,null,17]
[null,18,null,18]
[null,19,null,19]
[null,20,null,20]
[null,21,null,21]
[null,22,null,22]
[null,23,null,23]
[null,24,null,24]
[null,25,null,25]
[null,26,null,26]
[null,27,null,27]
[null,28,null,28]
[null,29,null,29]
[null,30,null,30]
[null,31,null,31]
[null,32,null,32]
[null,33,null,33]
[null,34,null,34]
[null,35,null,35]
[null,36,null,36]
[null,37,null,37]
[null,38,null,38]
[null,39,null,39]
[null,40,null,40]
[null,41,null,41]
[null,42,null,42]
[null,43,null,43]
[null,44,null,44]
[null,45,null,45]
[null,46,null,46]
[null,47,null,47]
[null,48,null,48]
[null,49,null,49]
[null,50,null,50]
[null,51,null,51]
[null,52,null,52]
[null,53,null,53]
[null,54,null,54]
[null,55,null,55]
[null,56,null,56]
[null,57,null,57]
[null,58,null,58]
[null,59,null,59]
[null,60,null,60]
[null,61,null,61]
[null,62,null,62]
[null,63,null,63]
[null,64,null,64]
[null,65,null,65]
[null,66,null,66]
[null,67,null,67]
[null,68,null,68]
[null,69,null,69]
[null,70,null,70]
[null,71,null,71]
[null,72,null,72]
[null,73,null,73]
[null,74,null,74]
[null,75,null,75]
[null,76,null,76]
[null,77,null,77]
[null,78,null,78]
[null,79,null,79]
[null,80,null,80]
[null,81,null,81]
[null,82,null,82]
[null,83,null,83]
[null,84,null,84]
[null,85,null,85]
[null,86,null,86]
[null,87,null,87]
[null,88,null,88]
[null,89,null,89]
[null,90,null,90]
[null,91,null,91]
[null,92,null,92]
[null,93,null,93]
[null,94,null,94]
[null,95,null,95]
[null,96,null,96]
[null,97,null,97]
[null,98,null,98]
[null,99,null,99]
[null,100,null,100]
[null,101,null,101]
[null,102,null,102]
[null,103,null,103]
[null,104,null,104]
[null,105,null,105]
[null,106,null,106]
[null,107,null,107]
[null,108,null,108]
[null,109,null,109]
[null,110,null,110]
[null,111,null,111]
[null,112,null,112]
[null,113,null,113]
[null,114,null,114]
[null,115,null,115]
[null,116,null,116]
[null,117,null,117]
[null,118,null,118]
[null,119,null,119]
[null,120,null,120]
[null,121,null,121]
[null,122,null,122]
[null,123,null,123]
[null,124,null,124]
[null,125,null,125]
[null,126,null,126]
[null,127,null,127]
[null,128,null,128]
[null,129,null,129]
[null,130,null,130]
[null,131,null,131]
[null,132,null,132]
[null,133,null,133]
[null,134,null,134]
[null,135,null,135]
[null,136,null,136]
[null,137,null,137]
[null,138,null,138]
[null,139,null,139]
[null,140,null,140]
[null,141,null,141]
[null,142,null,142]
[null,143,null,143]
[null,144,null,144]
[null,145,null,145]
[null,146,null,146]
[null,147,null,147]
[null,148,null,148]
[null,149,null,149]
[null,150,null,150]
[null,151,null,151]
[null,152,null,152]
[null,153,null,153]
[null,154,null,154]
[null,155,null,155]
[null,156,null,156]
[null,157,null,157]
[null,158,null,158]
[null,159,null,159]
[null,160,null,160]
[null,161,null,161]
[null,162,null,162]
[null,163,null,163]
[null,164,null,164]
[null,165,null,165]
[null,166,null,166]
[null,167,null,167]
[null,168,null,168]
[null,169,null,169]
[null,170,null,170]
[null,171,null,171]
[null,172,null,172]
[null,173,null,173]
[null,174,null,174]
[null,175,null,175]
[null,176,null,176]
[null,177,null,177]
[null,178,null,178]
[null,179,null,179]
[null,180,null,180]
[null,181,null,181]
[null,182,null,182]
[null,183,null,183]
[null,184,null,184]
[null,185,null,185]
[null,186,null,186]
[null,187,null,187]
[null,188,null,188]
[null,189,null,189]
[null,190,null,190]
[null,191,null,191]
[null,192,null,192]
[null,193,null,193]
[null,194,null,194]
[null,195,null,195]
[null,196,null,196]
[null,197,null,197]
[null,198,null,198]
[null,199,null,199]
[null,200,null,200]
[null,"Quantidade de Produtos em Estoque:",null,null,null,null,null,{"$f":"COUNTA($C$5:$C$204)","v":0}]

{"sheet":"Inventário","index":4,"n_rows":155,"n_cols":14,"rows_kept":155,"cut":false,"hidden":false,"merged":[[4,6,4,11],[7,2,8,2],[7,3,8,3],[7,1,8,1],[7,4,8,4],[7,12,7,13],[7,10,7,11],[7,8,7,9],[7,6,8,6],[7,7,8,7]]}
[]
[]
[]
[]
[null,null,null,null,null,null,"Pesquisa Rápida"]
[null,null,null,null,null,null,"Produto:",null,"Quantidade:",{"$f":"IF(H6=\"\",\"\",SUMIF(Inventário!E10:E152,$H$6,Inventário!$M$10:$M$150))","v":""},"Valor:",{"$f":"IFERROR(SUMIF($E$10:$E$150,$H$6,$N$10:$N$150),\"✖\")","v":0}]
[]
[null,"Data","mês","ano","Produto",null,"Valor unitário","Validade","Entradas",null,"Saídas",null,"Saldo Diário"]
[null,null,null,null,null,null,null,null,"Quantidade","Valor total","Quantidade","Valor Total","Quantidade","Valor Total"]
[null,null,null,null,null,null,null,null,null,{"$f":"IF(I10=\"\",\"\",G10*I10)","v":""},null,{"$f":"IF(K10=\"\",\"\",K10*G10)","v":""},{"$f":"IF(I10-K10=0,\"\",I10-K10)","v":""},{"$f":"IF(M10=\"\",\"\",M10*G10)","v":""}]
[null,null,null,null,null,null,null,null,null,"",null,"","",""]
[null,null,null,null,null,null,null,null,null,"",null,"","",""]
[null,null,null,null,null,null,null,null,null,"",null,"","",""]
[null,null,null,null,null,null,null,null,null,"",null,"","",""]
[null,null,null,null,null,null,null,null,null,"",null,"","",""]
[null,null,null,null,null,null,null,null,null,"",null,"","",""]
[null,null,null,null,null,null,null,null,null,"",null,"","",""]
[null,null,{"$f":"IF(B18=\"\",\"\",(MONTH(B18)))","v":""},{"$f":"IF(C18=\"\",\"\",IF(C18=1,\"JAN\",IF(C18=2,\"FEV\",IF(C18=3,\"MAR\",IF(C18=4,\"ABR\",IF(C18=5,\"MAI\",IF(C18=6,\"JUN\",IF(C18=7,\"JUL\",IF(C18=8,\"AGO\",IF(C18=9,\"SET\",IF(C18=10,\"OUT\",IF(C18=11,\"NOV\",IF(C18=12,\"DEZ\",\"ERRO\")))))))))))))","v":""},null,{"$f":"IF(E18=\"\",\"\",VLOOKUP(E18,'Cadastro de Produtos'!$C$5:$E$204,2,0))","v":""},null,null,null,"",null,"","",""]
[null,null,{"$f":"IF(B19=\"\",\"\",(MONTH(B19)))","v":""},{"$f":"IF(C19=\"\",\"\",IF(C19=1,\"JAN\",IF(C19=2,\"FEV\",IF(C19=3,\"MAR\",IF(C19=4,\"ABR\",IF(C19=5,\"MAI\",IF(C19=6,\"JUN\",IF(C19=7,\"JUL\",IF(C19=8,\"AGO\",IF(C19=9,\"SET\",IF(C19=10,\"OUT\",IF(C19=11,\"NOV\",IF(C19=12,\"DEZ\",\"ERRO\")))))))))))))","v":""},null,{"$f":"IF(E19=\"\",\"\",VLOOKUP(E19,'Cadastro de Produtos'!$C$5:$E$204,2,0))","v":""},null,null,null,"",null,"","",""]
[null,null,{"$f":"IF(B20=\"\",\"\",(MONTH(B20)))","v":""},{"$f":"IF(C20=\"\",\"\",IF(C20=1,\"JAN\",IF(C20=2,\"FEV\",IF(C20=3,\"MAR\",IF(C20=4,\"ABR\",IF(C20=5,\"MAI\",IF(C20=6,\"JUN\",IF(C20=7,\"JUL\",IF(C20=8,\"AGO\",IF(C20=9,\"SET\",IF(C20=10,\"OUT\",IF(C20=11,\"NOV\",IF(C20=12,\"DEZ\",\"ERRO\")))))))))))))","v":""},null,{"$f":"IF(E20=\"\",\"\",VLOOKUP(E20,'Cadastro de Produtos'!$C$5:$E$204,2,0))","v":""},null,null,null,"",null,"","",""]
[null,null,"","",null,{"$f":"IF(E21=\"\",\"\",VLOOKUP(E21,'Cadastro de Produtos'!$C$5:$E$204,2,0))","v":""},null,null,null,"",null,"","",""]
[null,null,"","",null,{"$f":"IF(E22=\"\",\"\",VLOOKUP(E22,'Cadastro de Produtos'!$C$5:$E$204,2,0))","v":""},null,null,null,"",null,"","",""]
[null,null,"","",null,{"$f":"IF(E23=\"\",\"\",VLOOKUP(E23,'Cadastro de Produtos'!$C$5:$E$204,2,0))","v":""},null,null,null,"",null,"","",""]
[null,null,"","",null,{"$f":"IF(E24=\"\",\"\",VLOOKUP(E24,'Cadastro de Produtos'!$C$5:$E$204,2,0))","v":""},null,null,null,"",null,"","",""]
[null,null,"","",null,{"$f":"IF(E25=\"\",\"\",VLOOKUP(E25,'Cadastro de Produtos'!$C$5:$E$204,2,0))","v":""},null,null,null,"",null,"","",""]
[null,null,"","",null,{"$f":"IF(E26=\"\",\"\",VLOOKUP(E26,'Cadastro de Produtos'!$C$5:$E$204,2,0))","v":""},null,null,null,"",null,"","",""]
[null,null,"","",null,{"$f":"IF(E27=\"\",\"\",VLOOKUP(E27,'Cadastro de Produtos'!$C$5:$E$204,2,0))","v":""},null,null,null,"",null,"","",""]
[null,null,"","",null,{"$f":"IF(E28=\"\",\"\",VLOOKUP(E28,'Cadastro de Produtos'!$C$5:$E$204,2,0))","v":""},null,null,null,"",null,"","",""]
[null,null,"","",null,{"$f":"IF(E29=\"\",\"\",VLOOKUP(E29,'Cadastro de Produtos'!$C$5:$E$204,2,0))","v":""},null,null,null,"",null,"","",""]
[null,null,"","",null,{"$f":"IF(E30=\"\",\"\",VLOOKUP(E30,'Cadastro de Produtos'!$C$5:$E$204,2,0))","v":""},null,null,null,"",null,"","",""]
[null,null,"","",null,{"$f":"IF(E31=\"\",\"\",VLOOKUP(E31,'Cadastro de Produtos'!$C$5:$E$204,2,0))","v":""},null,null,null,"",null,"","",""]
[null,null,"","",null,{"$f":"IF(E32=\"\",\"\",VLOOKUP(E32,'Cadastro de Produtos'!$C$5:$E$204,2,0))","v":""},null,null,null,"",null,"","",""]
[null,null,"","",null,{"$f":"IF(E33=\"\",\"\",VLOOKUP(E33,'Cadastro de Produtos'!$C$5:$E$204,2,0))","v":""},null,null,null,"",null,"","",""]
[null,null,"","",null,{"$f":"IF(E34=\"\",\"\",VLOOKUP(E34,'Cadastro de Produtos'!$C$5:$E$204,2,0))","v":""},null,null,null,"",null,"","",""]
[null,null,"","",null,{"$f":"IF(E35=\"\",\"\",VLOOKUP(E35,'Cadastro de Produtos'!$C$5:$E$204,2,0))","v":""},null,null,null,"",null,"","",""]
[null,null,"","",null,{"$f":"IF(E36=\"\",\"\",VLOOKUP(E36,'Cadastro de Produtos'!$C$5:$E$204,2,0))","v":""},null,null,null,"",null,"","",""]
[null,null,"","",null,{"$f":"IF(E37=\"\",\"\",VLOOKUP(E37,'Cadastro de Produtos'!$C$5:$E$204,2,0))","v":""},null,null,null,"",null,"","",""]
[null,null,"","",null,{"$f":"IF(E38=\"\",\"\",VLOOKUP(E38,'Cadastro de Produtos'!$C$5:$E$204,2,0))","v":""},null,null,null,{"$f":"IF(I38=\"\",\"\",G38*I38)","v":""},null,"",{"$f":"IF(I38-K38=0,\"\",I38-K38)","v":""},""]
[null,null,"","",null,{"$f":"IF(E39=\"\",\"\",VLOOKUP(E39,'Cadastro de Produtos'!$C$5:$E$204,2,0))","v":""},null,null,null,{"$f":"IF(I39=\"\",\"\",G39*I39)","v":""},null,"",{"$f":"IF(I39-K39=0,\"\",I39-K39)","v":""},""]
[null,null,"","",null,{"$f":"IF(E40=\"\",\"\",VLOOKUP(E40,'Cadastro de Produtos'!$C$5:$E$204,2,0))","v":""},null,null,null,"",null,"","",""]
[null,null,"","",null,{"$f":"IF(E41=\"\",\"\",VLOOKUP(E41,'Cadastro de Produtos'!$C$5:$E$204,2,0))","v":""},null,null,null,"",null,"","",""]
[null,null,"","",null,{"$f":"IF(E42=\"\",\"\",VLOOKUP(E42,'Cadastro de Produtos'!$C$5:$E$204,2,0))","v":""},null,null,null,{"$f":"IF(I42=\"\",\"\",G42*I42)","v":""},null,"",{"$f":"IF(I42-K42=0,\"\",I42-K42)","v":""},{"$f":"IF(M42=\"\",\"\",M42*G42)","v":""}]
[null,null,"","",null,{"$f":"IF(E43=\"\",\"\",VLOOKUP(E43,'Cadastro de Produtos'!$C$5:$E$204,2,0))","v":""},null,null,null,"",null,"","",""]
[null,null,"","",null,{"$f":"IF(E44=\"\",\"\",VLOOKUP(E44,'Cadastro de Produtos'!$C$5:$E$204,2,0))","v":""},null,null,null,"",null,"","",""]
[null,null,"","",null,{"$f":"IF(E45=\"\",\"\",VLOOKUP(E45,'Cadastro de Produtos'!$C$5:$E$204,2,0))","v":""},null,null,null,"",null,"","",""]
[null,null,"","",null,{"$f":"IF(E46=\"\",\"\",VLOOKUP(E46,'Cadastro de Produtos'!$C$5:$E$204,2,0))","v":""},null,null,null,"",null,"","",""]
[null,null,"","",null,{"$f":"IF(E47=\"\",\"\",VLOOKUP(E47,'Cadastro de Produtos'!$C$5:$E$204,2,0))","v":""},null,null,null,"",null,"","",""]
[null,null,"","",null,{"$f":"IF(E48=\"\",\"\",VLOOKUP(E48,'Cadastro de Produtos'!$C$5:$E$204,2,0))","v":""},null,null,null,"",null,"","",""]
[null,null,"","",null,{"$f":"IF(E49=\"\",\"\",VLOOKUP(E49,'Cadastro de Produtos'!$C$5:$E$204,2,0))","v":""},null,null,null,"",null,"","",""]
[null,null,"","",null,{"$f":"IF(E50=\"\",\"\",VLOOKUP(E50,'Cadastro de Produtos'!$C$5:$E$204,2,0))","v":""},null,null,null,"",null,"","",""]
[null,null,"","",null,{"$f":"IF(E51=\"\",\"\",VLOOKUP(E51,'Cadastro de Produtos'!$C$5:$E$204,2,0))","v":""},null,null,null,"",null,"","",""]
[null,null,"","",null,{"$f":"IF(E52=\"\",\"\",VLOOKUP(E52,'Cadastro de Produtos'!$C$5:$E$204,2,0))","v":""},null,null,null,"",null,"","",""]
[null,null,"","",null,{"$f":"IF(E53=\"\",\"\",VLOOKUP(E53,'Cadastro de Produtos'!$C$5:$E$204,2,0))","v":""},null,null,null,"",null,"","",""]
[null,null,"","",null,{"$f":"IF(E54=\"\",\"\",VLOOKUP(E54,'Cadastro de Produtos'!$C$5:$E$204,2,0))","v":""},null,null,null,"",null,"","",""]
[null,null,"","",null,{"$f":"IF(E55=\"\",\"\",VLOOKUP(E55,'Cadastro de Produtos'!$C$5:$E$204,2,0))","v":""},null,null,null,"",null,"","",""]
[null,null,"","",null,{"$f":"IF(E56=\"\",\"\",VLOOKUP(E56,'Cadastro de Produtos'!$C$5:$E$204,2,0))","v":""},null,null,null,"",null,"","",""]
[null,null,"","",null,{"$f":"IF(E57=\"\",\"\",VLOOKUP(E57,'Cadastro de Produtos'!$C$5:$E$204,2,0))","v":""},null,null,null,"",null,"","",""]
[null,null,"","",null,{"$f":"IF(E58=\"\",\"\",VLOOKUP(E58,'Cadastro de Produtos'!$C$5:$E$204,2,0))","v":""},null,null,null,"",null,"","",""]
[null,null,"","",null,{"$f":"IF(E59=\"\",\"\",VLOOKUP(E59,'Cadastro de Produtos'!$C$5:$E$204,2,0))","v":""},null,null,null,"",null,"","",""]
[null,null,"","",null,{"$f":"IF(E60=\"\",\"\",VLOOKUP(E60,'Cadastro de Produtos'!$C$5:$E$204,2,0))","v":""},null,null,null,"",null,"","",""]
[null,null,"","",null,{"$f":"IF(E61=\"\",\"\",VLOOKUP(E61,'Cadastro de Produtos'!$C$5:$E$204,2,0))","v":""},null,null,null,"",null,"","",""]
[null,null,"","",null,{"$f":"IF(E62=\"\",\"\",VLOOKUP(E62,'Cadastro de Produtos'!$C$5:$E$204,2,0))","v":""},null,null,null,"",null,"","",""]
[null,null,"","",null,{"$f":"IF(E63=\"\",\"\",VLOOKUP(E63,'Cadastro de Produtos'!$C$5:$E$204,2,0))","v":""},null,null,null,"",null,"","",""]
[null,null,"","",null,{"$f":"IF(E64=\"\",\"\",VLOOKUP(E64,'Cadastro de Produtos'!$C$5:$E$204,2,0))","v":""},null,null,null,"",null,"","",""]
[null,null,"","",null,{"$f":"IF(E65=\"\",\"\",VLOOKUP(E65,'Cadastro de Produtos'!$C$5:$E$204,2,0))","v":""},null,null,null,"",null,"","",""]
[null,null,"","",null,{"$f":"IF(E66=\"\",\"\",VLOOKUP(E66,'Cadastro de Produtos'!$C$5:$E$204,2,0))","v":""},null,null,null,"",null,"","",""]
[null,null,"","",null,{"$f":"IF(E67=\"\",\"\",VLOOKUP(E67,'Cadastro de Produtos'!$C$5:$E$204,2,0))","v":""},null,null,null,"",null,"","",""]
[null,null,"","",null,{"$f":"IF(E68=\"\",\"\",VLOOKUP(E68,'Cadastro de Produtos'!$C$5:$E$204,2,0))","v":""},null,null,null,"",null,"","",""]
[null,null,"","",null,{"$f":"IF(E69=\"\",\"\",VLOOKUP(E69,'Cadastro de Produtos'!$C$5:$E$204,2,0))","v":""},null,null,null,"",null,"","",""]
[null,null,"","",null,{"$f":"IF(E70=\"\",\"\",VLOOKUP(E70,'Cadastro de Produtos'!$C$5:$E$204,2,0))","v":""},null,null,null,"",null,"","",""]
[null,null,"","",null,{"$f":"IF(E71=\"\",\"\",VLOOKUP(E71,'Cadastro de Produtos'!$C$5:$E$204,2,0))","v":""},null,null,null,"",null,"","",""]
[null,null,"","",null,{"$f":"IF(E72=\"\",\"\",VLOOKUP(E72,'Cadastro de Produtos'!$C$5:$E$204,2,0))","v":""},null,null,null,"",null,"","",""]
[null,null,"","",null,{"$f":"IF(E73=\"\",\"\",VLOOKUP(E73,'Cadastro de Produtos'!$C$5:$E$204,2,0))","v":""},null,null,null,"",null,"","",""]
[null,null,"","",null,{"$f":"IF(E74=\"\",\"\",VLOOKUP(E74,'Cadastro de Produtos'!$C$5:$E$204,2,0))","v":""},null,null,null,{"$f":"IF(I74=\"\",\"\",G74*I74)","v":""},null,{"$f":"IF(K74=\"\",\"\",K74*G74)","v":""},{"$f":"IF(I74-K74=0,\"\",I74-K74)","v":""},{"$f":"IF(M74=\"\",\"\",M74*G74)","v":""}]
[null,null,{"$f":"IF(B75=\"\",\"\",(MONTH(B75)))","v":""},{"$f":"IF(C75=\"\",\"\",IF(C75=1,\"JAN\",IF(C75=2,\"FEV\",IF(C75=3,\"MAR\",IF(C75=4,\"ABR\",IF(C75=5,\"MAI\",IF(C75=6,\"JUN\",IF(C75=7,\"JUL\",IF(C75=8,\"AGO\",IF(C75=9,\"SET\",IF(C75=10,\"OUT\",IF(C75=11,\"NOV\",IF(C75=12,\"DEZ\",\"ERRO\")))))))))))))","v":""},null,{"$f":"IF(E75=\"\",\"\",VLOOKUP(E75,'Cadastro de Produtos'!$C$5:$E$204,2,0))","v":""},null,null,null,"",null,"","",""]
[null,null,"","",null,{"$f":"IF(E76=\"\",\"\",VLOOKUP(E76,'Cadastro de Produtos'!$C$5:$E$204,2,0))","v":""},null,null,null,"",null,"","",""]
[null,null,"","",null,{"$f":"IF(E77=\"\",\"\",VLOOKUP(E77,'Cadastro de Produtos'!$C$5:$E$204,2,0))","v":""},null,null,null,"",null,"","",""]
[null,null,"","",null,{"$f":"IF(E78=\"\",\"\",VLOOKUP(E78,'Cadastro de Produtos'!$C$5:$E$204,2,0))","v":""},null,null,null,"",null,"","",""]
[null,null,"","",null,{"$f":"IF(E79=\"\",\"\",VLOOKUP(E79,'Cadastro de Produtos'!$C$5:$E$204,2,0))","v":""},null,null,null,"",null,"","",""]
[null,null,"","",null,{"$f":"IF(E80=\"\",\"\",VLOOKUP(E80,'Cadastro de Produtos'!$C$5:$E$204,2,0))","v":""},null,null,null,"",null,"","",""]
[null,null,"","",null,{"$f":"IF(E81=\"\",\"\",VLOOKUP(E81,'Cadastro de Produtos'!$C$5:$E$204,2,0))","v":""},null,null,null,"",null,"","",""]
[null,null,"","",null,{"$f":"IF(E82=\"\",\"\",VLOOKUP(E82,'Cadastro de Produtos'!$C$5:$E$204,2,0))","v":""},null,null,null,"",null,"","",""]
[null,null,"","",null,{"$f":"IF(E83=\"\",\"\",VLOOKUP(E83,'Cadastro de Produtos'!$C$5:$E$204,2,0))","v":""},null,null,null,"",null,"","",""]
[null,null,"","",null,{"$f":"IF(E84=\"\",\"\",VLOOKUP(E84,'Cadastro de Produtos'!$C$5:$E$204,2,0))","v":""},null,null,null,"",null,"","",""]
[null,null,"","",null,{"$f":"IF(E85=\"\",\"\",VLOOKUP(E85,'Cadastro de Produtos'!$C$5:$E$204,2,0))","v":""},null,null,null,"",null,"","",""]
[null,null,"","",null,{"$f":"IF(E86=\"\",\"\",VLOOKUP(E86,'Cadastro de Produtos'!$C$5:$E$204,2,0))","v":""},null,null,null,"",null,"","",""]
[null,null,"","",null,{"$f":"IF(E87=\"\",\"\",VLOOKUP(E87,'Cadastro de Produtos'!$C$5:$E$204,2,0))","v":""},null,null,null,"",null,"","",""]
[null,null,"","",null,{"$f":"IF(E88=\"\",\"\",VLOOKUP(E88,'Cadastro de Produtos'!$C$5:$E$204,2,0))","v":""},null,null,null,"",null,"","",""]
[null,null,"","",null,{"$f":"IF(E89=\"\",\"\",VLOOKUP(E89,'Cadastro de Produtos'!$C$5:$E$204,2,0))","v":""},null,null,null,"",null,"","",""]
[null,null,"","",null,{"$f":"IF(E90=\"\",\"\",VLOOKUP(E90,'Cadastro de Produtos'!$C$5:$E$204,2,0))","v":""},null,null,null,"",null,"","",""]
[null,null,"","",null,{"$f":"IF(E91=\"\",\"\",VLOOKUP(E91,'Cadastro de Produtos'!$C$5:$E$204,2,0))","v":""},null,null,null,"",null,"","",""]
[null,null,"","",null,{"$f":"IF(E92=\"\",\"\",VLOOKUP(E92,'Cadastro de Produtos'!$C$5:$E$204,2,0))","v":""},null,null,null,"",null,"","",""]
[null,null,"","",null,{"$f":"IF(E93=\"\",\"\",VLOOKUP(E93,'Cadastro de Produtos'!$C$5:$E$204,2,0))","v":""},null,null,null,"",null,"","",""]
[null,null,"","",null,{"$f":"IF(E94=\"\",\"\",VLOOKUP(E94,'Cadastro de Produtos'!$C$5:$E$204,2,0))","v":""},null,null,null,"",null,"","",""]
[null,null,"","",null,{"$f":"IF(E95=\"\",\"\",VLOOKUP(E95,'Cadastro de Produtos'!$C$5:$E$204,2,0))","v":""},null,null,null,"",null,"","",""]
[null,null,"","",null,{"$f":"IF(E96=\"\",\"\",VLOOKUP(E96,'Cadastro de Produtos'!$C$5:$E$204,2,0))","v":""},null,null,null,"",null,"","",""]
[null,null,"","",null,{"$f":"IF(E97=\"\",\"\",VLOOKUP(E97,'Cadastro de Produtos'!$C$5:$E$204,2,0))","v":""},null,null,null,"",null,"","",""]
[null,null,"","",null,{"$f":"IF(E98=\"\",\"\",VLOOKUP(E98,'Cadastro de Produtos'!$C$5:$E$204,2,0))","v":""},null,null,null,"",null,"","",""]
[null,null,"","",null,{"$f":"IF(E99=\"\",\"\",VLOOKUP(E99,'Cadastro de Produtos'!$C$5:$E$204,2,0))","v":""},null,null,null,"",null,"","",""]
[null,null,"","",null,{"$f":"IF(E100=\"\",\"\",VLOOKUP(E100,'Cadastro de Produtos'!$C$5:$E$204,2,0))","v":""},null,null,null,"",null,"","",""]
[null,null,"","",null,{"$f":"IF(E101=\"\",\"\",VLOOKUP(E101,'Cadastro de Produtos'!$C$5:$E$204,2,0))","v":""},null,null,null,"",null,"","",""]
[null,null,"","",null,{"$f":"IF(E102=\"\",\"\",VLOOKUP(E102,'Cadastro de Produtos'!$C$5:$E$204,2,0))","v":""},null,null,null,"",null,"","",""]
[null,null,"","",null,{"$f":"IF(E103=\"\",\"\",VLOOKUP(E103,'Cadastro de Produtos'!$C$5:$E$204,2,0))","v":""},null,null,null,"",null,"","",""]
[null,null,"","",null,{"$f":"IF(E104=\"\",\"\",VLOOKUP(E104,'Cadastro de Produtos'!$C$5:$E$204,2,0))","v":""},null,null,null,"",null,"","",""]
[null,null,"","",null,{"$f":"IF(E105=\"\",\"\",VLOOKUP(E105,'Cadastro de Produtos'!$C$5:$E$204,2,0))","v":""},null,null,null,"",null,"","",""]
[null,null,"","",null,{"$f":"IF(E106=\"\",\"\",VLOOKUP(E106,'Cadastro de Produtos'!$C$5:$E$204,2,0))","v":""},null,null,null,{"$f":"IF(I106=\"\",\"\",G106*I106)","v":""},null,"",{"$f":"IF(I106-K106=0,\"\",I106-K106)","v":""},{"$f":"IF(M106=\"\",\"\",M106*G106)","v":""}]
[null,null,"","",null,{"$f":"IF(E107=\"\",\"\",VLOOKUP(E107,'Cadastro de Produtos'!$C$5:$E$204,2,0))","v":""},null,null,null,"",null,"","",""]
[null,null,"","",null,{"$f":"IF(E108=\"\",\"\",VLOOKUP(E108,'Cadastro de Produtos'!$C$5:$E$204,2,0))","v":""},null,null,null,"",null,"","",""]
[null,null,"","",null,{"$f":"IF(E109=\"\",\"\",VLOOKUP(E109,'Cadastro de Produtos'!$C$5:$E$204,2,0))","v":""},null,null,null,"",null,"","",""]
[null,null,"","",null,{"$f":"IF(E110=\"\",\"\",VLOOKUP(E110,'Cadastro de Produtos'!$C$5:$E$204,2,0))","v":""},null,null,null,"",null,"","",""]
[null,null,"","",null,{"$f":"IF(E111=\"\",\"\",VLOOKUP(E111,'Cadastro de Produtos'!$C$5:$E$204,2,0))","v":""},null,null,null,"",null,"","",""]
[null,null,"","",null,{"$f":"IF(E112=\"\",\"\",VLOOKUP(E112,'Cadastro de Produtos'!$C$5:$E$204,2,0))","v":""},null,null,null,"",null,"","",""]
[null,null,"","",null,{"$f":"IF(E113=\"\",\"\",VLOOKUP(E113,'Cadastro de Produtos'!$C$5:$E$204,2,0))","v":""},null,null,null,"",null,"","",""]
[null,null,"","",null,{"$f":"IF(E114=\"\",\"\",VLOOKUP(E114,'Cadastro de Produtos'!$C$5:$E$204,2,0))","v":""},null,null,null,"",null,"","",""]
[null,null,"","",null,{"$f":"IF(E115=\"\",\"\",VLOOKUP(E115,'Cadastro de Produtos'!$C$5:$E$204,2,0))","v":""},null,null,null,"",null,"","",""]
[null,null,"","",null,{"$f":"IF(E116=\"\",\"\",VLOOKUP(E116,'Cadastro de Produtos'!$C$5:$E$204,2,0))","v":""},null,null,null,"",null,"","",""]
[null,null,"","",null,{"$f":"IF(E117=\"\",\"\",VLOOKUP(E117,'Cadastro de Produtos'!$C$5:$E$204,2,0))","v":""},null,null,null,"",null,"","",""]
[null,null,"","",null,{"$f":"IF(E118=\"\",\"\",VLOOKUP(E118,'Cadastro de Produtos'!$C$5:$E$204,2,0))","v":""},null,null,null,"",null,"","",""]
[null,null,"","",null,{"$f":"IF(E119=\"\",\"\",VLOOKUP(E119,'Cadastro de Produtos'!$C$5:$E$204,2,0))","v":""},null,null,null,"",null,"","",""]
[null,null,"","",null,{"$f":"IF(E120=\"\",\"\",VLOOKUP(E120,'Cadastro de Produtos'!$C$5:$E$204,2,0))","v":""},null,null,null,"",null,"","",""]
[null,null,"","",null,{"$f":"IF(E121=\"\",\"\",VLOOKUP(E121,'Cadastro de Produtos'!$C$5:$E$204,2,0))","v":""},null,null,null,"",null,"","",""]
[null,null,"","",null,{"$f":"IF(E122=\"\",\"\",VLOOKUP(E122,'Cadastro de Produtos'!$C$5:$E$204,2,0))","v":""},null,null,null,"",null,"","",""]
[null,null,"","",null,{"$f":"IF(E123=\"\",\"\",VLOOKUP(E123,'Cadastro de Produtos'!$C$5:$E$204,2,0))","v":""},null,null,null,"",null,"","",""]
[null,null,"","",null,{"$f":"IF(E124=\"\",\"\",VLOOKUP(E124,'Cadastro de Produtos'!$C$5:$E$204,2,0))","v":""},null,null,null,"",null,"","",""]
[null,null,"","",null,{"$f":"IF(E125=\"\",\"\",VLOOKUP(E125,'Cadastro de Produtos'!$C$5:$E$204,2,0))","v":""},null,null,null,"",null,"","",""]
[null,null,"","",null,{"$f":"IF(E126=\"\",\"\",VLOOKUP(E126,'Cadastro de Produtos'!$C$5:$E$204,2,0))","v":""},null,null,null,"",null,"","",""]
[null,null,"","",null,{"$f":"IF(E127=\"\",\"\",VLOOKUP(E127,'Cadastro de Produtos'!$C$5:$E$204,2,0))","v":""},null,null,null,"",null,"","",""]
[null,null,"","",null,{"$f":"IF(E128=\"\",\"\",VLOOKUP(E128,'Cadastro de Produtos'!$C$5:$E$204,2,0))","v":""},null,null,null,"",null,"","",""]
[null,null,"","",null,{"$f":"IF(E129=\"\",\"\",VLOOKUP(E129,'Cadastro de Produtos'!$C$5:$E$204,2,0))","v":""},null,null,null,"",null,"","",""]
[null,null,"","",null,{"$f":"IF(E130=\"\",\"\",VLOOKUP(E130,'Cadastro de Produtos'!$C$5:$E$204,2,0))","v":""},null,null,null,"",null,"","",""]
[null,null,"","",null,{"$f":"IF(E131=\"\",\"\",VLOOKUP(E131,'Cadastro de Produtos'!$C$5:$E$204,2,0))","v":""},null,null,null,"",null,"","",""]
[null,null,"","",null,{"$f":"IF(E132=\"\",\"\",VLOOKUP(E132,'Cadastro de Produtos'!$C$5:$E$204,2,0))","v":""},null,null,null,"",null,"","",""]
[null,null,"","",null,{"$f":"IF(E133=\"\",\"\",VLOOKUP(E133,'Cadastro de Produtos'!$C$5:$E$204,2,0))","v":""},null,null,null,"",null,"","",""]
[null,null,"","",null,{"$f":"IF(E134=\"\",\"\",VLOOKUP(E134,'Cadastro de Produtos'!$C$5:$E$204,2,0))","v":""},null,null,null,"",null,"","",""]
[null,null,"","",null,{"$f":"IF(E135=\"\",\"\",VLOOKUP(E135,'Cadastro de Produtos'!$C$5:$E$204,2,0))","v":""},null,null,null,"",null,"","",""]
[null,null,"","",null,{"$f":"IF(E136=\"\",\"\",VLOOKUP(E136,'Cadastro de Produtos'!$C$5:$E$204,2,0))","v":""},null,null,null,"",null,"","",""]
[null,null,"","",null,{"$f":"IF(E137=\"\",\"\",VLOOKUP(E137,'Cadastro de Produtos'!$C$5:$E$204,2,0))","v":""},null,null,null,"",null,"","",""]
[null,null,"","",null,{"$f":"IF(E138=\"\",\"\",VLOOKUP(E138,'Cadastro de Produtos'!$C$5:$E$204,2,0))","v":""},null,null,null,{"$f":"IF(I138=\"\",\"\",G138*I138)","v":""},null,{"$f":"IF(K138=\"\",\"\",K138*G138)","v":""},{"$f":"IF(I138-K138=0,\"\",I138-K138)","v":""},{"$f":"IF(M138=\"\",\"\",M138*G138)","v":""}]
[null,null,{"$f":"IF(B139=\"\",\"\",(MONTH(B139)))","v":""},{"$f":"IF(C139=\"\",\"\",IF(C139=1,\"JAN\",IF(C139=2,\"FEV\",IF(C139=3,\"MAR\",IF(C139=4,\"ABR\",IF(C139=5,\"MAI\",IF(C139=6,\"JUN\",IF(C139=7,\"JUL\",IF(C139=8,\"AGO\",IF(C139=9,\"SET\",IF(C139=10,\"OUT\",IF(C139=11,\"NOV\",IF(C139=12,\"DEZ\",\"ERRO\")))))))))))))","v":""},null,{"$f":"IF(E139=\"\",\"\",VLOOKUP(E139,'Cadastro de Produtos'!$C$5:$E$204,2,0))","v":""},null,null,null,"",null,"","",""]
[null,null,"","",null,{"$f":"IF(E140=\"\",\"\",VLOOKUP(E140,'Cadastro de Produtos'!$C$5:$E$204,2,0))","v":""},null,null,null,"",null,"","",""]
[null,null,"","",null,{"$f":"IF(E141=\"\",\"\",VLOOKUP(E141,'Cadastro de Produtos'!$C$5:$E$204,2,0))","v":""},null,null,null,"",null,"","",""]
[null,null,"","",null,{"$f":"IF(E142=\"\",\"\",VLOOKUP(E142,'Cadastro de Produtos'!$C$5:$E$204,2,0))","v":""},null,null,null,"",null,"","",""]
[null,null,"","",null,{"$f":"IF(E143=\"\",\"\",VLOOKUP(E143,'Cadastro de Produtos'!$C$5:$E$204,2,0))","v":""},null,null,null,"",null,"","",""]
[null,null,"","",null,{"$f":"IF(E144=\"\",\"\",VLOOKUP(E144,'Cadastro de Produtos'!$C$5:$E$204,2,0))","v":""},null,null,null,"",null,"","",""]
[null,null,"","",null,{"$f":"IF(E145=\"\",\"\",VLOOKUP(E145,'Cadastro de Produtos'!$C$5:$E$204,2,0))","v":""},null,null,null,"",null,"","",""]
[null,null,"","",null,{"$f":"IF(E146=\"\",\"\",VLOOKUP(E146,'Cadastro de Produtos'!$C$5:$E$204,2,0))","v":""},null,null,null,"",null,"","",""]
[null,null,"","",null,{"$f":"IF(E147=\"\",\"\",VLOOKUP(E147,'Cadastro de Produtos'!$C$5:$E$204,2,0))","v":""},null,null,null,"",null,"","",""]
[null,null,"","",null,{"$f":"IF(E148=\"\",\"\",VLOOKUP(E148,'Cadastro de Produtos'!$C$5:$E$204,2,0))","v":""},null,null,null,"",null,"","",""]
[null,null,"","",null,{"$f":"IF(E149=\"\",\"\",VLOOKUP(E149,'Cadastro de Produtos'!$C$5:$E$204,2,0))","v":""},null,null,null,"",null,"","",""]
[null,null,"","",null,{"$f":"IF(E150=\"\",\"\",VLOOKUP(E150,'Cadastro de Produtos'!$C$5:$E$204,2,0))","v":""},null,null,null,"",null,"","",""]
[]
[null,null,null,null,null,null,"Valor Médio:",{"$f":"IFERROR(SUM(J10:J150)/SUM(I10:I150),\"\")","v":""}]
[null,null,null,null,null,null,"Total de Entradas:",{"$f":"SUM($J$10:$J$150)","v":0}]
[null,null,null,null,null,null,"Total de Saídas:",{"$f":"SUM($L$10:$L$150)","v":0}]
[null,null,null,null,null,null,"Saldo do Estoque:",{"$f":"SUM($I$10:$I$150)-SUM($K$10:$K$150)","v":0}]

{"sheet":"Estoque","index":5,"n_rows":236,"n_cols":19,"rows_kept":236,"cut":false,"hidden":false,"merged":[[7,3,7,14],[2,3,3,11],[7,19,7,30],[2,18,3,30],[4,4,4,9]]}
[]
[]
[]
[]
[null,null,null,null,"Pesquisa Rápida"]
[null,null,null,null,"Produto:","camisa","Quantidade:",{"$f":"IF(F6=\"\",\"\",SUMIF(Inventário!$E$10:$E$150,Estoque!$F$6,Inventário!$M$10:$M$150))","v":0},"Valor:",{"$f":"IFERROR(SUMIF(Inventário!$E$10:$E$150,Estoque!$F$6,Inventário!$N$10:$N$150),\"✖\")","v":0}]
[]
[null,null,null,"Valor dos Estoques"]
[]
[null,null,"Produtos e matérias-prima em estoque","Jan","Fev","Mar","Abr","Mai","Jun","Jul","Ago","Set","Out","Nov","Dez","Consolidado"]
[null,null,null,1,2,3,4,5,6,7,8,9,10,11,12]
[null,null,"Estoque Consolidado",{"$f":"SUM(D13:D236)","v":0},0,0,0,0,0,0,0,0,0,0,0]
[null,1,{"$f":"IF('Cadastro de Produtos'!C5=\"\",\"\",VLOOKUP(B13,'Cadastro de Produtos'!$B$5:$C$204,2,0))","v":""},{"$f":"IFERROR(IF(C13=\"\",\"\",SUMIFS(Inventário!$N$10:$N$150,Inventário!$D$10:$D$150,Estoque!D$10,Inventário!$E$10:$E$150,Estoque!$C13)),\"ERRO\")","v":""},{"$f":"IFERROR(IF(D13=\"\",\"\",SUMIFS(Inventário!$N$10:$N$150,Inventário!$D$10:$D$150,Estoque!E$10,Inventário!$E$10:$E$150,Estoque!$C13)),\"ERRO\")","v":""},{"$f":"IFERROR(IF(E13=\"\",\"\",SUMIFS(Inventário!$N$10:$N$150,Inventário!$D$10:$D$150,Estoque!F$10,Inventário!$E$10:$E$150,Estoque!$C13)),\"ERRO\")","v":""},{"$f":"IFERROR(IF(F13=\"\",\"\",SUMIFS(Inventário!$N$10:$N$150,Inventário!$D$10:$D$150,Estoque!G$10,Inventário!$E$10:$E$150,Estoque!$C13)),\"ERRO\")","v":""},{"$f":"IFERROR(IF(G13=\"\",\"\",SUMIFS(Inventário!$N$10:$N$150,Inventário!$D$10:$D$150,Estoque!H$10,Inventário!$E$10:$E$150,Estoque!$C13)),\"ERRO\")","v":""},{"$f":"IFERROR(IF(H13=\"\",\"\",SUMIFS(Inventário!$N$10:$N$150,Inventário!$D$10:$D$150,Estoque!I$10,Inventário!$E$10:$E$150,Estoque!$C13)),\"ERRO\")","v":""},{"$f":"IFERROR(IF(I13=\"\",\"\",SUMIFS(Inventário!$N$10:$N$150,Inventário!$D$10:$D$150,Estoque!J$10,Inventário!$E$10:$E$150,Estoque!$C13)),\"ERRO\")","v":""},{"$f":"IFERROR(IF(C13=\"\",\"\",SUMIFS(Inventário!$N$10:$N$150,Inventário!$D$10:$D$150,Estoque!K$10,Inventário!$E$10:$E$150,Estoque!$C13)),\"ERRO\")","v":""},{"$f":"IFERROR(IF(K13=\"\",\"\",SUMIFS(Inventário!$N$10:$N$150,Inventário!$D$10:$D$150,Estoque!L$10,Inventário!$E$10:$E$150,Estoque!$C13)),\"ERRO\")","v":""},{"$f":"IFERROR(IF(L13=\"\",\"\",SUMIFS(Inventário!$N$10:$N$150,Inventário!$D$10:$D$150,Estoque!M$10,Inventário!$E$10:$E$150,Estoque!$C13)),\"ERRO\")","v":""},{"$f":"IFERROR(IF(M13=\"\",\"\",SUMIFS(Inventário!$N$10:$N$150,Inventário!$D$10:$D$150,Estoque!N$10,Inventário!$E$10:$E$150,Estoque!$C13)),\"ERRO\")","v":""},{"$f":"IFERROR(IF(N13=\"\",\"\",SUMIFS(Inventário!$N$10:$N$150,Inventário!$D$10:$D$150,Estoque!O$10,Inventário!$E$10:$E$150,Estoque!$C13)),\"ERRO\")","v":""},null,null,null,{"$f":"Inventário!$E10","v":0}]
[null,2,{"$f":"IF('Cadastro de Produtos'!C6=\"\",\"\",VLOOKUP(B14,'Cadastro de Produtos'!$B$5:$C$204,2,0))","v":""},{"$f":"IFERROR(IF(C14=\"\",\"\",SUMIFS(Inventário!$N$10:$N$150,Inventário!$D$10:$D$150,Estoque!D$10,Inventário!$E$10:$E$150,Estoque!$C14)),\"ERRO\")","v":""},{"$f":"IFERROR(IF(D14=\"\",\"\",SUMIFS(Inventário!$N$10:$N$150,Inventário!$D$10:$D$150,Estoque!E$10,Inventário!$E$10:$E$150,Estoque!$C14)),\"ERRO\")","v":""},{"$f":"IFERROR(IF(E14=\"\",\"\",SUMIFS(Inventário!$N$10:$N$150,Inventário!$D$10:$D$150,Estoque!F$10,Inventário!$E$10:$E$150,Estoque!$C14)),\"ERRO\")","v":""},{"$f":"IFERROR(IF(F14=\"\",\"\",SUMIFS(Inventário!$N$10:$N$150,Inventário!$D$10:$D$150,Estoque!G$10,Inventário!$E$10:$E$150,Estoque!$C14)),\"ERRO\")","v":""},{"$f":"IFERROR(IF(G14=\"\",\"\",SUMIFS(Inventário!$N$10:$N$150,Inventário!$D$10:$D$150,Estoque!H$10,Inventário!$E$10:$E$150,Estoque!$C14)),\"ERRO\")","v":""},{"$f":"IFERROR(IF(H14=\"\",\"\",SUMIFS(Inventário!$N$10:$N$150,Inventário!$D$10:$D$150,Estoque!I$10,Inventário!$E$10:$E$150,Estoque!$C14)),\"ERRO\")","v":""},{"$f":"IFERROR(IF(I14=\"\",\"\",SUMIFS(Inventário!$N$10:$N$150,Inventário!$D$10:$D$150,Estoque!J$10,Inventário!$E$10:$E$150,Estoque!$C14)),\"ERRO\")","v":""},{"$f":"IFERROR(IF(J14=\"\",\"\",SUMIFS(Inventário!$N$10:$N$150,Inventário!$D$10:$D$150,Estoque!K$10,Inventário!$E$10:$E$150,Estoque!$C14)),\"ERRO\")","v":""},{"$f":"IFERROR(IF(K14=\"\",\"\",SUMIFS(Inventário!$N$10:$N$150,Inventário!$D$10:$D$150,Estoque!L$10,Inventário!$E$10:$E$150,Estoque!$C14)),\"ERRO\")","v":""},{"$f":"IFERROR(IF(L14=\"\",\"\",SUMIFS(Inventário!$N$10:$N$150,Inventário!$D$10:$D$150,Estoque!M$10,Inventário!$E$10:$E$150,Estoque!$C14)),\"ERRO\")","v":""},{"$f":"IFERROR(IF(M14=\"\",\"\",SUMIFS(Inventário!$N$10:$N$150,Inventário!$D$10:$D$150,Estoque!N$10,Inventário!$E$10:$E$150,Estoque!$C14)),\"ERRO\")","v":""},{"$f":"IFERROR(IF(N14=\"\",\"\",SUMIFS(Inventário!$N$10:$N$150,Inventário!$D$10:$D$150,Estoque!O$10,Inventário!$E$10:$E$150,Estoque!$C14)),\"ERRO\")","v":""},null,null,null,{"$f":"Inventário!$E11","v":0}]
[null,3,{"$f":"IF('Cadastro de Produtos'!C7=\"\",\"\",VLOOKUP(B15,'Cadastro de Produtos'!$B$5:$C$204,2,0))","v":""},{"$f":"IFERROR(IF(C15=\"\",\"\",SUMIFS(Inventário!$N$10:$N$150,Inventário!$D$10:$D$150,Estoque!D$10,Inventário!$E$10:$E$150,Estoque!$C15)),\"ERRO\")","v":""},{"$f":"IFERROR(IF(D15=\"\",\"\",SUMIFS(Inventário!$N$10:$N$150,Inventário!$D$10:$D$150,Estoque!E$10,Inventário!$E$10:$E$150,Estoque!$C15)),\"ERRO\")","v":""},{"$f":"IFERROR(IF(E15=\"\",\"\",SUMIFS(Inventário!$N$10:$N$150,Inventário!$D$10:$D$150,Estoque!F$10,Inventário!$E$10:$E$150,Estoque!$C15)),\"ERRO\")","v":""},{"$f":"IFERROR(IF(F15=\"\",\"\",SUMIFS(Inventário!$N$10:$N$150,Inventário!$D$10:$D$150,Estoque!G$10,Inventário!$E$10:$E$150,Estoque!$C15)),\"ERRO\")","v":""},{"$f":"IFERROR(IF(G15=\"\",\"\",SUMIFS(Inventário!$N$10:$N$150,Inventário!$D$10:$D$150,Estoque!H$10,Inventário!$E$10:$E$150,Estoque!$C15)),\"ERRO\")","v":""},{"$f":"IFERROR(IF(H15=\"\",\"\",SUMIFS(Inventário!$N$10:$N$150,Inventário!$D$10:$D$150,Estoque!I$10,Inventário!$E$10:$E$150,Estoque!$C15)),\"ERRO\")","v":""},{"$f":"IFERROR(IF(I15=\"\",\"\",SUMIFS(Inventário!$N$10:$N$150,Inventário!$D$10:$D$150,Estoque!J$10,Inventário!$E$10:$E$150,Estoque!$C15)),\"ERRO\")","v":""},{"$f":"IFERROR(IF(J15=\"\",\"\",SUMIFS(Inventário!$N$10:$N$150,Inventário!$D$10:$D$150,Estoque!K$10,Inventário!$E$10:$E$150,Estoque!$C15)),\"ERRO\")","v":""},{"$f":"IFERROR(IF(K15=\"\",\"\",SUMIFS(Inventário!$N$10:$N$150,Inventário!$D$10:$D$150,Estoque!L$10,Inventário!$E$10:$E$150,Estoque!$C15)),\"ERRO\")","v":""},{"$f":"IFERROR(IF(L15=\"\",\"\",SUMIFS(Inventário!$N$10:$N$150,Inventário!$D$10:$D$150,Estoque!M$10,Inventário!$E$10:$E$150,Estoque!$C15)),\"ERRO\")","v":""},{"$f":"IFERROR(IF(M15=\"\",\"\",SUMIFS(Inventário!$N$10:$N$150,Inventário!$D$10:$D$150,Estoque!N$10,Inventário!$E$10:$E$150,Estoque!$C15)),\"ERRO\")","v":""},{"$f":"IFERROR(IF(N15=\"\",\"\",SUMIFS(Inventário!$N$10:$N$150,Inventário!$D$10:$D$150,Estoque!O$10,Inventário!$E$10:$E$150,Estoque!$C15)),\"ERRO\")","v":""},null,null,null,{"$f":"Inventário!$E12","v":0}]
[null,4,{"$f":"IF('Cadastro de Produtos'!C8=\"\",\"\",VLOOKUP(B16,'Cadastro de Produtos'!$B$5:$C$204,2,0))","v":""},{"$f":"IFERROR(IF(C16=\"\",\"\",SUMIFS(Inventário!$N$10:$N$150,Inventário!$D$10:$D$150,Estoque!D$10,Inventário!$E$10:$E$150,Estoque!$C16)),\"ERRO\")","v":""},{"$f":"IFERROR(IF(D16=\"\",\"\",SUMIFS(Inventário!$N$10:$N$150,Inventário!$D$10:$D$150,Estoque!E$10,Inventário!$E$10:$E$150,Estoque!$C16)),\"ERRO\")","v":""},{"$f":"IFERROR(IF(E16=\"\",\"\",SUMIFS(Inventário!$N$10:$N$150,Inventário!$D$10:$D$150,Estoque!F$10,Inventário!$E$10:$E$150,Estoque!$C16)),\"ERRO\")","v":""},{"$f":"IFERROR(IF(F16=\"\",\"\",SUMIFS(Inventário!$N$10:$N$150,Inventário!$D$10:$D$150,Estoque!G$10,Inventário!$E$10:$E$150,Estoque!$C16)),\"ERRO\")","v":""},{"$f":"IFERROR(IF(G16=\"\",\"\",SUMIFS(Inventário!$N$10:$N$150,Inventário!$D$10:$D$150,Estoque!H$10,Inventário!$E$10:$E$150,Estoque!$C16)),\"ERRO\")","v":""},{"$f":"IFERROR(IF(H16=\"\",\"\",SUMIFS(Inventário!$N$10:$N$150,Inventário!$D$10:$D$150,Estoque!I$10,Inventário!$E$10:$E$150,Estoque!$C16)),\"ERRO\")","v":""},{"$f":"IFERROR(IF(I16=\"\",\"\",SUMIFS(Inventário!$N$10:$N$150,Inventário!$D$10:$D$150,Estoque!J$10,Inventário!$E$10:$E$150,Estoque!$C16)),\"ERRO\")","v":""},{"$f":"IFERROR(IF(J16=\"\",\"\",SUMIFS(Inventário!$N$10:$N$150,Inventário!$D$10:$D$150,Estoque!K$10,Inventário!$E$10:$E$150,Estoque!$C16)),\"ERRO\")","v":""},{"$f":"IFERROR(IF(K16=\"\",\"\",SUMIFS(Inventário!$N$10:$N$150,Inventário!$D$10:$D$150,Estoque!L$10,Inventário!$E$10:$E$150,Estoque!$C16)),\"ERRO\")","v":""},{"$f":"IFERROR(IF(L16=\"\",\"\",SUMIFS(Inventário!$N$10:$N$150,Inventário!$D$10:$D$150,Estoque!M$10,Inventário!$E$10:$E$150,Estoque!$C16)),\"ERRO\")","v":""},{"$f":"IFERROR(IF(M16=\"\",\"\",SUMIFS(Inventário!$N$10:$N$150,Inventário!$D$10:$D$150,Estoque!N$10,Inventário!$E$10:$E$150,Estoque!$C16)),\"ERRO\")","v":""},{"$f":"IFERROR(IF(N16=\"\",\"\",SUMIFS(Inventário!$N$10:$N$150,Inventário!$D$10:$D$150,Estoque!O$10,Inventário!$E$10:$E$150,Estoque!$C16)),\"ERRO\")","v":""},null,null,null,{"$f":"Inventário!$E13","v":0}]
[null,5,{"$f":"IF('Cadastro de Produtos'!C9=\"\",\"\",VLOOKUP(B17,'Cadastro de Produtos'!$B$5:$C$204,2,0))","v":""},{"$f":"IFERROR(IF(C17=\"\",\"\",SUMIFS(Inventário!$N$10:$N$150,Inventário!$D$10:$D$150,Estoque!D$10,Inventário!$E$10:$E$150,Estoque!$C17)),\"ERRO\")","v":""},{"$f":"IFERROR(IF(D17=\"\",\"\",SUMIFS(Inventário!$N$10:$N$150,Inventário!$D$10:$D$150,Estoque!E$10,Inventário!$E$10:$E$150,Estoque!$C17)),\"ERRO\")","v":""},{"$f":"IFERROR(IF(E17=\"\",\"\",SUMIFS(Inventário!$N$10:$N$150,Inventário!$D$10:$D$150,Estoque!F$10,Inventário!$E$10:$E$150,Estoque!$C17)),\"ERRO\")","v":""},{"$f":"IFERROR(IF(F17=\"\",\"\",SUMIFS(Inventário!$N$10:$N$150,Inventário!$D$10:$D$150,Estoque!G$10,Inventário!$E$10:$E$150,Estoque!$C17)),\"ERRO\")","v":""},{"$f":"IFERROR(IF(G17=\"\",\"\",SUMIFS(Inventário!$N$10:$N$150,Inventário!$D$10:$D$150,Estoque!H$10,Inventário!$E$10:$E$150,Estoque!$C17)),\"ERRO\")","v":""},{"$f":"IFERROR(IF(H17=\"\",\"\",SUMIFS(Inventário!$N$10:$N$150,Inventário!$D$10:$D$150,Estoque!I$10,Inventário!$E$10:$E$150,Estoque!$C17)),\"ERRO\")","v":""},{"$f":"IFERROR(IF(I17=\"\",\"\",SUMIFS(Inventário!$N$10:$N$150,Inventário!$D$10:$D$150,Estoque!J$10,Inventário!$E$10:$E$150,Estoque!$C17)),\"ERRO\")","v":""},{"$f":"IFERROR(IF(J17=\"\",\"\",SUMIFS(Inventário!$N$10:$N$150,Inventário!$D$10:$D$150,Estoque!K$10,Inventário!$E$10:$E$150,Estoque!$C17)),\"ERRO\")","v":""},{"$f":"IFERROR(IF(K17=\"\",\"\",SUMIFS(Inventário!$N$10:$N$150,Inventário!$D$10:$D$150,Estoque!L$10,Inventário!$E$10:$E$150,Estoque!$C17)),\"ERRO\")","v":""},{"$f":"IFERROR(IF(L17=\"\",\"\",SUMIFS(Inventário!$N$10:$N$150,Inventário!$D$10:$D$150,Estoque!M$10,Inventário!$E$10:$E$150,Estoque!$C17)),\"ERRO\")","v":""},{"$f":"IFERROR(IF(M17=\"\",\"\",SUMIFS(Inventário!$N$10:$N$150,Inventário!$D$10:$D$150,Estoque!N$10,Inventário!$E$10:$E$150,Estoque!$C17)),\"ERRO\")","v":""},{"$f":"IFERROR(IF(N17=\"\",\"\",SUMIFS(Inventário!$N$10:$N$150,Inventário!$D$10:$D$150,Estoque!O$10,Inventário!$E$10:$E$150,Estoque!$C17)),\"ERRO\")","v":""},null,null,null,{"$f":"Inventário!$E14","v":0}]
[null,6,{"$f":"IF('Cadastro de Produtos'!C10=\"\",\"\",VLOOKUP(B18,'Cadastro de Produtos'!$B$5:$C$204,2,0))","v":""},{"$f":"IFERROR(IF(C18=\"\",\"\",SUMIFS(Inventário!$N$10:$N$150,Inventário!$D$10:$D$150,Estoque!D$10,Inventário!$E$10:$E$150,Estoque!$C18)),\"ERRO\")","v":""},{"$f":"IFERROR(IF(D18=\"\",\"\",SUMIFS(Inventário!$N$10:$N$150,Inventário!$D$10:$D$150,Estoque!E$10,Inventário!$E$10:$E$150,Estoque!$C18)),\"ERRO\")","v":""},{"$f":"IFERROR(IF(E18=\"\",\"\",SUMIFS(Inventário!$N$10:$N$150,Inventário!$D$10:$D$150,Estoque!F$10,Inventário!$E$10:$E$150,Estoque!$C18)),\"ERRO\")","v":""},{"$f":"IFERROR(IF(F18=\"\",\"\",SUMIFS(Inventário!$N$10:$N$150,Inventário!$D$10:$D$150,Estoque!G$10,Inventário!$E$10:$E$150,Estoque!$C18)),\"ERRO\")","v":""},{"$f":"IFERROR(IF(G18=\"\",\"\",SUMIFS(Inventário!$N$10:$N$150,Inventário!$D$10:$D$150,Estoque!H$10,Inventário!$E$10:$E$150,Estoque!$C18)),\"ERRO\")","v":""},{"$f":"IFERROR(IF(H18=\"\",\"\",SUMIFS(Inventário!$N$10:$N$150,Inventário!$D$10:$D$150,Estoque!I$10,Inventário!$E$10:$E$150,Estoque!$C18)),\"ERRO\")","v":""},{"$f":"IFERROR(IF(I18=\"\",\"\",SUMIFS(Inventário!$N$10:$N$150,Inventário!$D$10:$D$150,Estoque!J$10,Inventário!$E$10:$E$150,Estoque!$C18)),\"ERRO\")","v":""},{"$f":"IFERROR(IF(J18=\"\",\"\",SUMIFS(Inventário!$N$10:$N$150,Inventário!$D$10:$D$150,Estoque!K$10,Inventário!$E$10:$E$150,Estoque!$C18)),\"ERRO\")","v":""},{"$f":"IFERROR(IF(K18=\"\",\"\",SUMIFS(Inventário!$N$10:$N$150,Inventário!$D$10:$D$150,Estoque!L$10,Inventário!$E$10:$E$150,Estoque!$C18)),\"ERRO\")","v":""},{"$f":"IFERROR(IF(L18=\"\",\"\",SUMIFS(Inventário!$N$10:$N$150,Inventário!$D$10:$D$150,Estoque!M$10,Inventário!$E$10:$E$150,Estoque!$C18)),\"ERRO\")","v":""},{"$f":"IFERROR(IF(M18=\"\",\"\",SUMIFS(Inventário!$N$10:$N$150,Inventário!$D$10:$D$150,Estoque!N$10,Inventário!$E$10:$E$150,Estoque!$C18)),\"ERRO\")","v":""},{"$f":"IFERROR(IF(N18=\"\",\"\",SUMIFS(Inventário!$N$10:$N$150,Inventário!$D$10:$D$150,Estoque!O$10,Inventário!$E$10:$E$150,Estoque!$C18)),\"ERRO\")","v":""},null,null,null,{"$f":"Inventário!$E15","v":0}]
[null,7,{"$f":"IF('Cadastro de Produtos'!C11=\"\",\"\",VLOOKUP(B19,'Cadastro de Produtos'!$B$5:$C$204,2,0))","v":""},{"$f":"IFERROR(IF(C19=\"\",\"\",SUMIFS(Inventário!$N$10:$N$150,Inventário!$D$10:$D$150,Estoque!D$10,Inventário!$E$10:$E$150,Estoque!$C19)),\"ERRO\")","v":""},{"$f":"IFERROR(IF(D19=\"\",\"\",SUMIFS(Inventário!$N$10:$N$150,Inventário!$D$10:$D$150,Estoque!E$10,Inventário!$E$10:$E$150,Estoque!$C19)),\"ERRO\")","v":""},{"$f":"IFERROR(IF(E19=\"\",\"\",SUMIFS(Inventário!$N$10:$N$150,Inventário!$D$10:$D$150,Estoque!F$10,Inventário!$E$10:$E$150,Estoque!$C19)),\"ERRO\")","v":""},{"$f":"IFERROR(IF(F19=\"\",\"\",SUMIFS(Inventário!$N$10:$N$150,Inventário!$D$10:$D$150,Estoque!G$10,Inventário!$E$10:$E$150,Estoque!$C19)),\"ERRO\")","v":""},{"$f":"IFERROR(IF(G19=\"\",\"\",SUMIFS(Inventário!$N$10:$N$150,Inventário!$D$10:$D$150,Estoque!H$10,Inventário!$E$10:$E$150,Estoque!$C19)),\"ERRO\")","v":""},{"$f":"IFERROR(IF(H19=\"\",\"\",SUMIFS(Inventário!$N$10:$N$150,Inventário!$D$10:$D$150,Estoque!I$10,Inventário!$E$10:$E$150,Estoque!$C19)),\"ERRO\")","v":""},{"$f":"IFERROR(IF(I19=\"\",\"\",SUMIFS(Inventário!$N$10:$N$150,Inventário!$D$10:$D$150,Estoque!J$10,Inventário!$E$10:$E$150,Estoque!$C19)),\"ERRO\")","v":""},{"$f":"IFERROR(IF(J19=\"\",\"\",SUMIFS(Inventário!$N$10:$N$150,Inventário!$D$10:$D$150,Estoque!K$10,Inventário!$E$10:$E$150,Estoque!$C19)),\"ERRO\")","v":""},{"$f":"IFERROR(IF(K19=\"\",\"\",SUMIFS(Inventário!$N$10:$N$150,Inventário!$D$10:$D$150,Estoque!L$10,Inventário!$E$10:$E$150,Estoque!$C19)),\"ERRO\")","v":""},{"$f":"IFERROR(IF(L19=\"\",\"\",SUMIFS(Inventário!$N$10:$N$150,Inventário!$D$10:$D$150,Estoque!M$10,Inventário!$E$10:$E$150,Estoque!$C19)),\"ERRO\")","v":""},{"$f":"IFERROR(IF(M19=\"\",\"\",SUMIFS(Inventário!$N$10:$N$150,Inventário!$D$10:$D$150,Estoque!N$10,Inventário!$E$10:$E$150,Estoque!$C19)),\"ERRO\")","v":""},{"$f":"IFERROR(IF(N19=\"\",\"\",SUMIFS(Inventário!$N$10:$N$150,Inventário!$D$10:$D$150,Estoque!O$10,Inventário!$E$10:$E$150,Estoque!$C19)),\"ERRO\")","v":""},null,null,null,{"$f":"Inventário!$E16","v":0}]
[null,8,{"$f":"IF('Cadastro de Produtos'!C12=\"\",\"\",VLOOKUP(B20,'Cadastro de Produtos'!$B$5:$C$204,2,0))","v":""},{"$f":"IFERROR(IF(C20=\"\",\"\",SUMIFS(Inventário!$N$10:$N$150,Inventário!$D$10:$D$150,Estoque!D$10,Inventário!$E$10:$E$150,Estoque!$C20)),\"ERRO\")","v":""},{"$f":"IFERROR(IF(D20=\"\",\"\",SUMIFS(Inventário!$N$10:$N$150,Inventário!$D$10:$D$150,Estoque!E$10,Inventário!$E$10:$E$150,Estoque!$C20)),\"ERRO\")","v":""},{"$f":"IFERROR(IF(E20=\"\",\"\",SUMIFS(Inventário!$N$10:$N$150,Inventário!$D$10:$D$150,Estoque!F$10,Inventário!$E$10:$E$150,Estoque!$C20)),\"ERRO\")","v":""},{"$f":"IFERROR(IF(F20=\"\",\"\",SUMIFS(Inventário!$N$10:$N$150,Inventário!$D$10:$D$150,Estoque!G$10,Inventário!$E$10:$E$150,Estoque!$C20)),\"ERRO\")","v":""},{"$f":"IFERROR(IF(G20=\"\",\"\",SUMIFS(Inventário!$N$10:$N$150,Inventário!$D$10:$D$150,Estoque!H$10,Inventário!$E$10:$E$150,Estoque!$C20)),\"ERRO\")","v":""},{"$f":"IFERROR(IF(H20=\"\",\"\",SUMIFS(Inventário!$N$10:$N$150,Inventário!$D$10:$D$150,Estoque!I$10,Inventário!$E$10:$E$150,Estoque!$C20)),\"ERRO\")","v":""},{"$f":"IFERROR(IF(I20=\"\",\"\",SUMIFS(Inventário!$N$10:$N$150,Inventário!$D$10:$D$150,Estoque!J$10,Inventário!$E$10:$E$150,Estoque!$C20)),\"ERRO\")","v":""},{"$f":"IFERROR(IF(J20=\"\",\"\",SUMIFS(Inventário!$N$10:$N$150,Inventário!$D$10:$D$150,Estoque!K$10,Inventário!$E$10:$E$150,Estoque!$C20)),\"ERRO\")","v":""},{"$f":"IFERROR(IF(K20=\"\",\"\",SUMIFS(Inventário!$N$10:$N$150,Inventário!$D$10:$D$150,Estoque!L$10,Inventário!$E$10:$E$150,Estoque!$C20)),\"ERRO\")","v":""},{"$f":"IFERROR(IF(L20=\"\",\"\",SUMIFS(Inventário!$N$10:$N$150,Inventário!$D$10:$D$150,Estoque!M$10,Inventário!$E$10:$E$150,Estoque!$C20)),\"ERRO\")","v":""},{"$f":"IFERROR(IF(M20=\"\",\"\",SUMIFS(Inventário!$N$10:$N$150,Inventário!$D$10:$D$150,Estoque!N$10,Inventário!$E$10:$E$150,Estoque!$C20)),\"ERRO\")","v":""},{"$f":"IFERROR(IF(N20=\"\",\"\",SUMIFS(Inventário!$N$10:$N$150,Inventário!$D$10:$D$150,Estoque!O$10,Inventário!$E$10:$E$150,Estoque!$C20)),\"ERRO\")","v":""},null,null,null,{"$f":"Inventário!$E17","v":0}]
[null,9,{"$f":"IF('Cadastro de Produtos'!C13=\"\",\"\",VLOOKUP(B21,'Cadastro de Produtos'!$B$5:$C$204,2,0))","v":""},{"$f":"IFERROR(IF(C21=\"\",\"\",SUMIFS(Inventário!$N$10:$N$150,Inventário!$D$10:$D$150,Estoque!D$10,Inventário!$E$10:$E$150,Estoque!$C21)),\"ERRO\")","v":""},{"$f":"IFERROR(IF(D21=\"\",\"\",SUMIFS(Inventário!$N$10:$N$150,Inventário!$D$10:$D$150,Estoque!E$10,Inventário!$E$10:$E$150,Estoque!$C21)),\"ERRO\")","v":""},{"$f":"IFERROR(IF(E21=\"\",\"\",SUMIFS(Inventário!$N$10:$N$150,Inventário!$D$10:$D$150,Estoque!F$10,Inventário!$E$10:$E$150,Estoque!$C21)),\"ERRO\")","v":""},{"$f":"IFERROR(IF(F21=\"\",\"\",SUMIFS(Inventário!$N$10:$N$150,Inventário!$D$10:$D$150,Estoque!G$10,Inventário!$E$10:$E$150,Estoque!$C21)),\"ERRO\")","v":""},{"$f":"IFERROR(IF(G21=\"\",\"\",SUMIFS(Inventário!$N$10:$N$150,Inventário!$D$10:$D$150,Estoque!H$10,Inventário!$E$10:$E$150,Estoque!$C21)),\"ERRO\")","v":""},{"$f":"IFERROR(IF(H21=\"\",\"\",SUMIFS(Inventário!$N$10:$N$150,Inventário!$D$10:$D$150,Estoque!I$10,Inventário!$E$10:$E$150,Estoque!$C21)),\"ERRO\")","v":""},{"$f":"IFERROR(IF(I21=\"\",\"\",SUMIFS(Inventário!$N$10:$N$150,Inventário!$D$10:$D$150,Estoque!J$10,Inventário!$E$10:$E$150,Estoque!$C21)),\"ERRO\")","v":""},{"$f":"IFERROR(IF(J21=\"\",\"\",SUMIFS(Inventário!$N$10:$N$150,Inventário!$D$10:$D$150,Estoque!K$10,Inventário!$E$10:$E$150,Estoque!$C21)),\"ERRO\")","v":""},{"$f":"IFERROR(IF(K21=\"\",\"\",SUMIFS(Inventário!$N$10:$N$150,Inventário!$D$10:$D$150,Estoque!L$10,Inventário!$E$10:$E$150,Estoque!$C21)),\"ERRO\")","v":""},{"$f":"IFERROR(IF(L21=\"\",\"\",SUMIFS(Inventário!$N$10:$N$150,Inventário!$D$10:$D$150,Estoque!M$10,Inventário!$E$10:$E$150,Estoque!$C21)),\"ERRO\")","v":""},{"$f":"IFERROR(IF(M21=\"\",\"\",SUMIFS(Inventário!$N$10:$N$150,Inventário!$D$10:$D$150,Estoque!N$10,Inventário!$E$10:$E$150,Estoque!$C21)),\"ERRO\")","v":""},{"$f":"IFERROR(IF(N21=\"\",\"\",SUMIFS(Inventário!$N$10:$N$150,Inventário!$D$10:$D$150,Estoque!O$10,Inventário!$E$10:$E$150,Estoque!$C21)),\"ERRO\")","v":""},null,null,null,{"$f":"Inventário!$E18","v":0}]
[null,10,{"$f":"IF('Cadastro de Produtos'!C14=\"\",\"\",VLOOKUP(B22,'Cadastro de Produtos'!$B$5:$C$204,2,0))","v":""},{"$f":"IFERROR(IF(C22=\"\",\"\",SUMIFS(Inventário!$N$10:$N$150,Inventário!$D$10:$D$150,Estoque!D$10,Inventário!$E$10:$E$150,Estoque!$C22)),\"ERRO\")","v":""},{"$f":"IFERROR(IF(D22=\"\",\"\",SUMIFS(Inventário!$N$10:$N$150,Inventário!$D$10:$D$150,Estoque!E$10,Inventário!$E$10:$E$150,Estoque!$C22)),\"ERRO\")","v":""},{"$f":"IFERROR(IF(E22=\"\",\"\",SUMIFS(Inventário!$N$10:$N$150,Inventário!$D$10:$D$150,Estoque!F$10,Inventário!$E$10:$E$150,Estoque!$C22)),\"ERRO\")","v":""},{"$f":"IFERROR(IF(F22=\"\",\"\",SUMIFS(Inventário!$N$10:$N$150,Inventário!$D$10:$D$150,Estoque!G$10,Inventário!$E$10:$E$150,Estoque!$C22)),\"ERRO\")","v":""},{"$f":"IFERROR(IF(G22=\"\",\"\",SUMIFS(Inventário!$N$10:$N$150,Inventário!$D$10:$D$150,Estoque!H$10,Inventário!$E$10:$E$150,Estoque!$C22)),\"ERRO\")","v":""},{"$f":"IFERROR(IF(H22=\"\",\"\",SUMIFS(Inventário!$N$10:$N$150,Inventário!$D$10:$D$150,Estoque!I$10,Inventário!$E$10:$E$150,Estoque!$C22)),\"ERRO\")","v":""},{"$f":"IFERROR(IF(I22=\"\",\"\",SUMIFS(Inventário!$N$10:$N$150,Inventário!$D$10:$D$150,Estoque!J$10,Inventário!$E$10:$E$150,Estoque!$C22)),\"ERRO\")","v":""},{"$f":"IFERROR(IF(J22=\"\",\"\",SUMIFS(Inventário!$N$10:$N$150,Inventário!$D$10:$D$150,Estoque!K$10,Inventário!$E$10:$E$150,Estoque!$C22)),\"ERRO\")","v":""},{"$f":"IFERROR(IF(K22=\"\",\"\",SUMIFS(Inventário!$N$10:$N$150,Inventário!$D$10:$D$150,Estoque!L$10,Inventário!$E$10:$E$150,Estoque!$C22)),\"ERRO\")","v":""},{"$f":"IFERROR(IF(L22=\"\",\"\",SUMIFS(Inventário!$N$10:$N$150,Inventário!$D$10:$D$150,Estoque!M$10,Inventário!$E$10:$E$150,Estoque!$C22)),\"ERRO\")","v":""},{"$f":"IFERROR(IF(M22=\"\",\"\",SUMIFS(Inventário!$N$10:$N$150,Inventário!$D$10:$D$150,Estoque!N$10,Inventário!$E$10:$E$150,Estoque!$C22)),\"ERRO\")","v":""},{"$f":"IFERROR(IF(N22=\"\",\"\",SUMIFS(Inventário!$N$10:$N$150,Inventário!$D$10:$D$150,Estoque!O$10,Inventário!$E$10:$E$150,Estoque!$C22)),\"ERRO\")","v":""},null,null,null,{"$f":"Inventário!$E19","v":0}]
[null,11,{"$f":"IF('Cadastro de Produtos'!C15=\"\",\"\",VLOOKUP(B23,'Cadastro de Produtos'!$B$5:$C$204,2,0))","v":""},{"$f":"IFERROR(IF(C23=\"\",\"\",SUMIFS(Inventário!$N$10:$N$150,Inventário!$D$10:$D$150,Estoque!D$10,Inventário!$E$10:$E$150,Estoque!$C23)),\"ERRO\")","v":""},{"$f":"IFERROR(IF(D23=\"\",\"\",SUMIFS(Inventário!$N$10:$N$150,Inventário!$D$10:$D$150,Estoque!E$10,Inventário!$E$10:$E$150,Estoque!$C23)),\"ERRO\")","v":""},{"$f":"IFERROR(IF(E23=\"\",\"\",SUMIFS(Inventário!$N$10:$N$150,Inventário!$D$10:$D$150,Estoque!F$10,Inventário!$E$10:$E$150,Estoque!$C23)),\"ERRO\")","v":""},{"$f":"IFERROR(IF(F23=\"\",\"\",SUMIFS(Inventário!$N$10:$N$150,Inventário!$D$10:$D$150,Estoque!G$10,Inventário!$E$10:$E$150,Estoque!$C23)),\"ERRO\")","v":""},{"$f":"IFERROR(IF(G23=\"\",\"\",SUMIFS(Inventário!$N$10:$N$150,Inventário!$D$10:$D$150,Estoque!H$10,Inventário!$E$10:$E$150,Estoque!$C23)),\"ERRO\")","v":""},{"$f":"IFERROR(IF(H23=\"\",\"\",SUMIFS(Inventário!$N$10:$N$150,Inventário!$D$10:$D$150,Estoque!I$10,Inventário!$E$10:$E$150,Estoque!$C23)),\"ERRO\")","v":""},{"$f":"IFERROR(IF(I23=\"\",\"\",SUMIFS(Inventário!$N$10:$N$150,Inventário!$D$10:$D$150,Estoque!J$10,Inventário!$E$10:$E$150,Estoque!$C23)),\"ERRO\")","v":""},{"$f":"IFERROR(IF(J23=\"\",\"\",SUMIFS(Inventário!$N$10:$N$150,Inventário!$D$10:$D$150,Estoque!K$10,Inventário!$E$10:$E$150,Estoque!$C23)),\"ERRO\")","v":""},{"$f":"IFERROR(IF(K23=\"\",\"\",SUMIFS(Inventário!$N$10:$N$150,Inventário!$D$10:$D$150,Estoque!L$10,Inventário!$E$10:$E$150,Estoque!$C23)),\"ERRO\")","v":""},{"$f":"IFERROR(IF(L23=\"\",\"\",SUMIFS(Inventário!$N$10:$N$150,Inventário!$D$10:$D$150,Estoque!M$10,Inventário!$E$10:$E$150,Estoque!$C23)),\"ERRO\")","v":""},{"$f":"IFERROR(IF(M23=\"\",\"\",SUMIFS(Inventário!$N$10:$N$150,Inventário!$D$10:$D$150,Estoque!N$10,Inventário!$E$10:$E$150,Estoque!$C23)),\"ERRO\")","v":""},{"$f":"IFERROR(IF(N23=\"\",\"\",SUMIFS(Inventário!$N$10:$N$150,Inventário!$D$10:$D$150,Estoque!O$10,Inventário!$E$10:$E$150,Estoque!$C23)),\"ERRO\")","v":""},null,null,null,{"$f":"Inventário!$E20","v":0}]
[null,12,{"$f":"IF('Cadastro de Produtos'!C16=\"\",\"\",VLOOKUP(B24,'Cadastro de Produtos'!$B$5:$C$204,2,0))","v":""},{"$f":"IFERROR(IF(C24=\"\",\"\",SUMIFS(Inventário!$N$10:$N$150,Inventário!$D$10:$D$150,Estoque!D$10,Inventário!$E$10:$E$150,Estoque!$C24)),\"ERRO\")","v":""},{"$f":"IFERROR(IF(D24=\"\",\"\",SUMIFS(Inventário!$N$10:$N$150,Inventário!$D$10:$D$150,Estoque!E$10,Inventário!$E$10:$E$150,Estoque!$C24)),\"ERRO\")","v":""},{"$f":"IFERROR(IF(E24=\"\",\"\",SUMIFS(Inventário!$N$10:$N$150,Inventário!$D$10:$D$150,Estoque!F$10,Inventário!$E$10:$E$150,Estoque!$C24)),\"ERRO\")","v":""},{"$f":"IFERROR(IF(F24=\"\",\"\",SUMIFS(Inventário!$N$10:$N$150,Inventário!$D$10:$D$150,Estoque!G$10,Inventário!$E$10:$E$150,Estoque!$C24)),\"ERRO\")","v":""},{"$f":"IFERROR(IF(G24=\"\",\"\",SUMIFS(Inventário!$N$10:$N$150,Inventário!$D$10:$D$150,Estoque!H$10,Inventário!$E$10:$E$150,Estoque!$C24)),\"ERRO\")","v":""},{"$f":"IFERROR(IF(H24=\"\",\"\",SUMIFS(Inventário!$N$10:$N$150,Inventário!$D$10:$D$150,Estoque!I$10,Inventário!$E$10:$E$150,Estoque!$C24)),\"ERRO\")","v":""},{"$f":"IFERROR(IF(I24=\"\",\"\",SUMIFS(Inventário!$N$10:$N$150,Inventário!$D$10:$D$150,Estoque!J$10,Inventário!$E$10:$E$150,Estoque!$C24)),\"ERRO\")","v":""},{"$f":"IFERROR(IF(J24=\"\",\"\",SUMIFS(Inventário!$N$10:$N$150,Inventário!$D$10:$D$150,Estoque!K$10,Inventário!$E$10:$E$150,Estoque!$C24)),\"ERRO\")","v":""},{"$f":"IFERROR(IF(K24=\"\",\"\",SUMIFS(Inventário!$N$10:$N$150,Inventário!$D$10:$D$150,Estoque!L$10,Inventário!$E$10:$E$150,Estoque!$C24)),\"ERRO\")","v":""},{"$f":"IFERROR(IF(L24=\"\",\"\",SUMIFS(Inventário!$N$10:$N$150,Inventário!$D$10:$D$150,Estoque!M$10,Inventário!$E$10:$E$150,Estoque!$C24)),\"ERRO\")","v":""},{"$f":"IFERROR(IF(M24=\"\",\"\",SUMIFS(Inventário!$N$10:$N$150,Inventário!$D$10:$D$150,Estoque!N$10,Inventário!$E$10:$E$150,Estoque!$C24)),\"ERRO\")","v":""},{"$f":"IFERROR(IF(N24=\"\",\"\",SUMIFS(Inventário!$N$10:$N$150,Inventário!$D$10:$D$150,Estoque!O$10,Inventário!$E$10:$E$150,Estoque!$C24)),\"ERRO\")","v":""},null,null,null,{"$f":"Inventário!$E21","v":0}]
[null,13,{"$f":"IF('Cadastro de Produtos'!C17=\"\",\"\",VLOOKUP(B25,'Cadastro de Produtos'!$B$5:$C$204,2,0))","v":""},{"$f":"IFERROR(IF(C25=\"\",\"\",SUMIFS(Inventário!$N$10:$N$150,Inventário!$D$10:$D$150,Estoque!D$10,Inventário!$E$10:$E$150,Estoque!$C25)),\"ERRO\")","v":""},{"$f":"IFERROR(IF(D25=\"\",\"\",SUMIFS(Inventário!$N$10:$N$150,Inventário!$D$10:$D$150,Estoque!E$10,Inventário!$E$10:$E$150,Estoque!$C25)),\"ERRO\")","v":""},{"$f":"IFERROR(IF(E25=\"\",\"\",SUMIFS(Inventário!$N$10:$N$150,Inventário!$D$10:$D$150,Estoque!F$10,Inventário!$E$10:$E$150,Estoque!$C25)),\"ERRO\")","v":""},{"$f":"IFERROR(IF(F25=\"\",\"\",SUMIFS(Inventário!$N$10:$N$150,Inventário!$D$10:$D$150,Estoque!G$10,Inventário!$E$10:$E$150,Estoque!$C25)),\"ERRO\")","v":""},{"$f":"IFERROR(IF(G25=\"\",\"\",SUMIFS(Inventário!$N$10:$N$150,Inventário!$D$10:$D$150,Estoque!H$10,Inventário!$E$10:$E$150,Estoque!$C25)),\"ERRO\")","v":""},{"$f":"IFERROR(IF(H25=\"\",\"\",SUMIFS(Inventário!$N$10:$N$150,Inventário!$D$10:$D$150,Estoque!I$10,Inventário!$E$10:$E$150,Estoque!$C25)),\"ERRO\")","v":""},{"$f":"IFERROR(IF(I25=\"\",\"\",SUMIFS(Inventário!$N$10:$N$150,Inventário!$D$10:$D$150,Estoque!J$10,Inventário!$E$10:$E$150,Estoque!$C25)),\"ERRO\")","v":""},{"$f":"IFERROR(IF(J25=\"\",\"\",SUMIFS(Inventário!$N$10:$N$150,Inventário!$D$10:$D$150,Estoque!K$10,Inventário!$E$10:$E$150,Estoque!$C25)),\"ERRO\")","v":""},{"$f":"IFERROR(IF(K25=\"\",\"\",SUMIFS(Inventário!$N$10:$N$150,Inventário!$D$10:$D$150,Estoque!L$10,Inventário!$E$10:$E$150,Estoque!$C25)),\"ERRO\")","v":""},{"$f":"IFERROR(IF(L25=\"\",\"\",SUMIFS(Inventário!$N$10:$N$150,Inventário!$D$10:$D$150,Estoque!M$10,Inventário!$E$10:$E$150,Estoque!$C25)),\"ERRO\")","v":""},{"$f":"IFERROR(IF(M25=\"\",\"\",SUMIFS(Inventário!$N$10:$N$150,Inventário!$D$10:$D$150,Estoque!N$10,Inventário!$E$10:$E$150,Estoque!$C25)),\"ERRO\")","v":""},{"$f":"IFERROR(IF(N25=\"\",\"\",SUMIFS(Inventário!$N$10:$N$150,Inventário!$D$10:$D$150,Estoque!O$10,Inventário!$E$10:$E$150,Estoque!$C25)),\"ERRO\")","v":""},null,null,null,{"$f":"Inventário!$E22","v":0}]
[null,14,{"$f":"IF('Cadastro de Produtos'!C18=\"\",\"\",VLOOKUP(B26,'Cadastro de Produtos'!$B$5:$C$204,2,0))","v":""},{"$f":"IFERROR(IF(C26=\"\",\"\",SUMIFS(Inventário!$N$10:$N$150,Inventário!$D$10:$D$150,Estoque!D$10,Inventário!$E$10:$E$150,Estoque!$C26)),\"ERRO\")","v":""},{"$f":"IFERROR(IF(D26=\"\",\"\",SUMIFS(Inventário!$N$10:$N$150,Inventário!$D$10:$D$150,Estoque!E$10,Inventário!$E$10:$E$150,Estoque!$C26)),\"ERRO\")","v":""},{"$f":"IFERROR(IF(E26=\"\",\"\",SUMIFS(Inventário!$N$10:$N$150,Inventário!$D$10:$D$150,Estoque!F$10,Inventário!$E$10:$E$150,Estoque!$C26)),\"ERRO\")","v":""},{"$f":"IFERROR(IF(F26=\"\",\"\",SUMIFS(Inventário!$N$10:$N$150,Inventário!$D$10:$D$150,Estoque!G$10,Inventário!$E$10:$E$150,Estoque!$C26)),\"ERRO\")","v":""},{"$f":"IFERROR(IF(G26=\"\",\"\",SUMIFS(Inventário!$N$10:$N$150,Inventário!$D$10:$D$150,Estoque!H$10,Inventário!$E$10:$E$150,Estoque!$C26)),\"ERRO\")","v":""},{"$f":"IFERROR(IF(H26=\"\",\"\",SUMIFS(Inventário!$N$10:$N$150,Inventário!$D$10:$D$150,Estoque!I$10,Inventário!$E$10:$E$150,Estoque!$C26)),\"ERRO\")","v":""},{"$f":"IFERROR(IF(I26=\"\",\"\",SUMIFS(Inventário!$N$10:$N$150,Inventário!$D$10:$D$150,Estoque!J$10,Inventário!$E$10:$E$150,Estoque!$C26)),\"ERRO\")","v":""},{"$f":"IFERROR(IF(J26=\"\",\"\",SUMIFS(Inventário!$N$10:$N$150,Inventário!$D$10:$D$150,Estoque!K$10,Inventário!$E$10:$E$150,Estoque!$C26)),\"ERRO\")","v":""},{"$f":"IFERROR(IF(K26=\"\",\"\",SUMIFS(Inventário!$N$10:$N$150,Inventário!$D$10:$D$150,Estoque!L$10,Inventário!$E$10:$E$150,Estoque!$C26)),\"ERRO\")","v":""},{"$f":"IFERROR(IF(L26=\"\",\"\",SUMIFS(Inventário!$N$10:$N$150,Inventário!$D$10:$D$150,Estoque!M$10,Inventário!$E$10:$E$150,Estoque!$C26)),\"ERRO\")","v":""},{"$f":"IFERROR(IF(M26=\"\",\"\",SUMIFS(Inventário!$N$10:$N$150,Inventário!$D$10:$D$150,Estoque!N$10,Inventário!$E$10:$E$150,Estoque!$C26)),\"ERRO\")","v":""},{"$f":"IFERROR(IF(N26=\"\",\"\",SUMIFS(Inventário!$N$10:$N$150,Inventário!$D$10:$D$150,Estoque!O$10,Inventário!$E$10:$E$150,Estoque!$C26)),\"ERRO\")","v":""},null,null,null,{"$f":"Inventário!$E23","v":0}]
[null,15,{"$f":"IF('Cadastro de Produtos'!C19=\"\",\"\",VLOOKUP(B27,'Cadastro de Produtos'!$B$5:$C$204,2,0))","v":""},{"$f":"IFERROR(IF(C27=\"\",\"\",SUMIFS(Inventário!$N$10:$N$150,Inventário!$D$10:$D$150,Estoque!D$10,Inventário!$E$10:$E$150,Estoque!$C27)),\"ERRO\")","v":""},{"$f":"IFERROR(IF(D27=\"\",\"\",SUMIFS(Inventário!$N$10:$N$150,Inventário!$D$10:$D$150,Estoque!E$10,Inventário!$E$10:$E$150,Estoque!$C27)),\"ERRO\")","v":""},{"$f":"IFERROR(IF(E27=\"\",\"\",SUMIFS(Inventário!$N$10:$N$150,Inventário!$D$10:$D$150,Estoque!F$10,Inventário!$E$10:$E$150,Estoque!$C27)),\"ERRO\")","v":""},{"$f":"IFERROR(IF(F27=\"\",\"\",SUMIFS(Inventário!$N$10:$N$150,Inventário!$D$10:$D$150,Estoque!G$10,Inventário!$E$10:$E$150,Estoque!$C27)),\"ERRO\")","v":""},{"$f":"IFERROR(IF(G27=\"\",\"\",SUMIFS(Inventário!$N$10:$N$150,Inventário!$D$10:$D$150,Estoque!H$10,Inventário!$E$10:$E$150,Estoque!$C27)),\"ERRO\")","v":""},{"$f":"IFERROR(IF(H27=\"\",\"\",SUMIFS(Inventário!$N$10:$N$150,Inventário!$D$10:$D$150,Estoque!I$10,Inventário!$E$10:$E$150,Estoque!$C27)),\"ERRO\")","v":""},{"$f":"IFERROR(IF(I27=\"\",\"\",SUMIFS(Inventário!$N$10:$N$150,Inventário!$D$10:$D$150,Estoque!J$10,Inventário!$E$10:$E$150,Estoque!$C27)),\"ERRO\")","v":""},{"$f":"IFERROR(IF(J27=\"\",\"\",SUMIFS(Inventário!$N$10:$N$150,Inventário!$D$10:$D$150,Estoque!K$10,Inventário!$E$10:$E$150,Estoque!$C27)),\"ERRO\")","v":""},{"$f":"IFERROR(IF(K27=\"\",\"\",SUMIFS(Inventário!$N$10:$N$150,Inventário!$D$10:$D$150,Estoque!L$10,Inventário!$E$10:$E$150,Estoque!$C27)),\"ERRO\")","v":""},{"$f":"IFERROR(IF(L27=\"\",\"\",SUMIFS(Inventário!$N$10:$N$150,Inventário!$D$10:$D$150,Estoque!M$10,Inventário!$E$10:$E$150,Estoque!$C27)),\"ERRO\")","v":""},{"$f":"IFERROR(IF(M27=\"\",\"\",SUMIFS(Inventário!$N$10:$N$150,Inventário!$D$10:$D$150,Estoque!N$10,Inventário!$E$10:$E$150,Estoque!$C27)),\"ERRO\")","v":""},{"$f":"IFERROR(IF(N27=\"\",\"\",SUMIFS(Inventário!$N$10:$N$150,Inventário!$D$10:$D$150,Estoque!O$10,Inventário!$E$10:$E$150,Estoque!$C27)),\"ERRO\")","v":""},null,null,null,{"$f":"Inventário!$E24","v":0}]
[null,16,{"$f":"IF('Cadastro de Produtos'!C20=\"\",\"\",VLOOKUP(B28,'Cadastro de Produtos'!$B$5:$C$204,2,0))","v":""},{"$f":"IFERROR(IF(C28=\"\",\"\",SUMIFS(Inventário!$N$10:$N$150,Inventário!$D$10:$D$150,Estoque!D$10,Inventário!$E$10:$E$150,Estoque!$C28)),\"ERRO\")","v":""},{"$f":"IFERROR(IF(D28=\"\",\"\",SUMIFS(Inventário!$N$10:$N$150,Inventário!$D$10:$D$150,Estoque!E$10,Inventário!$E$10:$E$150,Estoque!$C28)),\"ERRO\")","v":""},{"$f":"IFERROR(IF(E28=\"\",\"\",SUMIFS(Inventário!$N$10:$N$150,Inventário!$D$10:$D$150,Estoque!F$10,Inventário!$E$10:$E$150,Estoque!$C28)),\"ERRO\")","v":""},{"$f":"IFERROR(IF(F28=\"\",\"\",SUMIFS(Inventário!$N$10:$N$150,Inventário!$D$10:$D$150,Estoque!G$10,Inventário!$E$10:$E$150,Estoque!$C28)),\"ERRO\")","v":""},{"$f":"IFERROR(IF(G28=\"\",\"\",SUMIFS(Inventário!$N$10:$N$150,Inventário!$D$10:$D$150,Estoque!H$10,Inventário!$E$10:$E$150,Estoque!$C28)),\"ERRO\")","v":""},{"$f":"IFERROR(IF(H28=\"\",\"\",SUMIFS(Inventário!$N$10:$N$150,Inventário!$D$10:$D$150,Estoque!I$10,Inventário!$E$10:$E$150,Estoque!$C28)),\"ERRO\")","v":""},{"$f":"IFERROR(IF(I28=\"\",\"\",SUMIFS(Inventário!$N$10:$N$150,Inventário!$D$10:$D$150,Estoque!J$10,Inventário!$E$10:$E$150,Estoque!$C28)),\"ERRO\")","v":""},{"$f":"IFERROR(IF(J28=\"\",\"\",SUMIFS(Inventário!$N$10:$N$150,Inventário!$D$10:$D$150,Estoque!K$10,Inventário!$E$10:$E$150,Estoque!$C28)),\"ERRO\")","v":""},{"$f":"IFERROR(IF(K28=\"\",\"\",SUMIFS(Inventário!$N$10:$N$150,Inventário!$D$10:$D$150,Estoque!L$10,Inventário!$E$10:$E$150,Estoque!$C28)),\"ERRO\")","v":""},{"$f":"IFERROR(IF(L28=\"\",\"\",SUMIFS(Inventário!$N$10:$N$150,Inventário!$D$10:$D$150,Estoque!M$10,Inventário!$E$10:$E$150,Estoque!$C28)),\"ERRO\")","v":""},{"$f":"IFERROR(IF(M28=\"\",\"\",SUMIFS(Inventário!$N$10:$N$150,Inventário!$D$10:$D$150,Estoque!N$10,Inventário!$E$10:$E$150,Estoque!$C28)),\"ERRO\")","v":""},{"$f":"IFERROR(IF(N28=\"\",\"\",SUMIFS(Inventário!$N$10:$N$150,Inventário!$D$10:$D$150,Estoque!O$10,Inventário!$E$10:$E$150,Estoque!$C28)),\"ERRO\")","v":""},null,null,null,{"$f":"Inventário!$E25","v":0}]
[null,17,{"$f":"IF('Cadastro de Produtos'!C21=\"\",\"\",VLOOKUP(B29,'Cadastro de Produtos'!$B$5:$C$204,2,0))","v":""},{"$f":"IFERROR(IF(C29=\"\",\"\",SUMIFS(Inventário!$N$10:$N$150,Inventário!$D$10:$D$150,Estoque!D$10,Inventário!$E$10:$E$150,Estoque!$C29)),\"ERRO\")","v":""},{"$f":"IFERROR(IF(D29=\"\",\"\",SUMIFS(Inventário!$N$10:$N$150,Inventário!$D$10:$D$150,Estoque!E$10,Inventário!$E$10:$E$150,Estoque!$C29)),\"ERRO\")","v":""},{"$f":"IFERROR(IF(E29=\"\",\"\",SUMIFS(Inventário!$N$10:$N$150,Inventário!$D$10:$D$150,Estoque!F$10,Inventário!$E$10:$E$150,Estoque!$C29)),\"ERRO\")","v":""},{"$f":"IFERROR(IF(F29=\"\",\"\",SUMIFS(Inventário!$N$10:$N$150,Inventário!$D$10:$D$150,Estoque!G$10,Inventário!$E$10:$E$150,Estoque!$C29)),\"ERRO\")","v":""},{"$f":"IFERROR(IF(G29=\"\",\"\",SUMIFS(Inventário!$N$10:$N$150,Inventário!$D$10:$D$150,Estoque!H$10,Inventário!$E$10:$E$150,Estoque!$C29)),\"ERRO\")","v":""},{"$f":"IFERROR(IF(H29=\"\",\"\",SUMIFS(Inventário!$N$10:$N$150,Inventário!$D$10:$D$150,Estoque!I$10,Inventário!$E$10:$E$150,Estoque!$C29)),\"ERRO\")","v":""},{"$f":"IFERROR(IF(I29=\"\",\"\",SUMIFS(Inventário!$N$10:$N$150,Inventário!$D$10:$D$150,Estoque!J$10,Inventário!$E$10:$E$150,Estoque!$C29)),\"ERRO\")","v":""},{"$f":"IFERROR(IF(J29=\"\",\"\",SUMIFS(Inventário!$N$10:$N$150,Inventário!$D$10:$D$150,Estoque!K$10,Inventário!$E$10:$E$150,Estoque!$C29)),\"ERRO\")","v":""},{"$f":"IFERROR(IF(K29=\"\",\"\",SUMIFS(Inventário!$N$10:$N$150,Inventário!$D$10:$D$150,Estoque!L$10,Inventário!$E$10:$E$150,Estoque!$C29)),\"ERRO\")","v":""},{"$f":"IFERROR(IF(L29=\"\",\"\",SUMIFS(Inventário!$N$10:$N$150,Inventário!$D$10:$D$150,Estoque!M$10,Inventário!$E$10:$E$150,Estoque!$C29)),\"ERRO\")","v":""},{"$f":"IFERROR(IF(M29=\"\",\"\",SUMIFS(Inventário!$N$10:$N$150,Inventário!$D$10:$D$150,Estoque!N$10,Inventário!$E$10:$E$150,Estoque!$C29)),\"ERRO\")","v":""},{"$f":"IFERROR(IF(N29=\"\",\"\",SUMIFS(Inventário!$N$10:$N$150,Inventário!$D$10:$D$150,Estoque!O$10,Inventário!$E$10:$E$150,Estoque!$C29)),\"ERRO\")","v":""},null,null,null,{"$f":"Inventário!$E26","v":0}]
[null,18,{"$f":"IF('Cadastro de Produtos'!C22=\"\",\"\",VLOOKUP(B30,'Cadastro de Produtos'!$B$5:$C$204,2,0))","v":""},{"$f":"IFERROR(IF(C30=\"\",\"\",SUMIFS(Inventário!$N$10:$N$150,Inventário!$D$10:$D$150,Estoque!D$10,Inventário!$E$10:$E$150,Estoque!$C30)),\"ERRO\")","v":""},{"$f":"IFERROR(IF(D30=\"\",\"\",SUMIFS(Inventário!$N$10:$N$150,Inventário!$D$10:$D$150,Estoque!E$10,Inventário!$E$10:$E$150,Estoque!$C30)),\"ERRO\")","v":""},{"$f":"IFERROR(IF(E30=\"\",\"\",SUMIFS(Inventário!$N$10:$N$150,Inventário!$D$10:$D$150,Estoque!F$10,Inventário!$E$10:$E$150,Estoque!$C30)),\"ERRO\")","v":""},{"$f":"IFERROR(IF(F30=\"\",\"\",SUMIFS(Inventário!$N$10:$N$150,Inventário!$D$10:$D$150,Estoque!G$10,Inventário!$E$10:$E$150,Estoque!$C30)),\"ERRO\")","v":""},{"$f":"IFERROR(IF(G30=\"\",\"\",SUMIFS(Inventário!$N$10:$N$150,Inventário!$D$10:$D$150,Estoque!H$10,Inventário!$E$10:$E$150,Estoque!$C30)),\"ERRO\")","v":""},{"$f":"IFERROR(IF(H30=\"\",\"\",SUMIFS(Inventário!$N$10:$N$150,Inventário!$D$10:$D$150,Estoque!I$10,Inventário!$E$10:$E$150,Estoque!$C30)),\"ERRO\")","v":""},{"$f":"IFERROR(IF(I30=\"\",\"\",SUMIFS(Inventário!$N$10:$N$150,Inventário!$D$10:$D$150,Estoque!J$10,Inventário!$E$10:$E$150,Estoque!$C30)),\"ERRO\")","v":""},{"$f":"IFERROR(IF(J30=\"\",\"\",SUMIFS(Inventário!$N$10:$N$150,Inventário!$D$10:$D$150,Estoque!K$10,Inventário!$E$10:$E$150,Estoque!$C30)),\"ERRO\")","v":""},{"$f":"IFERROR(IF(K30=\"\",\"\",SUMIFS(Inventário!$N$10:$N$150,Inventário!$D$10:$D$150,Estoque!L$10,Inventário!$E$10:$E$150,Estoque!$C30)),\"ERRO\")","v":""},{"$f":"IFERROR(IF(L30=\"\",\"\",SUMIFS(Inventário!$N$10:$N$150,Inventário!$D$10:$D$150,Estoque!M$10,Inventário!$E$10:$E$150,Estoque!$C30)),\"ERRO\")","v":""},{"$f":"IFERROR(IF(M30=\"\",\"\",SUMIFS(Inventário!$N$10:$N$150,Inventário!$D$10:$D$150,Estoque!N$10,Inventário!$E$10:$E$150,Estoque!$C30)),\"ERRO\")","v":""},{"$f":"IFERROR(IF(N30=\"\",\"\",SUMIFS(Inventário!$N$10:$N$150,Inventário!$D$10:$D$150,Estoque!O$10,Inventário!$E$10:$E$150,Estoque!$C30)),\"ERRO\")","v":""},null,null,null,{"$f":"Inventário!$E27","v":0}]
[null,19,{"$f":"IF('Cadastro de Produtos'!C23=\"\",\"\",VLOOKUP(B31,'Cadastro de Produtos'!$B$5:$C$204,2,0))","v":""},{"$f":"IFERROR(IF(C31=\"\",\"\",SUMIFS(Inventário!$N$10:$N$150,Inventário!$D$10:$D$150,Estoque!D$10,Inventário!$E$10:$E$150,Estoque!$C31)),\"ERRO\")","v":""},{"$f":"IFERROR(IF(D31=\"\",\"\",SUMIFS(Inventário!$N$10:$N$150,Inventário!$D$10:$D$150,Estoque!E$10,Inventário!$E$10:$E$150,Estoque!$C31)),\"ERRO\")","v":""},{"$f":"IFERROR(IF(E31=\"\",\"\",SUMIFS(Inventário!$N$10:$N$150,Inventário!$D$10:$D$150,Estoque!F$10,Inventário!$E$10:$E$150,Estoque!$C31)),\"ERRO\")","v":""},{"$f":"IFERROR(IF(F31=\"\",\"\",SUMIFS(Inventário!$N$10:$N$150,Inventário!$D$10:$D$150,Estoque!G$10,Inventário!$E$10:$E$150,Estoque!$C31)),\"ERRO\")","v":""},{"$f":"IFERROR(IF(G31=\"\",\"\",SUMIFS(Inventário!$N$10:$N$150,Inventário!$D$10:$D$150,Estoque!H$10,Inventário!$E$10:$E$150,Estoque!$C31)),\"ERRO\")","v":""},{"$f":"IFERROR(IF(H31=\"\",\"\",SUMIFS(Inventário!$N$10:$N$150,Inventário!$D$10:$D$150,Estoque!I$10,Inventário!$E$10:$E$150,Estoque!$C31)),\"ERRO\")","v":""},{"$f":"IFERROR(IF(I31=\"\",\"\",SUMIFS(Inventário!$N$10:$N$150,Inventário!$D$10:$D$150,Estoque!J$10,Inventário!$E$10:$E$150,Estoque!$C31)),\"ERRO\")","v":""},{"$f":"IFERROR(IF(J31=\"\",\"\",SUMIFS(Inventário!$N$10:$N$150,Inventário!$D$10:$D$150,Estoque!K$10,Inventário!$E$10:$E$150,Estoque!$C31)),\"ERRO\")","v":""},{"$f":"IFERROR(IF(K31=\"\",\"\",SUMIFS(Inventário!$N$10:$N$150,Inventário!$D$10:$D$150,Estoque!L$10,Inventário!$E$10:$E$150,Estoque!$C31)),\"ERRO\")","v":""},{"$f":"IFERROR(IF(L31=\"\",\"\",SUMIFS(Inventário!$N$10:$N$150,Inventário!$D$10:$D$150,Estoque!M$10,Inventário!$E$10:$E$150,Estoque!$C31)),\"ERRO\")","v":""},{"$f":"IFERROR(IF(M31=\"\",\"\",SUMIFS(Inventário!$N$10:$N$150,Inventário!$D$10:$D$150,Estoque!N$10,Inventário!$E$10:$E$150,Estoque!$C31)),\"ERRO\")","v":""},{"$f":"IFERROR(IF(N31=\"\",\"\",SUMIFS(Inventário!$N$10:$N$150,Inventário!$D$10:$D$150,Estoque!O$10,Inventário!$E$10:$E$150,Estoque!$C31)),\"ERRO\")","v":""},null,null,null,{"$f":"Inventário!$E28","v":0}]
[null,20,{"$f":"IF('Cadastro de Produtos'!C24=\"\",\"\",VLOOKUP(B32,'Cadastro de Produtos'!$B$5:$C$204,2,0))","v":""},{"$f":"IFERROR(IF(C32=\"\",\"\",SUMIFS(Inventário!$N$10:$N$150,Inventário!$D$10:$D$150,Estoque!D$10,Inventário!$E$10:$E$150,Estoque!$C32)),\"ERRO\")","v":""},{"$f":"IFERROR(IF(D32=\"\",\"\",SUMIFS(Inventário!$N$10:$N$150,Inventário!$D$10:$D$150,Estoque!E$10,Inventário!$E$10:$E$150,Estoque!$C32)),\"ERRO\")","v":""},{"$f":"IFERROR(IF(E32=\"\",\"\",SUMIFS(Inventário!$N$10:$N$150,Inventário!$D$10:$D$150,Estoque!F$10,Inventário!$E$10:$E$150,Estoque!$C32)),\"ERRO\")","v":""},{"$f":"IFERROR(IF(F32=\"\",\"\",SUMIFS(Inventário!$N$10:$N$150,Inventário!$D$10:$D$150,Estoque!G$10,Inventário!$E$10:$E$150,Estoque!$C32)),\"ERRO\")","v":""},{"$f":"IFERROR(IF(G32=\"\",\"\",SUMIFS(Inventário!$N$10:$N$150,Inventário!$D$10:$D$150,Estoque!H$10,Inventário!$E$10:$E$150,Estoque!$C32)),\"ERRO\")","v":""},{"$f":"IFERROR(IF(H32=\"\",\"\",SUMIFS(Inventário!$N$10:$N$150,Inventário!$D$10:$D$150,Estoque!I$10,Inventário!$E$10:$E$150,Estoque!$C32)),\"ERRO\")","v":""},{"$f":"IFERROR(IF(I32=\"\",\"\",SUMIFS(Inventário!$N$10:$N$150,Inventário!$D$10:$D$150,Estoque!J$10,Inventário!$E$10:$E$150,Estoque!$C32)),\"ERRO\")","v":""},{"$f":"IFERROR(IF(J32=\"\",\"\",SUMIFS(Inventário!$N$10:$N$150,Inventário!$D$10:$D$150,Estoque!K$10,Inventário!$E$10:$E$150,Estoque!$C32)),\"ERRO\")","v":""},{"$f":"IFERROR(IF(K32=\"\",\"\",SUMIFS(Inventário!$N$10:$N$150,Inventário!$D$10:$D$150,Estoque!L$10,Inventário!$E$10:$E$150,Estoque!$C32)),\"ERRO\")","v":""},{"$f":"IFERROR(IF(L32=\"\",\"\",SUMIFS(Inventário!$N$10:$N$150,Inventário!$D$10:$D$150,Estoque!M$10,Inventário!$E$10:$E$150,Estoque!$C32)),\"ERRO\")","v":""},{"$f":"IFERROR(IF(M32=\"\",\"\",SUMIFS(Inventário!$N$10:$N$150,Inventário!$D$10:$D$150,Estoque!N$10,Inventário!$E$10:$E$150,Estoque!$C32)),\"ERRO\")","v":""},{"$f":"IFERROR(IF(N32=\"\",\"\",SUMIFS(Inventário!$N$10:$N$150,Inventário!$D$10:$D$150,Estoque!O$10,Inventário!$E$10:$E$150,Estoque!$C32)),\"ERRO\")","v":""},null,null,null,{"$f":"Inventário!$E29","v":0}]
[null,21,{"$f":"IF('Cadastro de Produtos'!C25=\"\",\"\",VLOOKUP(B33,'Cadastro de Produtos'!$B$5:$C$204,2,0))","v":""},{"$f":"IFERROR(IF(C33=\"\",\"\",SUMIFS(Inventário!$N$10:$N$150,Inventário!$D$10:$D$150,Estoque!D$10,Inventário!$E$10:$E$150,Estoque!$C33)),\"ERRO\")","v":""},{"$f":"IFERROR(IF(D33=\"\",\"\",SUMIFS(Inventário!$N$10:$N$150,Inventário!$D$10:$D$150,Estoque!E$10,Inventário!$E$10:$E$150,Estoque!$C33)),\"ERRO\")","v":""},{"$f":"IFERROR(IF(E33=\"\",\"\",SUMIFS(Inventário!$N$10:$N$150,Inventário!$D$10:$D$150,Estoque!F$10,Inventário!$E$10:$E$150,Estoque!$C33)),\"ERRO\")","v":""},{"$f":"IFERROR(IF(F33=\"\",\"\",SUMIFS(Inventário!$N$10:$N$150,Inventário!$D$10:$D$150,Estoque!G$10,Inventário!$E$10:$E$150,Estoque!$C33)),\"ERRO\")","v":""},{"$f":"IFERROR(IF(G33=\"\",\"\",SUMIFS(Inventário!$N$10:$N$150,Inventário!$D$10:$D$150,Estoque!H$10,Inventário!$E$10:$E$150,Estoque!$C33)),\"ERRO\")","v":""},{"$f":"IFERROR(IF(H33=\"\",\"\",SUMIFS(Inventário!$N$10:$N$150,Inventário!$D$10:$D$150,Estoque!I$10,Inventário!$E$10:$E$150,Estoque!$C33)),\"ERRO\")","v":""},{"$f":"IFERROR(IF(I33=\"\",\"\",SUMIFS(Inventário!$N$10:$N$150,Inventário!$D$10:$D$150,Estoque!J$10,Inventário!$E$10:$E$150,Estoque!$C33)),\"ERRO\")","v":""},{"$f":"IFERROR(IF(J33=\"\",\"\",SUMIFS(Inventário!$N$10:$N$150,Inventário!$D$10:$D$150,Estoque!K$10,Inventário!$E$10:$E$150,Estoque!$C33)),\"ERRO\")","v":""},{"$f":"IFERROR(IF(K33=\"\",\"\",SUMIFS(Inventário!$N$10:$N$150,Inventário!$D$10:$D$150,Estoque!L$10,Inventário!$E$10:$E$150,Estoque!$C33)),\"ERRO\")","v":""},{"$f":"IFERROR(IF(L33=\"\",\"\",SUMIFS(Inventário!$N$10:$N$150,Inventário!$D$10:$D$150,Estoque!M$10,Inventário!$E$10:$E$150,Estoque!$C33)),\"ERRO\")","v":""},{"$f":"IFERROR(IF(M33=\"\",\"\",SUMIFS(Inventário!$N$10:$N$150,Inventário!$D$10:$D$150,Estoque!N$10,Inventário!$E$10:$E$150,Estoque!$C33)),\"ERRO\")","v":""},{"$f":"IFERROR(IF(N33=\"\",\"\",SUMIFS(Inventário!$N$10:$N$150,Inventário!$D$10:$D$150,Estoque!O$10,Inventário!$E$10:$E$150,Estoque!$C33)),\"ERRO\")","v":""},null,null,null,{"$f":"Inventário!$E30","v":0}]
[null,22,{"$f":"IF('Cadastro de Produtos'!C26=\"\",\"\",VLOOKUP(B34,'Cadastro de Produtos'!$B$5:$C$204,2,0))","v":""},{"$f":"IFERROR(IF(C34=\"\",\"\",SUMIFS(Inventário!$N$10:$N$150,Inventário!$D$10:$D$150,Estoque!D$10,Inventário!$E$10:$E$150,Estoque!$C34)),\"ERRO\")","v":""},{"$f":"IFERROR(IF(D34=\"\",\"\",SUMIFS(Inventário!$N$10:$N$150,Inventário!$D$10:$D$150,Estoque!E$10,Inventário!$E$10:$E$150,Estoque!$C34)),\"ERRO\")","v":""},{"$f":"IFERROR(IF(E34=\"\",\"\",SUMIFS(Inventário!$N$10:$N$150,Inventário!$D$10:$D$150,Estoque!F$10,Inventário!$E$10:$E$150,Estoque!$C34)),\"ERRO\")","v":""},{"$f":"IFERROR(IF(F34=\"\",\"\",SUMIFS(Inventário!$N$10:$N$150,Inventário!$D$10:$D$150,Estoque!G$10,Inventário!$E$10:$E$150,Estoque!$C34)),\"ERRO\")","v":""},{"$f":"IFERROR(IF(G34=\"\",\"\",SUMIFS(Inventário!$N$10:$N$150,Inventário!$D$10:$D$150,Estoque!H$10,Inventário!$E$10:$E$150,Estoque!$C34)),\"ERRO\")","v":""},{"$f":"IFERROR(IF(H34=\"\",\"\",SUMIFS(Inventário!$N$10:$N$150,Inventário!$D$10:$D$150,Estoque!I$10,Inventário!$E$10:$E$150,Estoque!$C34)),\"ERRO\")","v":""},{"$f":"IFERROR(IF(I34=\"\",\"\",SUMIFS(Inventário!$N$10:$N$150,Inventário!$D$10:$D$150,Estoque!J$10,Inventário!$E$10:$E$150,Estoque!$C34)),\"ERRO\")","v":""},{"$f":"IFERROR(IF(J34=\"\",\"\",SUMIFS(Inventário!$N$10:$N$150,Inventário!$D$10:$D$150,Estoque!K$10,Inventário!$E$10:$E$150,Estoque!$C34)),\"ERRO\")","v":""},{"$f":"IFERROR(IF(K34=\"\",\"\",SUMIFS(Inventário!$N$10:$N$150,Inventário!$D$10:$D$150,Estoque!L$10,Inventário!$E$10:$E$150,Estoque!$C34)),\"ERRO\")","v":""},{"$f":"IFERROR(IF(L34=\"\",\"\",SUMIFS(Inventário!$N$10:$N$150,Inventário!$D$10:$D$150,Estoque!M$10,Inventário!$E$10:$E$150,Estoque!$C34)),\"ERRO\")","v":""},{"$f":"IFERROR(IF(M34=\"\",\"\",SUMIFS(Inventário!$N$10:$N$150,Inventário!$D$10:$D$150,Estoque!N$10,Inventário!$E$10:$E$150,Estoque!$C34)),\"ERRO\")","v":""},{"$f":"IFERROR(IF(N34=\"\",\"\",SUMIFS(Inventário!$N$10:$N$150,Inventário!$D$10:$D$150,Estoque!O$10,Inventário!$E$10:$E$150,Estoque!$C34)),\"ERRO\")","v":""},null,null,null,{"$f":"Inventário!$E31","v":0}]
[null,23,{"$f":"IF('Cadastro de Produtos'!C27=\"\",\"\",VLOOKUP(B35,'Cadastro de Produtos'!$B$5:$C$204,2,0))","v":""},{"$f":"IFERROR(IF(C35=\"\",\"\",SUMIFS(Inventário!$N$10:$N$150,Inventário!$D$10:$D$150,Estoque!D$10,Inventário!$E$10:$E$150,Estoque!$C35)),\"ERRO\")","v":""},{"$f":"IFERROR(IF(D35=\"\",\"\",SUMIFS(Inventário!$N$10:$N$150,Inventário!$D$10:$D$150,Estoque!E$10,Inventário!$E$10:$E$150,Estoque!$C35)),\"ERRO\")","v":""},{"$f":"IFERROR(IF(E35=\"\",\"\",SUMIFS(Inventário!$N$10:$N$150,Inventário!$D$10:$D$150,Estoque!F$10,Inventário!$E$10:$E$150,Estoque!$C35)),\"ERRO\")","v":""},{"$f":"IFERROR(IF(F35=\"\",\"\",SUMIFS(Inventário!$N$10:$N$150,Inventário!$D$10:$D$150,Estoque!G$10,Inventário!$E$10:$E$150,Estoque!$C35)),\"ERRO\")","v":""},{"$f":"IFERROR(IF(G35=\"\",\"\",SUMIFS(Inventário!$N$10:$N$150,Inventário!$D$10:$D$150,Estoque!H$10,Inventário!$E$10:$E$150,Estoque!$C35)),\"ERRO\")","v":""},{"$f":"IFERROR(IF(H35=\"\",\"\",SUMIFS(Inventário!$N$10:$N$150,Inventário!$D$10:$D$150,Estoque!I$10,Inventário!$E$10:$E$150,Estoque!$C35)),\"ERRO\")","v":""},{"$f":"IFERROR(IF(I35=\"\",\"\",SUMIFS(Inventário!$N$10:$N$150,Inventário!$D$10:$D$150,Estoque!J$10,Inventário!$E$10:$E$150,Estoque!$C35)),\"ERRO\")","v":""},{"$f":"IFERROR(IF(J35=\"\",\"\",SUMIFS(Inventário!$N$10:$N$150,Inventário!$D$10:$D$150,Estoque!K$10,Inventário!$E$10:$E$150,Estoque!$C35)),\"ERRO\")","v":""},{"$f":"IFERROR(IF(K35=\"\",\"\",SUMIFS(Inventário!$N$10:$N$150,Inventário!$D$10:$D$150,Estoque!L$10,Inventário!$E$10:$E$150,Estoque!$C35)),\"ERRO\")","v":""},{"$f":"IFERROR(IF(L35=\"\",\"\",SUMIFS(Inventário!$N$10:$N$150,Inventário!$D$10:$D$150,Estoque!M$10,Inventário!$E$10:$E$150,Estoque!$C35)),\"ERRO\")","v":""},{"$f":"IFERROR(IF(M35=\"\",\"\",SUMIFS(Inventário!$N$10:$N$150,Inventário!$D$10:$D$150,Estoque!N$10,Inventário!$E$10:$E$150,Estoque!$C35)),\"ERRO\")","v":""},{"$f":"IFERROR(IF(N35=\"\",\"\",SUMIFS(Inventário!$N$10:$N$150,Inventário!$D$10:$D$150,Estoque!O$10,Inventário!$E$10:$E$150,Estoque!$C35)),\"ERRO\")","v":""},null,null,null,{"$f":"Inventário!$E32","v":0}]
[null,24,{"$f":"IF('Cadastro de Produtos'!C28=\"\",\"\",VLOOKUP(B36,'Cadastro de Produtos'!$B$5:$C$204,2,0))","v":""},{"$f":"IFERROR(IF(C36=\"\",\"\",SUMIFS(Inventário!$N$10:$N$150,Inventário!$D$10:$D$150,Estoque!D$10,Inventário!$E$10:$E$150,Estoque!$C36)),\"ERRO\")","v":""},{"$f":"IFERROR(IF(D36=\"\",\"\",SUMIFS(Inventário!$N$10:$N$150,Inventário!$D$10:$D$150,Estoque!E$10,Inventário!$E$10:$E$150,Estoque!$C36)),\"ERRO\")","v":""},{"$f":"IFERROR(IF(E36=\"\",\"\",SUMIFS(Inventário!$N$10:$N$150,Inventário!$D$10:$D$150,Estoque!F$10,Inventário!$E$10:$E$150,Estoque!$C36)),\"ERRO\")","v":""},{"$f":"IFERROR(IF(F36=\"\",\"\",SUMIFS(Inventário!$N$10:$N$150,Inventário!$D$10:$D$150,Estoque!G$10,Inventário!$E$10:$E$150,Estoque!$C36)),\"ERRO\")","v":""},{"$f":"IFERROR(IF(G36=\"\",\"\",SUMIFS(Inventário!$N$10:$N$150,Inventário!$D$10:$D$150,Estoque!H$10,Inventário!$E$10:$E$150,Estoque!$C36)),\"ERRO\")","v":""},{"$f":"IFERROR(IF(H36=\"\",\"\",SUMIFS(Inventário!$N$10:$N$150,Inventário!$D$10:$D$150,Estoque!I$10,Inventário!$E$10:$E$150,Estoque!$C36)),\"ERRO\")","v":""},{"$f":"IFERROR(IF(I36=\"\",\"\",SUMIFS(Inventário!$N$10:$N$150,Inventário!$D$10:$D$150,Estoque!J$10,Inventário!$E$10:$E$150,Estoque!$C36)),\"ERRO\")","v":""},{"$f":"IFERROR(IF(J36=\"\",\"\",SUMIFS(Inventário!$N$10:$N$150,Inventário!$D$10:$D$150,Estoque!K$10,Inventário!$E$10:$E$150,Estoque!$C36)),\"ERRO\")","v":""},{"$f":"IFERROR(IF(K36=\"\",\"\",SUMIFS(Inventário!$N$10:$N$150,Inventário!$D$10:$D$150,Estoque!L$10,Inventário!$E$10:$E$150,Estoque!$C36)),\"ERRO\")","v":""},{"$f":"IFERROR(IF(L36=\"\",\"\",SUMIFS(Inventário!$N$10:$N$150,Inventário!$D$10:$D$150,Estoque!M$10,Inventário!$E$10:$E$150,Estoque!$C36)),\"ERRO\")","v":""},{"$f":"IFERROR(IF(M36=\"\",\"\",SUMIFS(Inventário!$N$10:$N$150,Inventário!$D$10:$D$150,Estoque!N$10,Inventário!$E$10:$E$150,Estoque!$C36)),\"ERRO\")","v":""},{"$f":"IFERROR(IF(N36=\"\",\"\",SUMIFS(Inventário!$N$10:$N$150,Inventário!$D$10:$D$150,Estoque!O$10,Inventário!$E$10:$E$150,Estoque!$C36)),\"ERRO\")","v":""},null,null,null,{"$f":"Inventário!$E33","v":0}]
[null,25,{"$f":"IF('Cadastro de Produtos'!C29=\"\",\"\",VLOOKUP(B37,'Cadastro de Produtos'!$B$5:$C$204,2,0))","v":""},{"$f":"IFERROR(IF(C37=\"\",\"\",SUMIFS(Inventário!$N$10:$N$150,Inventário!$D$10:$D$150,Estoque!D$10,Inventário!$E$10:$E$150,Estoque!$C37)),\"ERRO\")","v":""},{"$f":"IFERROR(IF(D37=\"\",\"\",SUMIFS(Inventário!$N$10:$N$150,Inventário!$D$10:$D$150,Estoque!E$10,Inventário!$E$10:$E$150,Estoque!$C37)),\"ERRO\")","v":""},{"$f":"IFERROR(IF(E37=\"\",\"\",SUMIFS(Inventário!$N$10:$N$150,Inventário!$D$10:$D$150,Estoque!F$10,Inventário!$E$10:$E$150,Estoque!$C37)),\"ERRO\")","v":""},{"$f":"IFERROR(IF(F37=\"\",\"\",SUMIFS(Inventário!$N$10:$N$150,Inventário!$D$10:$D$150,Estoque!G$10,Inventário!$E$10:$E$150,Estoque!$C37)),\"ERRO\")","v":""},{"$f":"IFERROR(IF(G37=\"\",\"\",SUMIFS(Inventário!$N$10:$N$150,Inventário!$D$10:$D$150,Estoque!H$10,Inventário!$E$10:$E$150,Estoque!$C37)),\"ERRO\")","v":""},{"$f":"IFERROR(IF(H37=\"\",\"\",SUMIFS(Inventário!$N$10:$N$150,Inventário!$D$10:$D$150,Estoque!I$10,Inventário!$E$10:$E$150,Estoque!$C37)),\"ERRO\")","v":""},{"$f":"IFERROR(IF(I37=\"\",\"\",SUMIFS(Inventário!$N$10:$N$150,Inventário!$D$10:$D$150,Estoque!J$10,Inventário!$E$10:$E$150,Estoque!$C37)),\"ERRO\")","v":""},{"$f":"IFERROR(IF(J37=\"\",\"\",SUMIFS(Inventário!$N$10:$N$150,Inventário!$D$10:$D$150,Estoque!K$10,Inventário!$E$10:$E$150,Estoque!$C37)),\"ERRO\")","v":""},{"$f":"IFERROR(IF(K37=\"\",\"\",SUMIFS(Inventário!$N$10:$N$150,Inventário!$D$10:$D$150,Estoque!L$10,Inventário!$E$10:$E$150,Estoque!$C37)),\"ERRO\")","v":""},{"$f":"IFERROR(IF(L37=\"\",\"\",SUMIFS(Inventário!$N$10:$N$150,Inventário!$D$10:$D$150,Estoque!M$10,Inventário!$E$10:$E$150,Estoque!$C37)),\"ERRO\")","v":""},{"$f":"IFERROR(IF(M37=\"\",\"\",SUMIFS(Inventário!$N$10:$N$150,Inventário!$D$10:$D$150,Estoque!N$10,Inventário!$E$10:$E$150,Estoque!$C37)),\"ERRO\")","v":""},{"$f":"IFERROR(IF(N37=\"\",\"\",SUMIFS(Inventário!$N$10:$N$150,Inventário!$D$10:$D$150,Estoque!O$10,Inventário!$E$10:$E$150,Estoque!$C37)),\"ERRO\")","v":""},null,null,null,{"$f":"Inventário!$E34","v":0}]
[null,26,{"$f":"IF('Cadastro de Produtos'!C30=\"\",\"\",VLOOKUP(B38,'Cadastro de Produtos'!$B$5:$C$204,2,0))","v":""},{"$f":"IFERROR(IF(C38=\"\",\"\",SUMIFS(Inventário!$N$10:$N$150,Inventário!$D$10:$D$150,Estoque!D$10,Inventário!$E$10:$E$150,Estoque!$C38)),\"ERRO\")","v":""},{"$f":"IFERROR(IF(D38=\"\",\"\",SUMIFS(Inventário!$N$10:$N$150,Inventário!$D$10:$D$150,Estoque!E$10,Inventário!$E$10:$E$150,Estoque!$C38)),\"ERRO\")","v":""},{"$f":"IFERROR(IF(E38=\"\",\"\",SUMIFS(Inventário!$N$10:$N$150,Inventário!$D$10:$D$150,Estoque!F$10,Inventário!$E$10:$E$150,Estoque!$C38)),\"ERRO\")","v":""},{"$f":"IFERROR(IF(F38=\"\",\"\",SUMIFS(Inventário!$N$10:$N$150,Inventário!$D$10:$D$150,Estoque!G$10,Inventário!$E$10:$E$150,Estoque!$C38)),\"ERRO\")","v":""},{"$f":"IFERROR(IF(G38=\"\",\"\",SUMIFS(Inventário!$N$10:$N$150,Inventário!$D$10:$D$150,Estoque!H$10,Inventário!$E$10:$E$150,Estoque!$C38)),\"ERRO\")","v":""},{"$f":"IFERROR(IF(H38=\"\",\"\",SUMIFS(Inventário!$N$10:$N$150,Inventário!$D$10:$D$150,Estoque!I$10,Inventário!$E$10:$E$150,Estoque!$C38)),\"ERRO\")","v":""},{"$f":"IFERROR(IF(I38=\"\",\"\",SUMIFS(Inventário!$N$10:$N$150,Inventário!$D$10:$D$150,Estoque!J$10,Inventário!$E$10:$E$150,Estoque!$C38)),\"ERRO\")","v":""},{"$f":"IFERROR(IF(J38=\"\",\"\",SUMIFS(Inventário!$N$10:$N$150,Inventário!$D$10:$D$150,Estoque!K$10,Inventário!$E$10:$E$150,Estoque!$C38)),\"ERRO\")","v":""},{"$f":"IFERROR(IF(K38=\"\",\"\",SUMIFS(Inventário!$N$10:$N$150,Inventário!$D$10:$D$150,Estoque!L$10,Inventário!$E$10:$E$150,Estoque!$C38)),\"ERRO\")","v":""},{"$f":"IFERROR(IF(L38=\"\",\"\",SUMIFS(Inventário!$N$10:$N$150,Inventário!$D$10:$D$150,Estoque!M$10,Inventário!$E$10:$E$150,Estoque!$C38)),\"ERRO\")","v":""},{"$f":"IFERROR(IF(M38=\"\",\"\",SUMIFS(Inventário!$N$10:$N$150,Inventário!$D$10:$D$150,Estoque!N$10,Inventário!$E$10:$E$150,Estoque!$C38)),\"ERRO\")","v":""},{"$f":"IFERROR(IF(N38=\"\",\"\",SUMIFS(Inventário!$N$10:$N$150,Inventário!$D$10:$D$150,Estoque!O$10,Inventário!$E$10:$E$150,Estoque!$C38)),\"ERRO\")","v":""},null,null,null,{"$f":"Inventário!$E35","v":0}]
[null,27,{"$f":"IF('Cadastro de Produtos'!C31=\"\",\"\",VLOOKUP(B39,'Cadastro de Produtos'!$B$5:$C$204,2,0))","v":""},{"$f":"IFERROR(IF(C39=\"\",\"\",SUMIFS(Inventário!$N$10:$N$150,Inventário!$D$10:$D$150,Estoque!D$10,Inventário!$E$10:$E$150,Estoque!$C39)),\"ERRO\")","v":""},{"$f":"IFERROR(IF(D39=\"\",\"\",SUMIFS(Inventário!$N$10:$N$150,Inventário!$D$10:$D$150,Estoque!E$10,Inventário!$E$10:$E$150,Estoque!$C39)),\"ERRO\")","v":""},{"$f":"IFERROR(IF(E39=\"\",\"\",SUMIFS(Inventário!$N$10:$N$150,Inventário!$D$10:$D$150,Estoque!F$10,Inventário!$E$10:$E$150,Estoque!$C39)),\"ERRO\")","v":""},{"$f":"IFERROR(IF(F39=\"\",\"\",SUMIFS(Inventário!$N$10:$N$150,Inventário!$D$10:$D$150,Estoque!G$10,Inventário!$E$10:$E$150,Estoque!$C39)),\"ERRO\")","v":""},{"$f":"IFERROR(IF(G39=\"\",\"\",SUMIFS(Inventário!$N$10:$N$150,Inventário!$D$10:$D$150,Estoque!H$10,Inventário!$E$10:$E$150,Estoque!$C39)),\"ERRO\")","v":""},{"$f":"IFERROR(IF(H39=\"\",\"\",SUMIFS(Inventário!$N$10:$N$150,Inventário!$D$10:$D$150,Estoque!I$10,Inventário!$E$10:$E$150,Estoque!$C39)),\"ERRO\")","v":""},{"$f":"IFERROR(IF(I39=\"\",\"\",SUMIFS(Inventário!$N$10:$N$150,Inventário!$D$10:$D$150,Estoque!J$10,Inventário!$E$10:$E$150,Estoque!$C39)),\"ERRO\")","v":""},{"$f":"IFERROR(IF(J39=\"\",\"\",SUMIFS(Inventário!$N$10:$N$150,Inventário!$D$10:$D$150,Estoque!K$10,Inventário!$E$10:$E$150,Estoque!$C39)),\"ERRO\")","v":""},{"$f":"IFERROR(IF(K39=\"\",\"\",SUMIFS(Inventário!$N$10:$N$150,Inventário!$D$10:$D$150,Estoque!L$10,Inventário!$E$10:$E$150,Estoque!$C39)),\"ERRO\")","v":""},{"$f":"IFERROR(IF(L39=\"\",\"\",SUMIFS(Inventário!$N$10:$N$150,Inventário!$D$10:$D$150,Estoque!M$10,Inventário!$E$10:$E$150,Estoque!$C39)),\"ERRO\")","v":""},{"$f":"IFERROR(IF(M39=\"\",\"\",SUMIFS(Inventário!$N$10:$N$150,Inventário!$D$10:$D$150,Estoque!N$10,Inventário!$E$10:$E$150,Estoque!$C39)),\"ERRO\")","v":""},{"$f":"IFERROR(IF(N39=\"\",\"\",SUMIFS(Inventário!$N$10:$N$150,Inventário!$D$10:$D$150,Estoque!O$10,Inventário!$E$10:$E$150,Estoque!$C39)),\"ERRO\")","v":""},null,null,null,{"$f":"Inventário!$E36","v":0}]
[null,28,{"$f":"IF('Cadastro de Produtos'!C32=\"\",\"\",VLOOKUP(B40,'Cadastro de Produtos'!$B$5:$C$204,2,0))","v":""},{"$f":"IFERROR(IF(C40=\"\",\"\",SUMIFS(Inventário!$N$10:$N$150,Inventário!$D$10:$D$150,Estoque!D$10,Inventário!$E$10:$E$150,Estoque!$C40)),\"ERRO\")","v":""},{"$f":"IFERROR(IF(D40=\"\",\"\",SUMIFS(Inventário!$N$10:$N$150,Inventário!$D$10:$D$150,Estoque!E$10,Inventário!$E$10:$E$150,Estoque!$C40)),\"ERRO\")","v":""},{"$f":"IFERROR(IF(E40=\"\",\"\",SUMIFS(Inventário!$N$10:$N$150,Inventário!$D$10:$D$150,Estoque!F$10,Inventário!$E$10:$E$150,Estoque!$C40)),\"ERRO\")","v":""},{"$f":"IFERROR(IF(F40=\"\",\"\",SUMIFS(Inventário!$N$10:$N$150,Inventário!$D$10:$D$150,Estoque!G$10,Inventário!$E$10:$E$150,Estoque!$C40)),\"ERRO\")","v":""},{"$f":"IFERROR(IF(G40=\"\",\"\",SUMIFS(Inventário!$N$10:$N$150,Inventário!$D$10:$D$150,Estoque!H$10,Inventário!$E$10:$E$150,Estoque!$C40)),\"ERRO\")","v":""},{"$f":"IFERROR(IF(H40=\"\",\"\",SUMIFS(Inventário!$N$10:$N$150,Inventário!$D$10:$D$150,Estoque!I$10,Inventário!$E$10:$E$150,Estoque!$C40)),\"ERRO\")","v":""},{"$f":"IFERROR(IF(I40=\"\",\"\",SUMIFS(Inventário!$N$10:$N$150,Inventário!$D$10:$D$150,Estoque!J$10,Inventário!$E$10:$E$150,Estoque!$C40)),\"ERRO\")","v":""},{"$f":"IFERROR(IF(J40=\"\",\"\",SUMIFS(Inventário!$N$10:$N$150,Inventário!$D$10:$D$150,Estoque!K$10,Inventário!$E$10:$E$150,Estoque!$C40)),\"ERRO\")","v":""},{"$f":"IFERROR(IF(K40=\"\",\"\",SUMIFS(Inventário!$N$10:$N$150,Inventário!$D$10:$D$150,Estoque!L$10,Inventário!$E$10:$E$150,Estoque!$C40)),\"ERRO\")","v":""},{"$f":"IFERROR(IF(L40=\"\",\"\",SUMIFS(Inventário!$N$10:$N$150,Inventário!$D$10:$D$150,Estoque!M$10,Inventário!$E$10:$E$150,Estoque!$C40)),\"ERRO\")","v":""},{"$f":"IFERROR(IF(M40=\"\",\"\",SUMIFS(Inventário!$N$10:$N$150,Inventário!$D$10:$D$150,Estoque!N$10,Inventário!$E$10:$E$150,Estoque!$C40)),\"ERRO\")","v":""},{"$f":"IFERROR(IF(N40=\"\",\"\",SUMIFS(Inventário!$N$10:$N$150,Inventário!$D$10:$D$150,Estoque!O$10,Inventário!$E$10:$E$150,Estoque!$C40)),\"ERRO\")","v":""},null,null,null,{"$f":"Inventário!$E37","v":0}]
[null,29,{"$f":"IF('Cadastro de Produtos'!C33=\"\",\"\",VLOOKUP(B41,'Cadastro de Produtos'!$B$5:$C$204,2,0))","v":""},{"$f":"IFERROR(IF(C41=\"\",\"\",SUMIFS(Inventário!$N$10:$N$150,Inventário!$D$10:$D$150,Estoque!D$10,Inventário!$E$10:$E$150,Estoque!$C41)),\"ERRO\")","v":""},{"$f":"IFERROR(IF(D41=\"\",\"\",SUMIFS(Inventário!$N$10:$N$150,Inventário!$D$10:$D$150,Estoque!E$10,Inventário!$E$10:$E$150,Estoque!$C41)),\"ERRO\")","v":""},{"$f":"IFERROR(IF(E41=\"\",\"\",SUMIFS(Inventário!$N$10:$N$150,Inventário!$D$10:$D$150,Estoque!F$10,Inventário!$E$10:$E$150,Estoque!$C41)),\"ERRO\")","v":""},{"$f":"IFERROR(IF(F41=\"\",\"\",SUMIFS(Inventário!$N$10:$N$150,Inventário!$D$10:$D$150,Estoque!G$10,Inventário!$E$10:$E$150,Estoque!$C41)),\"ERRO\")","v":""},{"$f":"IFERROR(IF(G41=\"\",\"\",SUMIFS(Inventário!$N$10:$N$150,Inventário!$D$10:$D$150,Estoque!H$10,Inventário!$E$10:$E$150,Estoque!$C41)),\"ERRO\")","v":""},{"$f":"IFERROR(IF(H41=\"\",\"\",SUMIFS(Inventário!$N$10:$N$150,Inventário!$D$10:$D$150,Estoque!I$10,Inventário!$E$10:$E$150,Estoque!$C41)),\"ERRO\")","v":""},{"$f":"IFERROR(IF(I41=\"\",\"\",SUMIFS(Inventário!$N$10:$N$150,Inventário!$D$10:$D$150,Estoque!J$10,Inventário!$E$10:$E$150,Estoque!$C41)),\"ERRO\")","v":""},{"$f":"IFERROR(IF(J41=\"\",\"\",SUMIFS(Inventário!$N$10:$N$150,Inventário!$D$10:$D$150,Estoque!K$10,Inventário!$E$10:$E$150,Estoque!$C41)),\"ERRO\")","v":""},{"$f":"IFERROR(IF(K41=\"\",\"\",SUMIFS(Inventário!$N$10:$N$150,Inventário!$D$10:$D$150,Estoque!L$10,Inventário!$E$10:$E$150,Estoque!$C41)),\"ERRO\")","v":""},{"$f":"IFERROR(IF(L41=\"\",\"\",SUMIFS(Inventário!$N$10:$N$150,Inventário!$D$10:$D$150,Estoque!M$10,Inventário!$E$10:$E$150,Estoque!$C41)),\"ERRO\")","v":""},{"$f":"IFERROR(IF(M41=\"\",\"\",SUMIFS(Inventário!$N$10:$N$150,Inventário!$D$10:$D$150,Estoque!N$10,Inventário!$E$10:$E$150,Estoque!$C41)),\"ERRO\")","v":""},{"$f":"IFERROR(IF(N41=\"\",\"\",SUMIFS(Inventário!$N$10:$N$150,Inventário!$D$10:$D$150,Estoque!O$10,Inventário!$E$10:$E$150,Estoque!$C41)),\"ERRO\")","v":""},null,null,null,{"$f":"Inventário!$E38","v":0}]
[null,30,{"$f":"IF('Cadastro de Produtos'!C34=\"\",\"\",VLOOKUP(B42,'Cadastro de Produtos'!$B$5:$C$204,2,0))","v":""},{"$f":"IFERROR(IF(C42=\"\",\"\",SUMIFS(Inventário!$N$10:$N$150,Inventário!$D$10:$D$150,Estoque!D$10,Inventário!$E$10:$E$150,Estoque!$C42)),\"ERRO\")","v":""},{"$f":"IFERROR(IF(D42=\"\",\"\",SUMIFS(Inventário!$N$10:$N$150,Inventário!$D$10:$D$150,Estoque!E$10,Inventário!$E$10:$E$150,Estoque!$C42)),\"ERRO\")","v":""},{"$f":"IFERROR(IF(E42=\"\",\"\",SUMIFS(Inventário!$N$10:$N$150,Inventário!$D$10:$D$150,Estoque!F$10,Inventário!$E$10:$E$150,Estoque!$C42)),\"ERRO\")","v":""},{"$f":"IFERROR(IF(F42=\"\",\"\",SUMIFS(Inventário!$N$10:$N$150,Inventário!$D$10:$D$150,Estoque!G$10,Inventário!$E$10:$E$150,Estoque!$C42)),\"ERRO\")","v":""},{"$f":"IFERROR(IF(G42=\"\",\"\",SUMIFS(Inventário!$N$10:$N$150,Inventário!$D$10:$D$150,Estoque!H$10,Inventário!$E$10:$E$150,Estoque!$C42)),\"ERRO\")","v":""},{"$f":"IFERROR(IF(H42=\"\",\"\",SUMIFS(Inventário!$N$10:$N$150,Inventário!$D$10:$D$150,Estoque!I$10,Inventário!$E$10:$E$150,Estoque!$C42)),\"ERRO\")","v":""},{"$f":"IFERROR(IF(I42=\"\",\"\",SUMIFS(Inventário!$N$10:$N$150,Inventário!$D$10:$D$150,Estoque!J$10,Inventário!$E$10:$E$150,Estoque!$C42)),\"ERRO\")","v":""},{"$f":"IFERROR(IF(J42=\"\",\"\",SUMIFS(Inventário!$N$10:$N$150,Inventário!$D$10:$D$150,Estoque!K$10,Inventário!$E$10:$E$150,Estoque!$C42)),\"ERRO\")","v":""},{"$f":"IFERROR(IF(K42=\"\",\"\",SUMIFS(Inventário!$N$10:$N$150,Inventário!$D$10:$D$150,Estoque!L$10,Inventário!$E$10:$E$150,Estoque!$C42)),\"ERRO\")","v":""},{"$f":"IFERROR(IF(L42=\"\",\"\",SUMIFS(Inventário!$N$10:$N$150,Inventário!$D$10:$D$150,Estoque!M$10,Inventário!$E$10:$E$150,Estoque!$C42)),\"ERRO\")","v":""},{"$f":"IFERROR(IF(M42=\"\",\"\",SUMIFS(Inventário!$N$10:$N$150,Inventário!$D$10:$D$150,Estoque!N$10,Inventário!$E$10:$E$150,Estoque!$C42)),\"ERRO\")","v":""},{"$f":"IFERROR(IF(N42=\"\",\"\",SUMIFS(Inventário!$N$10:$N$150,Inventário!$D$10:$D$150,Estoque!O$10,Inventário!$E$10:$E$150,Estoque!$C42)),\"ERRO\")","v":""},null,null,null,{"$f":"Inventário!$E39","v":0}]
[null,31,{"$f":"IF('Cadastro de Produtos'!C35=\"\",\"\",VLOOKUP(B43,'Cadastro de Produtos'!$B$5:$C$204,2,0))","v":""},{"$f":"IFERROR(IF(C43=\"\",\"\",SUMIFS(Inventário!$N$10:$N$150,Inventário!$D$10:$D$150,Estoque!D$10,Inventário!$E$10:$E$150,Estoque!$C43)),\"ERRO\")","v":""},{"$f":"IFERROR(IF(D43=\"\",\"\",SUMIFS(Inventário!$N$10:$N$150,Inventário!$D$10:$D$150,Estoque!E$10,Inventário!$E$10:$E$150,Estoque!$C43)),\"ERRO\")","v":""},{"$f":"IFERROR(IF(E43=\"\",\"\",SUMIFS(Inventário!$N$10:$N$150,Inventário!$D$10:$D$150,Estoque!F$10,Inventário!$E$10:$E$150,Estoque!$C43)),\"ERRO\")","v":""},{"$f":"IFERROR(IF(F43=\"\",\"\",SUMIFS(Inventário!$N$10:$N$150,Inventário!$D$10:$D$150,Estoque!G$10,Inventário!$E$10:$E$150,Estoque!$C43)),\"ERRO\")","v":""},{"$f":"IFERROR(IF(G43=\"\",\"\",SUMIFS(Inventário!$N$10:$N$150,Inventário!$D$10:$D$150,Estoque!H$10,Inventário!$E$10:$E$150,Estoque!$C43)),\"ERRO\")","v":""},{"$f":"IFERROR(IF(H43=\"\",\"\",SUMIFS(Inventário!$N$10:$N$150,Inventário!$D$10:$D$150,Estoque!I$10,Inventário!$E$10:$E$150,Estoque!$C43)),\"ERRO\")","v":""},{"$f":"IFERROR(IF(I43=\"\",\"\",SUMIFS(Inventário!$N$10:$N$150,Inventário!$D$10:$D$150,Estoque!J$10,Inventário!$E$10:$E$150,Estoque!$C43)),\"ERRO\")","v":""},{"$f":"IFERROR(IF(J43=\"\",\"\",SUMIFS(Inventário!$N$10:$N$150,Inventário!$D$10:$D$150,Estoque!K$10,Inventário!$E$10:$E$150,Estoque!$C43)),\"ERRO\")","v":""},{"$f":"IFERROR(IF(K43=\"\",\"\",SUMIFS(Inventário!$N$10:$N$150,Inventário!$D$10:$D$150,Estoque!L$10,Inventário!$E$10:$E$150,Estoque!$C43)),\"ERRO\")","v":""},{"$f":"IFERROR(IF(L43=\"\",\"\",SUMIFS(Inventário!$N$10:$N$150,Inventário!$D$10:$D$150,Estoque!M$10,Inventário!$E$10:$E$150,Estoque!$C43)),\"ERRO\")","v":""},{"$f":"IFERROR(IF(M43=\"\",\"\",SUMIFS(Inventário!$N$10:$N$150,Inventário!$D$10:$D$150,Estoque!N$10,Inventário!$E$10:$E$150,Estoque!$C43)),\"ERRO\")","v":""},{"$f":"IFERROR(IF(N43=\"\",\"\",SUMIFS(Inventário!$N$10:$N$150,Inventário!$D$10:$D$150,Estoque!O$10,Inventário!$E$10:$E$150,Estoque!$C43)),\"ERRO\")","v":""},null,null,null,{"$f":"Inventário!$E40","v":0}]
[null,32,{"$f":"IF('Cadastro de Produtos'!C36=\"\",\"\",VLOOKUP(B44,'Cadastro de Produtos'!$B$5:$C$204,2,0))","v":""},{"$f":"IFERROR(IF(C44=\"\",\"\",SUMIFS(Inventário!$N$10:$N$150,Inventário!$D$10:$D$150,Estoque!D$10,Inventário!$E$10:$E$150,Estoque!$C44)),\"ERRO\")","v":""},{"$f":"IFERROR(IF(D44=\"\",\"\",SUMIFS(Inventário!$N$10:$N$150,Inventário!$D$10:$D$150,Estoque!E$10,Inventário!$E$10:$E$150,Estoque!$C44)),\"ERRO\")","v":""},{"$f":"IFERROR(IF(E44=\"\",\"\",SUMIFS(Inventário!$N$10:$N$150,Inventário!$D$10:$D$150,Estoque!F$10,Inventário!$E$10:$E$150,Estoque!$C44)),\"ERRO\")","v":""},{"$f":"IFERROR(IF(F44=\"\",\"\",SUMIFS(Inventário!$N$10:$N$150,Inventário!$D$10:$D$150,Estoque!G$10,Inventário!$E$10:$E$150,Estoque!$C44)),\"ERRO\")","v":""},{"$f":"IFERROR(IF(G44=\"\",\"\",SUMIFS(Inventário!$N$10:$N$150,Inventário!$D$10:$D$150,Estoque!H$10,Inventário!$E$10:$E$150,Estoque!$C44)),\"ERRO\")","v":""},{"$f":"IFERROR(IF(H44=\"\",\"\",SUMIFS(Inventário!$N$10:$N$150,Inventário!$D$10:$D$150,Estoque!I$10,Inventário!$E$10:$E$150,Estoque!$C44)),\"ERRO\")","v":""},{"$f":"IFERROR(IF(I44=\"\",\"\",SUMIFS(Inventário!$N$10:$N$150,Inventário!$D$10:$D$150,Estoque!J$10,Inventário!$E$10:$E$150,Estoque!$C44)),\"ERRO\")","v":""},{"$f":"IFERROR(IF(J44=\"\",\"\",SUMIFS(Inventário!$N$10:$N$150,Inventário!$D$10:$D$150,Estoque!K$10,Inventário!$E$10:$E$150,Estoque!$C44)),\"ERRO\")","v":""},{"$f":"IFERROR(IF(K44=\"\",\"\",SUMIFS(Inventário!$N$10:$N$150,Inventário!$D$10:$D$150,Estoque!L$10,Inventário!$E$10:$E$150,Estoque!$C44)),\"ERRO\")","v":""},{"$f":"IFERROR(IF(L44=\"\",\"\",SUMIFS(Inventário!$N$10:$N$150,Inventário!$D$10:$D$150,Estoque!M$10,Inventário!$E$10:$E$150,Estoque!$C44)),\"ERRO\")","v":""},{"$f":"IFERROR(IF(M44=\"\",\"\",SUMIFS(Inventário!$N$10:$N$150,Inventário!$D$10:$D$150,Estoque!N$10,Inventário!$E$10:$E$150,Estoque!$C44)),\"ERRO\")","v":""},{"$f":"IFERROR(IF(N44=\"\",\"\",SUMIFS(Inventário!$N$10:$N$150,Inventário!$D$10:$D$150,Estoque!O$10,Inventário!$E$10:$E$150,Estoque!$C44)),\"ERRO\")","v":""},null,null,null,{"$f":"Inventário!$E41","v":0}]
[null,33,{"$f":"IF('Cadastro de Produtos'!C37=\"\",\"\",VLOOKUP(B45,'Cadastro de Produtos'!$B$5:$C$204,2,0))","v":""},{"$f":"IFERROR(IF(C45=\"\",\"\",SUMIFS(Inventário!$N$10:$N$150,Inventário!$D$10:$D$150,Estoque!D$10,Inventário!$E$10:$E$150,Estoque!$C45)),\"ERRO\")","v":""},{"$f":"IFERROR(IF(D45=\"\",\"\",SUMIFS(Inventário!$N$10:$N$150,Inventário!$D$10:$D$150,Estoque!E$10,Inventário!$E$10:$E$150,Estoque!$C45)),\"ERRO\")","v":""},{"$f":"IFERROR(IF(E45=\"\",\"\",SUMIFS(Inventário!$N$10:$N$150,Inventário!$D$10:$D$150,Estoque!F$10,Inventário!$E$10:$E$150,Estoque!$C45)),\"ERRO\")","v":""},{"$f":"IFERROR(IF(F45=\"\",\"\",SUMIFS(Inventário!$N$10:$N$150,Inventário!$D$10:$D$150,Estoque!G$10,Inventário!$E$10:$E$150,Estoque!$C45)),\"ERRO\")","v":""},{"$f":"IFERROR(IF(G45=\"\",\"\",SUMIFS(Inventário!$N$10:$N$150,Inventário!$D$10:$D$150,Estoque!H$10,Inventário!$E$10:$E$150,Estoque!$C45)),\"ERRO\")","v":""},{"$f":"IFERROR(IF(H45=\"\",\"\",SUMIFS(Inventário!$N$10:$N$150,Inventário!$D$10:$D$150,Estoque!I$10,Inventário!$E$10:$E$150,Estoque!$C45)),\"ERRO\")","v":""},{"$f":"IFERROR(IF(I45=\"\",\"\",SUMIFS(Inventário!$N$10:$N$150,Inventário!$D$10:$D$150,Estoque!J$10,Inventário!$E$10:$E$150,Estoque!$C45)),\"ERRO\")","v":""},{"$f":"IFERROR(IF(J45=\"\",\"\",SUMIFS(Inventário!$N$10:$N$150,Inventário!$D$10:$D$150,Estoque!K$10,Inventário!$E$10:$E$150,Estoque!$C45)),\"ERRO\")","v":""},{"$f":"IFERROR(IF(K45=\"\",\"\",SUMIFS(Inventário!$N$10:$N$150,Inventário!$D$10:$D$150,Estoque!L$10,Inventário!$E$10:$E$150,Estoque!$C45)),\"ERRO\")","v":""},{"$f":"IFERROR(IF(L45=\"\",\"\",SUMIFS(Inventário!$N$10:$N$150,Inventário!$D$10:$D$150,Estoque!M$10,Inventário!$E$10:$E$150,Estoque!$C45)),\"ERRO\")","v":""},{"$f":"IFERROR(IF(M45=\"\",\"\",SUMIFS(Inventário!$N$10:$N$150,Inventário!$D$10:$D$150,Estoque!N$10,Inventário!$E$10:$E$150,Estoque!$C45)),\"ERRO\")","v":""},{"$f":"IFERROR(IF(N45=\"\",\"\",SUMIFS(Inventário!$N$10:$N$150,Inventário!$D$10:$D$150,Estoque!O$10,Inventário!$E$10:$E$150,Estoque!$C45)),\"ERRO\")","v":""},null,null,null,{"$f":"Inventário!$E42","v":0}]
[null,34,{"$f":"IF('Cadastro de Produtos'!C38=\"\",\"\",VLOOKUP(B46,'Cadastro de Produtos'!$B$5:$C$204,2,0))","v":""},{"$f":"IFERROR(IF(C46=\"\",\"\",SUMIFS(Inventário!$N$10:$N$150,Inventário!$D$10:$D$150,Estoque!D$10,Inventário!$E$10:$E$150,Estoque!$C46)),\"ERRO\")","v":""},{"$f":"IFERROR(IF(D46=\"\",\"\",SUMIFS(Inventário!$N$10:$N$150,Inventário!$D$10:$D$150,Estoque!E$10,Inventário!$E$10:$E$150,Estoque!$C46)),\"ERRO\")","v":""},{"$f":"IFERROR(IF(E46=\"\",\"\",SUMIFS(Inventário!$N$10:$N$150,Inventário!$D$10:$D$150,Estoque!F$10,Inventário!$E$10:$E$150,Estoque!$C46)),\"ERRO\")","v":""},{"$f":"IFERROR(IF(F46=\"\",\"\",SUMIFS(Inventário!$N$10:$N$150,Inventário!$D$10:$D$150,Estoque!G$10,Inventário!$E$10:$E$150,Estoque!$C46)),\"ERRO\")","v":""},{"$f":"IFERROR(IF(G46=\"\",\"\",SUMIFS(Inventário!$N$10:$N$150,Inventário!$D$10:$D$150,Estoque!H$10,Inventário!$E$10:$E$150,Estoque!$C46)),\"ERRO\")","v":""},{"$f":"IFERROR(IF(H46=\"\",\"\",SUMIFS(Inventário!$N$10:$N$150,Inventário!$D$10:$D$150,Estoque!I$10,Inventário!$E$10:$E$150,Estoque!$C46)),\"ERRO\")","v":""},{"$f":"IFERROR(IF(I46=\"\",\"\",SUMIFS(Inventário!$N$10:$N$150,Inventário!$D$10:$D$150,Estoque!J$10,Inventário!$E$10:$E$150,Estoque!$C46)),\"ERRO\")","v":""},{"$f":"IFERROR(IF(J46=\"\",\"\",SUMIFS(Inventário!$N$10:$N$150,Inventário!$D$10:$D$150,Estoque!K$10,Inventário!$E$10:$E$150,Estoque!$C46)),\"ERRO\")","v":""},{"$f":"IFERROR(IF(K46=\"\",\"\",SUMIFS(Inventário!$N$10:$N$150,Inventário!$D$10:$D$150,Estoque!L$10,Inventário!$E$10:$E$150,Estoque!$C46)),\"ERRO\")","v":""},{"$f":"IFERROR(IF(L46=\"\",\"\",SUMIFS(Inventário!$N$10:$N$150,Inventário!$D$10:$D$150,Estoque!M$10,Inventário!$E$10:$E$150,Estoque!$C46)),\"ERRO\")","v":""},{"$f":"IFERROR(IF(M46=\"\",\"\",SUMIFS(Inventário!$N$10:$N$150,Inventário!$D$10:$D$150,Estoque!N$10,Inventário!$E$10:$E$150,Estoque!$C46)),\"ERRO\")","v":""},{"$f":"IFERROR(IF(N46=\"\",\"\",SUMIFS(Inventário!$N$10:$N$150,Inventário!$D$10:$D$150,Estoque!O$10,Inventário!$E$10:$E$150,Estoque!$C46)),\"ERRO\")","v":""},null,null,null,{"$f":"Inventário!$E43","v":0}]
[null,35,{"$f":"IF('Cadastro de Produtos'!C39=\"\",\"\",VLOOKUP(B47,'Cadastro de Produtos'!$B$5:$C$204,2,0))","v":""},{"$f":"IFERROR(IF(C47=\"\",\"\",SUMIFS(Inventário!$N$10:$N$150,Inventário!$D$10:$D$150,Estoque!D$10,Inventário!$E$10:$E$150,Estoque!$C47)),\"ERRO\")","v":""},{"$f":"IFERROR(IF(D47=\"\",\"\",SUMIFS(Inventário!$N$10:$N$150,Inventário!$D$10:$D$150,Estoque!E$10,Inventário!$E$10:$E$150,Estoque!$C47)),\"ERRO\")","v":""},{"$f":"IFERROR(IF(E47=\"\",\"\",SUMIFS(Inventário!$N$10:$N$150,Inventário!$D$10:$D$150,Estoque!F$10,Inventário!$E$10:$E$150,Estoque!$C47)),\"ERRO\")","v":""},{"$f":"IFERROR(IF(F47=\"\",\"\",SUMIFS(Inventário!$N$10:$N$150,Inventário!$D$10:$D$150,Estoque!G$10,Inventário!$E$10:$E$150,Estoque!$C47)),\"ERRO\")","v":""},{"$f":"IFERROR(IF(G47=\"\",\"\",SUMIFS(Inventário!$N$10:$N$150,Inventário!$D$10:$D$150,Estoque!H$10,Inventário!$E$10:$E$150,Estoque!$C47)),\"ERRO\")","v":""},{"$f":"IFERROR(IF(H47=\"\",\"\",SUMIFS(Inventário!$N$10:$N$150,Inventário!$D$10:$D$150,Estoque!I$10,Inventário!$E$10:$E$150,Estoque!$C47)),\"ERRO\")","v":""},{"$f":"IFERROR(IF(I47=\"\",\"\",SUMIFS(Inventário!$N$10:$N$150,Inventário!$D$10:$D$150,Estoque!J$10,Inventário!$E$10:$E$150,Estoque!$C47)),\"ERRO\")","v":""},{"$f":"IFERROR(IF(J47=\"\",\"\",SUMIFS(Inventário!$N$10:$N$150,Inventário!$D$10:$D$150,Estoque!K$10,Inventário!$E$10:$E$150,Estoque!$C47)),\"ERRO\")","v":""},{"$f":"IFERROR(IF(K47=\"\",\"\",SUMIFS(Inventário!$N$10:$N$150,Inventário!$D$10:$D$150,Estoque!L$10,Inventário!$E$10:$E$150,Estoque!$C47)),\"ERRO\")","v":""},{"$f":"IFERROR(IF(L47=\"\",\"\",SUMIFS(Inventário!$N$10:$N$150,Inventário!$D$10:$D$150,Estoque!M$10,Inventário!$E$10:$E$150,Estoque!$C47)),\"ERRO\")","v":""},{"$f":"IFERROR(IF(M47=\"\",\"\",SUMIFS(Inventário!$N$10:$N$150,Inventário!$D$10:$D$150,Estoque!N$10,Inventário!$E$10:$E$150,Estoque!$C47)),\"ERRO\")","v":""},{"$f":"IFERROR(IF(N47=\"\",\"\",SUMIFS(Inventário!$N$10:$N$150,Inventário!$D$10:$D$150,Estoque!O$10,Inventário!$E$10:$E$150,Estoque!$C47)),\"ERRO\")","v":""},null,null,null,{"$f":"Inventário!$E44","v":0}]
[null,36,{"$f":"IF('Cadastro de Produtos'!C40=\"\",\"\",VLOOKUP(B48,'Cadastro de Produtos'!$B$5:$C$204,2,0))","v":""},{"$f":"IFERROR(IF(C48=\"\",\"\",SUMIFS(Inventário!$N$10:$N$150,Inventário!$D$10:$D$150,Estoque!D$10,Inventário!$E$10:$E$150,Estoque!$C48)),\"ERRO\")","v":""},{"$f":"IFERROR(IF(D48=\"\",\"\",SUMIFS(Inventário!$N$10:$N$150,Inventário!$D$10:$D$150,Estoque!E$10,Inventário!$E$10:$E$150,Estoque!$C48)),\"ERRO\")","v":""},{"$f":"IFERROR(IF(E48=\"\",\"\",SUMIFS(Inventário!$N$10:$N$150,Inventário!$D$10:$D$150,Estoque!F$10,Inventário!$E$10:$E$150,Estoque!$C48)),\"ERRO\")","v":""},{"$f":"IFERROR(IF(F48=\"\",\"\",SUMIFS(Inventário!$N$10:$N$150,Inventário!$D$10:$D$150,Estoque!G$10,Inventário!$E$10:$E$150,Estoque!$C48)),\"ERRO\")","v":""},{"$f":"IFERROR(IF(G48=\"\",\"\",SUMIFS(Inventário!$N$10:$N$150,Inventário!$D$10:$D$150,Estoque!H$10,Inventário!$E$10:$E$150,Estoque!$C48)),\"ERRO\")","v":""},{"$f":"IFERROR(IF(H48=\"\",\"\",SUMIFS(Inventário!$N$10:$N$150,Inventário!$D$10:$D$150,Estoque!I$10,Inventário!$E$10:$E$150,Estoque!$C48)),\"ERRO\")","v":""},{"$f":"IFERROR(IF(I48=\"\",\"\",SUMIFS(Inventário!$N$10:$N$150,Inventário!$D$10:$D$150,Estoque!J$10,Inventário!$E$10:$E$150,Estoque!$C48)),\"ERRO\")","v":""},{"$f":"IFERROR(IF(J48=\"\",\"\",SUMIFS(Inventário!$N$10:$N$150,Inventário!$D$10:$D$150,Estoque!K$10,Inventário!$E$10:$E$150,Estoque!$C48)),\"ERRO\")","v":""},{"$f":"IFERROR(IF(K48=\"\",\"\",SUMIFS(Inventário!$N$10:$N$150,Inventário!$D$10:$D$150,Estoque!L$10,Inventário!$E$10:$E$150,Estoque!$C48)),\"ERRO\")","v":""},{"$f":"IFERROR(IF(L48=\"\",\"\",SUMIFS(Inventário!$N$10:$N$150,Inventário!$D$10:$D$150,Estoque!M$10,Inventário!$E$10:$E$150,Estoque!$C48)),\"ERRO\")","v":""},{"$f":"IFERROR(IF(M48=\"\",\"\",SUMIFS(Inventário!$N$10:$N$150,Inventário!$D$10:$D$150,Estoque!N$10,Inventário!$E$10:$E$150,Estoque!$C48)),\"ERRO\")","v":""},{"$f":"IFERROR(IF(N48=\"\",\"\",SUMIFS(Inventário!$N$10:$N$150,Inventário!$D$10:$D$150,Estoque!O$10,Inventário!$E$10:$E$150,Estoque!$C48)),\"ERRO\")","v":""},null,null,null,{"$f":"Inventário!$E45","v":0}]
[null,37,{"$f":"IF('Cadastro de Produtos'!C41=\"\",\"\",VLOOKUP(B49,'Cadastro de Produtos'!$B$5:$C$204,2,0))","v":""},{"$f":"IFERROR(IF(C49=\"\",\"\",SUMIFS(Inventário!$N$10:$N$150,Inventário!$D$10:$D$150,Estoque!D$10,Inventário!$E$10:$E$150,Estoque!$C49)),\"ERRO\")","v":""},{"$f":"IFERROR(IF(D49=\"\",\"\",SUMIFS(Inventário!$N$10:$N$150,Inventário!$D$10:$D$150,Estoque!E$10,Inventário!$E$10:$E$150,Estoque!$C49)),\"ERRO\")","v":""},{"$f":"IFERROR(IF(E49=\"\",\"\",SUMIFS(Inventário!$N$10:$N$150,Inventário!$D$10:$D$150,Estoque!F$10,Inventário!$E$10:$E$150,Estoque!$C49)),\"ERRO\")","v":""},{"$f":"IFERROR(IF(F49=\"\",\"\",SUMIFS(Inventário!$N$10:$N$150,Inventário!$D$10:$D$150,Estoque!G$10,Inventário!$E$10:$E$150,Estoque!$C49)),\"ERRO\")","v":""},{"$f":"IFERROR(IF(G49=\"\",\"\",SUMIFS(Inventário!$N$10:$N$150,Inventário!$D$10:$D$150,Estoque!H$10,Inventário!$E$10:$E$150,Estoque!$C49)),\"ERRO\")","v":""},{"$f":"IFERROR(IF(H49=\"\",\"\",SUMIFS(Inventário!$N$10:$N$150,Inventário!$D$10:$D$150,Estoque!I$10,Inventário!$E$10:$E$150,Estoque!$C49)),\"ERRO\")","v":""},{"$f":"IFERROR(IF(I49=\"\",\"\",SUMIFS(Inventário!$N$10:$N$150,Inventário!$D$10:$D$150,Estoque!J$10,Inventário!$E$10:$E$150,Estoque!$C49)),\"ERRO\")","v":""},{"$f":"IFERROR(IF(J49=\"\",\"\",SUMIFS(Inventário!$N$10:$N$150,Inventário!$D$10:$D$150,Estoque!K$10,Inventário!$E$10:$E$150,Estoque!$C49)),\"ERRO\")","v":""},{"$f":"IFERROR(IF(K49=\"\",\"\",SUMIFS(Inventário!$N$10:$N$150,Inventário!$D$10:$D$150,Estoque!L$10,Inventário!$E$10:$E$150,Estoque!$C49)),\"ERRO\")","v":""},{"$f":"IFERROR(IF(L49=\"\",\"\",SUMIFS(Inventário!$N$10:$N$150,Inventário!$D$10:$D$150,Estoque!M$10,Inventário!$E$10:$E$150,Estoque!$C49)),\"ERRO\")","v":""},{"$f":"IFERROR(IF(M49=\"\",\"\",SUMIFS(Inventário!$N$10:$N$150,Inventário!$D$10:$D$150,Estoque!N$10,Inventário!$E$10:$E$150,Estoque!$C49)),\"ERRO\")","v":""},{"$f":"IFERROR(IF(N49=\"\",\"\",SUMIFS(Inventário!$N$10:$N$150,Inventário!$D$10:$D$150,Estoque!O$10,Inventário!$E$10:$E$150,Estoque!$C49)),\"ERRO\")","v":""},null,null,null,{"$f":"Inventário!$E46","v":0}]
[null,38,{"$f":"IF('Cadastro de Produtos'!C42=\"\",\"\",VLOOKUP(B50,'Cadastro de Produtos'!$B$5:$C$204,2,0))","v":""},{"$f":"IFERROR(IF(C50=\"\",\"\",SUMIFS(Inventário!$N$10:$N$150,Inventário!$D$10:$D$150,Estoque!D$10,Inventário!$E$10:$E$150,Estoque!$C50)),\"ERRO\")","v":""},{"$f":"IFERROR(IF(D50=\"\",\"\",SUMIFS(Inventário!$N$10:$N$150,Inventário!$D$10:$D$150,Estoque!E$10,Inventário!$E$10:$E$150,Estoque!$C50)),\"ERRO\")","v":""},{"$f":"IFERROR(IF(E50=\"\",\"\",SUMIFS(Inventário!$N$10:$N$150,Inventário!$D$10:$D$150,Estoque!F$10,Inventário!$E$10:$E$150,Estoque!$C50)),\"ERRO\")","v":""},{"$f":"IFERROR(IF(F50=\"\",\"\",SUMIFS(Inventário!$N$10:$N$150,Inventário!$D$10:$D$150,Estoque!G$10,Inventário!$E$10:$E$150,Estoque!$C50)),\"ERRO\")","v":""},{"$f":"IFERROR(IF(G50=\"\",\"\",SUMIFS(Inventário!$N$10:$N$150,Inventário!$D$10:$D$150,Estoque!H$10,Inventário!$E$10:$E$150,Estoque!$C50)),\"ERRO\")","v":""},{"$f":"IFERROR(IF(H50=\"\",\"\",SUMIFS(Inventário!$N$10:$N$150,Inventário!$D$10:$D$150,Estoque!I$10,Inventário!$E$10:$E$150,Estoque!$C50)),\"ERRO\")","v":""},{"$f":"IFERROR(IF(I50=\"\",\"\",SUMIFS(Inventário!$N$10:$N$150,Inventário!$D$10:$D$150,Estoque!J$10,Inventário!$E$10:$E$150,Estoque!$C50)),\"ERRO\")","v":""},{"$f":"IFERROR(IF(J50=\"\",\"\",SUMIFS(Inventário!$N$10:$N$150,Inventário!$D$10:$D$150,Estoque!K$10,Inventário!$E$10:$E$150,Estoque!$C50)),\"ERRO\")","v":""},{"$f":"IFERROR(IF(K50=\"\",\"\",SUMIFS(Inventário!$N$10:$N$150,Inventário!$D$10:$D$150,Estoque!L$10,Inventário!$E$10:$E$150,Estoque!$C50)),\"ERRO\")","v":""},{"$f":"IFERROR(IF(L50=\"\",\"\",SUMIFS(Inventário!$N$10:$N$150,Inventário!$D$10:$D$150,Estoque!M$10,Inventário!$E$10:$E$150,Estoque!$C50)),\"ERRO\")","v":""},{"$f":"IFERROR(IF(M50=\"\",\"\",SUMIFS(Inventário!$N$10:$N$150,Inventário!$D$10:$D$150,Estoque!N$10,Inventário!$E$10:$E$150,Estoque!$C50)),\"ERRO\")","v":""},{"$f":"IFERROR(IF(N50=\"\",\"\",SUMIFS(Inventário!$N$10:$N$150,Inventário!$D$10:$D$150,Estoque!O$10,Inventário!$E$10:$E$150,Estoque!$C50)),\"ERRO\")","v":""},null,null,null,{"$f":"Inventário!$E47","v":0}]
[null,39,{"$f":"IF('Cadastro de Produtos'!C43=\"\",\"\",VLOOKUP(B51,'Cadastro de Produtos'!$B$5:$C$204,2,0))","v":""},{"$f":"IFERROR(IF(C51=\"\",\"\",SUMIFS(Inventário!$N$10:$N$150,Inventário!$D$10:$D$150,Estoque!D$10,Inventário!$E$10:$E$150,Estoque!$C51)),\"ERRO\")","v":""},{"$f":"IFERROR(IF(D51=\"\",\"\",SUMIFS(Inventário!$N$10:$N$150,Inventário!$D$10:$D$150,Estoque!E$10,Inventário!$E$10:$E$150,Estoque!$C51)),\"ERRO\")","v":""},{"$f":"IFERROR(IF(E51=\"\",\"\",SUMIFS(Inventário!$N$10:$N$150,Inventário!$D$10:$D$150,Estoque!F$10,Inventário!$E$10:$E$150,Estoque!$C51)),\"ERRO\")","v":""},{"$f":"IFERROR(IF(F51=\"\",\"\",SUMIFS(Inventário!$N$10:$N$150,Inventário!$D$10:$D$150,Estoque!G$10,Inventário!$E$10:$E$150,Estoque!$C51)),\"ERRO\")","v":""},{"$f":"IFERROR(IF(G51=\"\",\"\",SUMIFS(Inventário!$N$10:$N$150,Inventário!$D$10:$D$150,Estoque!H$10,Inventário!$E$10:$E$150,Estoque!$C51)),\"ERRO\")","v":""},{"$f":"IFERROR(IF(H51=\"\",\"\",SUMIFS(Inventário!$N$10:$N$150,Inventário!$D$10:$D$150,Estoque!I$10,Inventário!$E$10:$E$150,Estoque!$C51)),\"ERRO\")","v":""},{"$f":"IFERROR(IF(I51=\"\",\"\",SUMIFS(Inventário!$N$10:$N$150,Inventário!$D$10:$D$150,Estoque!J$10,Inventário!$E$10:$E$150,Estoque!$C51)),\"ERRO\")","v":""},{"$f":"IFERROR(IF(J51=\"\",\"\",SUMIFS(Inventário!$N$10:$N$150,Inventário!$D$10:$D$150,Estoque!K$10,Inventário!$E$10:$E$150,Estoque!$C51)),\"ERRO\")","v":""},{"$f":"IFERROR(IF(K51=\"\",\"\",SUMIFS(Inventário!$N$10:$N$150,Inventário!$D$10:$D$150,Estoque!L$10,Inventário!$E$10:$E$150,Estoque!$C51)),\"ERRO\")","v":""},{"$f":"IFERROR(IF(L51=\"\",\"\",SUMIFS(Inventário!$N$10:$N$150,Inventário!$D$10:$D$150,Estoque!M$10,Inventário!$E$10:$E$150,Estoque!$C51)),\"ERRO\")","v":""},{"$f":"IFERROR(IF(M51=\"\",\"\",SUMIFS(Inventário!$N$10:$N$150,Inventário!$D$10:$D$150,Estoque!N$10,Inventário!$E$10:$E$150,Estoque!$C51)),\"ERRO\")","v":""},{"$f":"IFERROR(IF(N51=\"\",\"\",SUMIFS(Inventário!$N$10:$N$150,Inventário!$D$10:$D$150,Estoque!O$10,Inventário!$E$10:$E$150,Estoque!$C51)),\"ERRO\")","v":""},null,null,null,{"$f":"Inventário!$E48","v":0}]
[null,40,{"$f":"IF('Cadastro de Produtos'!C44=\"\",\"\",VLOOKUP(B52,'Cadastro de Produtos'!$B$5:$C$204,2,0))","v":""},{"$f":"IFERROR(IF(C52=\"\",\"\",SUMIFS(Inventário!$N$10:$N$150,Inventário!$D$10:$D$150,Estoque!D$10,Inventário!$E$10:$E$150,Estoque!$C52)),\"ERRO\")","v":""},{"$f":"IFERROR(IF(D52=\"\",\"\",SUMIFS(Inventário!$N$10:$N$150,Inventário!$D$10:$D$150,Estoque!E$10,Inventário!$E$10:$E$150,Estoque!$C52)),\"ERRO\")","v":""},{"$f":"IFERROR(IF(E52=\"\",\"\",SUMIFS(Inventário!$N$10:$N$150,Inventário!$D$10:$D$150,Estoque!F$10,Inventário!$E$10:$E$150,Estoque!$C52)),\"ERRO\")","v":""},{"$f":"IFERROR(IF(F52=\"\",\"\",SUMIFS(Inventário!$N$10:$N$150,Inventário!$D$10:$D$150,Estoque!G$10,Inventário!$E$10:$E$150,Estoque!$C52)),\"ERRO\")","v":""},{"$f":"IFERROR(IF(G52=\"\",\"\",SUMIFS(Inventário!$N$10:$N$150,Inventário!$D$10:$D$150,Estoque!H$10,Inventário!$E$10:$E$150,Estoque!$C52)),\"ERRO\")","v":""},{"$f":"IFERROR(IF(H52=\"\",\"\",SUMIFS(Inventário!$N$10:$N$150,Inventário!$D$10:$D$150,Estoque!I$10,Inventário!$E$10:$E$150,Estoque!$C52)),\"ERRO\")","v":""},{"$f":"IFERROR(IF(I52=\"\",\"\",SUMIFS(Inventário!$N$10:$N$150,Inventário!$D$10:$D$150,Estoque!J$10,Inventário!$E$10:$E$150,Estoque!$C52)),\"ERRO\")","v":""},{"$f":"IFERROR(IF(J52=\"\",\"\",SUMIFS(Inventário!$N$10:$N$150,Inventário!$D$10:$D$150,Estoque!K$10,Inventário!$E$10:$E$150,Estoque!$C52)),\"ERRO\")","v":""},{"$f":"IFERROR(IF(K52=\"\",\"\",SUMIFS(Inventário!$N$10:$N$150,Inventário!$D$10:$D$150,Estoque!L$10,Inventário!$E$10:$E$150,Estoque!$C52)),\"ERRO\")","v":""},{"$f":"IFERROR(IF(L52=\"\",\"\",SUMIFS(Inventário!$N$10:$N$150,Inventário!$D$10:$D$150,Estoque!M$10,Inventário!$E$10:$E$150,Estoque!$C52)),\"ERRO\")","v":""},{"$f":"IFERROR(IF(M52=\"\",\"\",SUMIFS(Inventário!$N$10:$N$150,Inventário!$D$10:$D$150,Estoque!N$10,Inventário!$E$10:$E$150,Estoque!$C52)),\"ERRO\")","v":""},{"$f":"IFERROR(IF(N52=\"\",\"\",SUMIFS(Inventário!$N$10:$N$150,Inventário!$D$10:$D$150,Estoque!O$10,Inventário!$E$10:$E$150,Estoque!$C52)),\"ERRO\")","v":""},null,null,null,{"$f":"Inventário!$E49","v":0}]
[null,41,{"$f":"IF('Cadastro de Produtos'!C45=\"\",\"\",VLOOKUP(B53,'Cadastro de Produtos'!$B$5:$C$204,2,0))","v":""},{"$f":"IFERROR(IF(C53=\"\",\"\",SUMIFS(Inventário!$N$10:$N$150,Inventário!$D$10:$D$150,Estoque!D$10,Inventário!$E$10:$E$150,Estoque!$C53)),\"ERRO\")","v":""},{"$f":"IFERROR(IF(D53=\"\",\"\",SUMIFS(Inventário!$N$10:$N$150,Inventário!$D$10:$D$150,Estoque!E$10,Inventário!$E$10:$E$150,Estoque!$C53)),\"ERRO\")","v":""},{"$f":"IFERROR(IF(E53=\"\",\"\",SUMIFS(Inventário!$N$10:$N$150,Inventário!$D$10:$D$150,Estoque!F$10,Inventário!$E$10:$E$150,Estoque!$C53)),\"ERRO\")","v":""},{"$f":"IFERROR(IF(F53=\"\",\"\",SUMIFS(Inventário!$N$10:$N$150,Inventário!$D$10:$D$150,Estoque!G$10,Inventário!$E$10:$E$150,Estoque!$C53)),\"ERRO\")","v":""},{"$f":"IFERROR(IF(G53=\"\",\"\",SUMIFS(Inventário!$N$10:$N$150,Inventário!$D$10:$D$150,Estoque!H$10,Inventário!$E$10:$E$150,Estoque!$C53)),\"ERRO\")","v":""},{"$f":"IFERROR(IF(H53=\"\",\"\",SUMIFS(Inventário!$N$10:$N$150,Inventário!$D$10:$D$150,Estoque!I$10,Inventário!$E$10:$E$150,Estoque!$C53)),\"ERRO\")","v":""},{"$f":"IFERROR(IF(I53=\"\",\"\",SUMIFS(Inventário!$N$10:$N$150,Inventário!$D$10:$D$150,Estoque!J$10,Inventário!$E$10:$E$150,Estoque!$C53)),\"ERRO\")","v":""},{"$f":"IFERROR(IF(J53=\"\",\"\",SUMIFS(Inventário!$N$10:$N$150,Inventário!$D$10:$D$150,Estoque!K$10,Inventário!$E$10:$E$150,Estoque!$C53)),\"ERRO\")","v":""},{"$f":"IFERROR(IF(K53=\"\",\"\",SUMIFS(Inventário!$N$10:$N$150,Inventário!$D$10:$D$150,Estoque!L$10,Inventário!$E$10:$E$150,Estoque!$C53)),\"ERRO\")","v":""},{"$f":"IFERROR(IF(L53=\"\",\"\",SUMIFS(Inventário!$N$10:$N$150,Inventário!$D$10:$D$150,Estoque!M$10,Inventário!$E$10:$E$150,Estoque!$C53)),\"ERRO\")","v":""},{"$f":"IFERROR(IF(M53=\"\",\"\",SUMIFS(Inventário!$N$10:$N$150,Inventário!$D$10:$D$150,Estoque!N$10,Inventário!$E$10:$E$150,Estoque!$C53)),\"ERRO\")","v":""},{"$f":"IFERROR(IF(N53=\"\",\"\",SUMIFS(Inventário!$N$10:$N$150,Inventário!$D$10:$D$150,Estoque!O$10,Inventário!$E$10:$E$150,Estoque!$C53)),\"ERRO\")","v":""},null,null,null,{"$f":"Inventário!$E50","v":0}]
[null,42,{"$f":"IF('Cadastro de Produtos'!C46=\"\",\"\",VLOOKUP(B54,'Cadastro de Produtos'!$B$5:$C$204,2,0))","v":""},{"$f":"IFERROR(IF(C54=\"\",\"\",SUMIFS(Inventário!$N$10:$N$150,Inventário!$D$10:$D$150,Estoque!D$10,Inventário!$E$10:$E$150,Estoque!$C54)),\"ERRO\")","v":""},{"$f":"IFERROR(IF(D54=\"\",\"\",SUMIFS(Inventário!$N$10:$N$150,Inventário!$D$10:$D$150,Estoque!E$10,Inventário!$E$10:$E$150,Estoque!$C54)),\"ERRO\")","v":""},{"$f":"IFERROR(IF(E54=\"\",\"\",SUMIFS(Inventário!$N$10:$N$150,Inventário!$D$10:$D$150,Estoque!F$10,Inventário!$E$10:$E$150,Estoque!$C54)),\"ERRO\")","v":""},{"$f":"IFERROR(IF(F54=\"\",\"\",SUMIFS(Inventário!$N$10:$N$150,Inventário!$D$10:$D$150,Estoque!G$10,Inventário!$E$10:$E$150,Estoque!$C54)),\"ERRO\")","v":""},{"$f":"IFERROR(IF(G54=\"\",\"\",SUMIFS(Inventário!$N$10:$N$150,Inventário!$D$10:$D$150,Estoque!H$10,Inventário!$E$10:$E$150,Estoque!$C54)),\"ERRO\")","v":""},{"$f":"IFERROR(IF(H54=\"\",\"\",SUMIFS(Inventário!$N$10:$N$150,Inventário!$D$10:$D$150,Estoque!I$10,Inventário!$E$10:$E$150,Estoque!$C54)),\"ERRO\")","v":""},{"$f":"IFERROR(IF(I54=\"\",\"\",SUMIFS(Inventário!$N$10:$N$150,Inventário!$D$10:$D$150,Estoque!J$10,Inventário!$E$10:$E$150,Estoque!$C54)),\"ERRO\")","v":""},{"$f":"IFERROR(IF(J54=\"\",\"\",SUMIFS(Inventário!$N$10:$N$150,Inventário!$D$10:$D$150,Estoque!K$10,Inventário!$E$10:$E$150,Estoque!$C54)),\"ERRO\")","v":""},{"$f":"IFERROR(IF(K54=\"\",\"\",SUMIFS(Inventário!$N$10:$N$150,Inventário!$D$10:$D$150,Estoque!L$10,Inventário!$E$10:$E$150,Estoque!$C54)),\"ERRO\")","v":""},{"$f":"IFERROR(IF(L54=\"\",\"\",SUMIFS(Inventário!$N$10:$N$150,Inventário!$D$10:$D$150,Estoque!M$10,Inventário!$E$10:$E$150,Estoque!$C54)),\"ERRO\")","v":""},{"$f":"IFERROR(IF(M54=\"\",\"\",SUMIFS(Inventário!$N$10:$N$150,Inventário!$D$10:$D$150,Estoque!N$10,Inventário!$E$10:$E$150,Estoque!$C54)),\"ERRO\")","v":""},{"$f":"IFERROR(IF(N54=\"\",\"\",SUMIFS(Inventário!$N$10:$N$150,Inventário!$D$10:$D$150,Estoque!O$10,Inventário!$E$10:$E$150,Estoque!$C54)),\"ERRO\")","v":""},null,null,null,{"$f":"Inventário!$E51","v":0}]
[null,43,{"$f":"IF('Cadastro de Produtos'!C47=\"\",\"\",VLOOKUP(B55,'Cadastro de Produtos'!$B$5:$C$204,2,0))","v":""},{"$f":"IFERROR(IF(C55=\"\",\"\",SUMIFS(Inventário!$N$10:$N$150,Inventário!$D$10:$D$150,Estoque!D$10,Inventário!$E$10:$E$150,Estoque!$C55)),\"ERRO\")","v":""},{"$f":"IFERROR(IF(D55=\"\",\"\",SUMIFS(Inventário!$N$10:$N$150,Inventário!$D$10:$D$150,Estoque!E$10,Inventário!$E$10:$E$150,Estoque!$C55)),\"ERRO\")","v":""},{"$f":"IFERROR(IF(E55=\"\",\"\",SUMIFS(Inventário!$N$10:$N$150,Inventário!$D$10:$D$150,Estoque!F$10,Inventário!$E$10:$E$150,Estoque!$C55)),\"ERRO\")","v":""},{"$f":"IFERROR(IF(F55=\"\",\"\",SUMIFS(Inventário!$N$10:$N$150,Inventário!$D$10:$D$150,Estoque!G$10,Inventário!$E$10:$E$150,Estoque!$C55)),\"ERRO\")","v":""},{"$f":"IFERROR(IF(G55=\"\",\"\",SUMIFS(Inventário!$N$10:$N$150,Inventário!$D$10:$D$150,Estoque!H$10,Inventário!$E$10:$E$150,Estoque!$C55)),\"ERRO\")","v":""},{"$f":"IFERROR(IF(H55=\"\",\"\",SUMIFS(Inventário!$N$10:$N$150,Inventário!$D$10:$D$150,Estoque!I$10,Inventário!$E$10:$E$150,Estoque!$C55)),\"ERRO\")","v":""},{"$f":"IFERROR(IF(I55=\"\",\"\",SUMIFS(Inventário!$N$10:$N$150,Inventário!$D$10:$D$150,Estoque!J$10,Inventário!$E$10:$E$150,Estoque!$C55)),\"ERRO\")","v":""},{"$f":"IFERROR(IF(J55=\"\",\"\",SUMIFS(Inventário!$N$10:$N$150,Inventário!$D$10:$D$150,Estoque!K$10,Inventário!$E$10:$E$150,Estoque!$C55)),\"ERRO\")","v":""},{"$f":"IFERROR(IF(K55=\"\",\"\",SUMIFS(Inventário!$N$10:$N$150,Inventário!$D$10:$D$150,Estoque!L$10,Inventário!$E$10:$E$150,Estoque!$C55)),\"ERRO\")","v":""},{"$f":"IFERROR(IF(L55=\"\",\"\",SUMIFS(Inventário!$N$10:$N$150,Inventário!$D$10:$D$150,Estoque!M$10,Inventário!$E$10:$E$150,Estoque!$C55)),\"ERRO\")","v":""},{"$f":"IFERROR(IF(M55=\"\",\"\",SUMIFS(Inventário!$N$10:$N$150,Inventário!$D$10:$D$150,Estoque!N$10,Inventário!$E$10:$E$150,Estoque!$C55)),\"ERRO\")","v":""},{"$f":"IFERROR(IF(N55=\"\",\"\",SUMIFS(Inventário!$N$10:$N$150,Inventário!$D$10:$D$150,Estoque!O$10,Inventário!$E$10:$E$150,Estoque!$C55)),\"ERRO\")","v":""},null,null,null,{"$f":"Inventário!$E52","v":0}]
[null,44,{"$f":"IF('Cadastro de Produtos'!C48=\"\",\"\",VLOOKUP(B56,'Cadastro de Produtos'!$B$5:$C$204,2,0))","v":""},{"$f":"IFERROR(IF(C56=\"\",\"\",SUMIFS(Inventário!$N$10:$N$150,Inventário!$D$10:$D$150,Estoque!D$10,Inventário!$E$10:$E$150,Estoque!$C56)),\"ERRO\")","v":""},{"$f":"IFERROR(IF(D56=\"\",\"\",SUMIFS(Inventário!$N$10:$N$150,Inventário!$D$10:$D$150,Estoque!E$10,Inventário!$E$10:$E$150,Estoque!$C56)),\"ERRO\")","v":""},{"$f":"IFERROR(IF(E56=\"\",\"\",SUMIFS(Inventário!$N$10:$N$150,Inventário!$D$10:$D$150,Estoque!F$10,Inventário!$E$10:$E$150,Estoque!$C56)),\"ERRO\")","v":""},{"$f":"IFERROR(IF(F56=\"\",\"\",SUMIFS(Inventário!$N$10:$N$150,Inventário!$D$10:$D$150,Estoque!G$10,Inventário!$E$10:$E$150,Estoque!$C56)),\"ERRO\")","v":""},{"$f":"IFERROR(IF(G56=\"\",\"\",SUMIFS(Inventário!$N$10:$N$150,Inventário!$D$10:$D$150,Estoque!H$10,Inventário!$E$10:$E$150,Estoque!$C56)),\"ERRO\")","v":""},{"$f":"IFERROR(IF(H56=\"\",\"\",SUMIFS(Inventário!$N$10:$N$150,Inventário!$D$10:$D$150,Estoque!I$10,Inventário!$E$10:$E$150,Estoque!$C56)),\"ERRO\")","v":""},{"$f":"IFERROR(IF(I56=\"\",\"\",SUMIFS(Inventário!$N$10:$N$150,Inventário!$D$10:$D$150,Estoque!J$10,Inventário!$E$10:$E$150,Estoque!$C56)),\"ERRO\")","v":""},{"$f":"IFERROR(IF(J56=\"\",\"\",SUMIFS(Inventário!$N$10:$N$150,Inventário!$D$10:$D$150,Estoque!K$10,Inventário!$E$10:$E$150,Estoque!$C56)),\"ERRO\")","v":""},{"$f":"IFERROR(IF(K56=\"\",\"\",SUMIFS(Inventário!$N$10:$N$150,Inventário!$D$10:$D$150,Estoque!L$10,Inventário!$E$10:$E$150,Estoque!$C56)),\"ERRO\")","v":""},{"$f":"IFERROR(IF(L56=\"\",\"\",SUMIFS(Inventário!$N$10:$N$150,Inventário!$D$10:$D$150,Estoque!M$10,Inventário!$E$10:$E$150,Estoque!$C56)),\"ERRO\")","v":""},{"$f":"IFERROR(IF(M56=\"\",\"\",SUMIFS(Inventário!$N$10:$N$150,Inventário!$D$10:$D$150,Estoque!N$10,Inventário!$E$10:$E$150,Estoque!$C56)),\"ERRO\")","v":""},{"$f":"IFERROR(IF(N56=\"\",\"\",SUMIFS(Inventário!$N$10:$N$150,Inventário!$D$10:$D$150,Estoque!O$10,Inventário!$E$10:$E$150,Estoque!$C56)),\"ERRO\")","v":""},null,null,null,{"$f":"Inventário!$E53","v":0}]
[null,45,{"$f":"IF('Cadastro de Produtos'!C49=\"\",\"\",VLOOKUP(B57,'Cadastro de Produtos'!$B$5:$C$204,2,0))","v":""},{"$f":"IFERROR(IF(C57=\"\",\"\",SUMIFS(Inventário!$N$10:$N$150,Inventário!$D$10:$D$150,Estoque!D$10,Inventário!$E$10:$E$150,Estoque!$C57)),\"ERRO\")","v":""},{"$f":"IFERROR(IF(D57=\"\",\"\",SUMIFS(Inventário!$N$10:$N$150,Inventário!$D$10:$D$150,Estoque!E$10,Inventário!$E$10:$E$150,Estoque!$C57)),\"ERRO\")","v":""},{"$f":"IFERROR(IF(E57=\"\",\"\",SUMIFS(Inventário!$N$10:$N$150,Inventário!$D$10:$D$150,Estoque!F$10,Inventário!$E$10:$E$150,Estoque!$C57)),\"ERRO\")","v":""},{"$f":"IFERROR(IF(F57=\"\",\"\",SUMIFS(Inventário!$N$10:$N$150,Inventário!$D$10:$D$150,Estoque!G$10,Inventário!$E$10:$E$150,Estoque!$C57)),\"ERRO\")","v":""},{"$f":"IFERROR(IF(G57=\"\",\"\",SUMIFS(Inventário!$N$10:$N$150,Inventário!$D$10:$D$150,Estoque!H$10,Inventário!$E$10:$E$150,Estoque!$C57)),\"ERRO\")","v":""},{"$f":"IFERROR(IF(H57=\"\",\"\",SUMIFS(Inventário!$N$10:$N$150,Inventário!$D$10:$D$150,Estoque!I$10,Inventário!$E$10:$E$150,Estoque!$C57)),\"ERRO\")","v":""},{"$f":"IFERROR(IF(I57=\"\",\"\",SUMIFS(Inventário!$N$10:$N$150,Inventário!$D$10:$D$150,Estoque!J$10,Inventário!$E$10:$E$150,Estoque!$C57)),\"ERRO\")","v":""},{"$f":"IFERROR(IF(J57=\"\",\"\",SUMIFS(Inventário!$N$10:$N$150,Inventário!$D$10:$D$150,Estoque!K$10,Inventário!$E$10:$E$150,Estoque!$C57)),\"ERRO\")","v":""},{"$f":"IFERROR(IF(K57=\"\",\"\",SUMIFS(Inventário!$N$10:$N$150,Inventário!$D$10:$D$150,Estoque!L$10,Inventário!$E$10:$E$150,Estoque!$C57)),\"ERRO\")","v":""},{"$f":"IFERROR(IF(L57=\"\",\"\",SUMIFS(Inventário!$N$10:$N$150,Inventário!$D$10:$D$150,Estoque!M$10,Inventário!$E$10:$E$150,Estoque!$C57)),\"ERRO\")","v":""},{"$f":"IFERROR(IF(M57=\"\",\"\",SUMIFS(Inventário!$N$10:$N$150,Inventário!$D$10:$D$150,Estoque!N$10,Inventário!$E$10:$E$150,Estoque!$C57)),\"ERRO\")","v":""},{"$f":"IFERROR(IF(N57=\"\",\"\",SUMIFS(Inventário!$N$10:$N$150,Inventário!$D$10:$D$150,Estoque!O$10,Inventário!$E$10:$E$150,Estoque!$C57)),\"ERRO\")","v":""},null,null,null,{"$f":"Inventário!$E54","v":0}]
[null,46,{"$f":"IF('Cadastro de Produtos'!C50=\"\",\"\",VLOOKUP(B58,'Cadastro de Produtos'!$B$5:$C$204,2,0))","v":""},{"$f":"IFERROR(IF(C58=\"\",\"\",SUMIFS(Inventário!$N$10:$N$150,Inventário!$D$10:$D$150,Estoque!D$10,Inventário!$E$10:$E$150,Estoque!$C58)),\"ERRO\")","v":""},{"$f":"IFERROR(IF(D58=\"\",\"\",SUMIFS(Inventário!$N$10:$N$150,Inventário!$D$10:$D$150,Estoque!E$10,Inventário!$E$10:$E$150,Estoque!$C58)),\"ERRO\")","v":""},{"$f":"IFERROR(IF(E58=\"\",\"\",SUMIFS(Inventário!$N$10:$N$150,Inventário!$D$10:$D$150,Estoque!F$10,Inventário!$E$10:$E$150,Estoque!$C58)),\"ERRO\")","v":""},{"$f":"IFERROR(IF(F58=\"\",\"\",SUMIFS(Inventário!$N$10:$N$150,Inventário!$D$10:$D$150,Estoque!G$10,Inventário!$E$10:$E$150,Estoque!$C58)),\"ERRO\")","v":""},{"$f":"IFERROR(IF(G58=\"\",\"\",SUMIFS(Inventário!$N$10:$N$150,Inventário!$D$10:$D$150,Estoque!H$10,Inventário!$E$10:$E$150,Estoque!$C58)),\"ERRO\")","v":""},{"$f":"IFERROR(IF(H58=\"\",\"\",SUMIFS(Inventário!$N$10:$N$150,Inventário!$D$10:$D$150,Estoque!I$10,Inventário!$E$10:$E$150,Estoque!$C58)),\"ERRO\")","v":""},{"$f":"IFERROR(IF(I58=\"\",\"\",SUMIFS(Inventário!$N$10:$N$150,Inventário!$D$10:$D$150,Estoque!J$10,Inventário!$E$10:$E$150,Estoque!$C58)),\"ERRO\")","v":""},{"$f":"IFERROR(IF(J58=\"\",\"\",SUMIFS(Inventário!$N$10:$N$150,Inventário!$D$10:$D$150,Estoque!K$10,Inventário!$E$10:$E$150,Estoque!$C58)),\"ERRO\")","v":""},{"$f":"IFERROR(IF(K58=\"\",\"\",SUMIFS(Inventário!$N$10:$N$150,Inventário!$D$10:$D$150,Estoque!L$10,Inventário!$E$10:$E$150,Estoque!$C58)),\"ERRO\")","v":""},{"$f":"IFERROR(IF(L58=\"\",\"\",SUMIFS(Inventário!$N$10:$N$150,Inventário!$D$10:$D$150,Estoque!M$10,Inventário!$E$10:$E$150,Estoque!$C58)),\"ERRO\")","v":""},{"$f":"IFERROR(IF(M58=\"\",\"\",SUMIFS(Inventário!$N$10:$N$150,Inventário!$D$10:$D$150,Estoque!N$10,Inventário!$E$10:$E$150,Estoque!$C58)),\"ERRO\")","v":""},{"$f":"IFERROR(IF(N58=\"\",\"\",SUMIFS(Inventário!$N$10:$N$150,Inventário!$D$10:$D$150,Estoque!O$10,Inventário!$E$10:$E$150,Estoque!$C58)),\"ERRO\")","v":""},null,null,null,{"$f":"Inventário!$E55","v":0}]
[null,47,{"$f":"IF('Cadastro de Produtos'!C51=\"\",\"\",VLOOKUP(B59,'Cadastro de Produtos'!$B$5:$C$204,2,0))","v":""},{"$f":"IFERROR(IF(C59=\"\",\"\",SUMIFS(Inventário!$N$10:$N$150,Inventário!$D$10:$D$150,Estoque!D$10,Inventário!$E$10:$E$150,Estoque!$C59)),\"ERRO\")","v":""},{"$f":"IFERROR(IF(D59=\"\",\"\",SUMIFS(Inventário!$N$10:$N$150,Inventário!$D$10:$D$150,Estoque!E$10,Inventário!$E$10:$E$150,Estoque!$C59)),\"ERRO\")","v":""},{"$f":"IFERROR(IF(E59=\"\",\"\",SUMIFS(Inventário!$N$10:$N$150,Inventário!$D$10:$D$150,Estoque!F$10,Inventário!$E$10:$E$150,Estoque!$C59)),\"ERRO\")","v":""},{"$f":"IFERROR(IF(F59=\"\",\"\",SUMIFS(Inventário!$N$10:$N$150,Inventário!$D$10:$D$150,Estoque!G$10,Inventário!$E$10:$E$150,Estoque!$C59)),\"ERRO\")","v":""},{"$f":"IFERROR(IF(G59=\"\",\"\",SUMIFS(Inventário!$N$10:$N$150,Inventário!$D$10:$D$150,Estoque!H$10,Inventário!$E$10:$E$150,Estoque!$C59)),\"ERRO\")","v":""},{"$f":"IFERROR(IF(H59=\"\",\"\",SUMIFS(Inventário!$N$10:$N$150,Inventário!$D$10:$D$150,Estoque!I$10,Inventário!$E$10:$E$150,Estoque!$C59)),\"ERRO\")","v":""},{"$f":"IFERROR(IF(I59=\"\",\"\",SUMIFS(Inventário!$N$10:$N$150,Inventário!$D$10:$D$150,Estoque!J$10,Inventário!$E$10:$E$150,Estoque!$C59)),\"ERRO\")","v":""},{"$f":"IFERROR(IF(J59=\"\",\"\",SUMIFS(Inventário!$N$10:$N$150,Inventário!$D$10:$D$150,Estoque!K$10,Inventário!$E$10:$E$150,Estoque!$C59)),\"ERRO\")","v":""},{"$f":"IFERROR(IF(K59=\"\",\"\",SUMIFS(Inventário!$N$10:$N$150,Inventário!$D$10:$D$150,Estoque!L$10,Inventário!$E$10:$E$150,Estoque!$C59)),\"ERRO\")","v":""},{"$f":"IFERROR(IF(L59=\"\",\"\",SUMIFS(Inventário!$N$10:$N$150,Inventário!$D$10:$D$150,Estoque!M$10,Inventário!$E$10:$E$150,Estoque!$C59)),\"ERRO\")","v":""},{"$f":"IFERROR(IF(M59=\"\",\"\",SUMIFS(Inventário!$N$10:$N$150,Inventário!$D$10:$D$150,Estoque!N$10,Inventário!$E$10:$E$150,Estoque!$C59)),\"ERRO\")","v":""},{"$f":"IFERROR(IF(N59=\"\",\"\",SUMIFS(Inventário!$N$10:$N$150,Inventário!$D$10:$D$150,Estoque!O$10,Inventário!$E$10:$E$150,Estoque!$C59)),\"ERRO\")","v":""},null,null,null,{"$f":"Inventário!$E56","v":0}]
[null,48,{"$f":"IF('Cadastro de Produtos'!C52=\"\",\"\",VLOOKUP(B60,'Cadastro de Produtos'!$B$5:$C$204,2,0))","v":""},{"$f":"IFERROR(IF(C60=\"\",\"\",SUMIFS(Inventário!$N$10:$N$150,Inventário!$D$10:$D$150,Estoque!D$10,Inventário!$E$10:$E$150,Estoque!$C60)),\"ERRO\")","v":""},{"$f":"IFERROR(IF(D60=\"\",\"\",SUMIFS(Inventário!$N$10:$N$150,Inventário!$D$10:$D$150,Estoque!E$10,Inventário!$E$10:$E$150,Estoque!$C60)),\"ERRO\")","v":""},{"$f":"IFERROR(IF(E60=\"\",\"\",SUMIFS(Inventário!$N$10:$N$150,Inventário!$D$10:$D$150,Estoque!F$10,Inventário!$E$10:$E$150,Estoque!$C60)),\"ERRO\")","v":""},{"$f":"IFERROR(IF(F60=\"\",\"\",SUMIFS(Inventário!$N$10:$N$150,Inventário!$D$10:$D$150,Estoque!G$10,Inventário!$E$10:$E$150,Estoque!$C60)),\"ERRO\")","v":""},{"$f":"IFERROR(IF(G60=\"\",\"\",SUMIFS(Inventário!$N$10:$N$150,Inventário!$D$10:$D$150,Estoque!H$10,Inventário!$E$10:$E$150,Estoque!$C60)),\"ERRO\")","v":""},{"$f":"IFERROR(IF(H60=\"\",\"\",SUMIFS(Inventário!$N$10:$N$150,Inventário!$D$10:$D$150,Estoque!I$10,Inventário!$E$10:$E$150,Estoque!$C60)),\"ERRO\")","v":""},{"$f":"IFERROR(IF(I60=\"\",\"\",SUMIFS(Inventário!$N$10:$N$150,Inventário!$D$10:$D$150,Estoque!J$10,Inventário!$E$10:$E$150,Estoque!$C60)),\"ERRO\")","v":""},{"$f":"IFERROR(IF(J60=\"\",\"\",SUMIFS(Inventário!$N$10:$N$150,Inventário!$D$10:$D$150,Estoque!K$10,Inventário!$E$10:$E$150,Estoque!$C60)),\"ERRO\")","v":""},{"$f":"IFERROR(IF(K60=\"\",\"\",SUMIFS(Inventário!$N$10:$N$150,Inventário!$D$10:$D$150,Estoque!L$10,Inventário!$E$10:$E$150,Estoque!$C60)),\"ERRO\")","v":""},{"$f":"IFERROR(IF(L60=\"\",\"\",SUMIFS(Inventário!$N$10:$N$150,Inventário!$D$10:$D$150,Estoque!M$10,Inventário!$E$10:$E$150,Estoque!$C60)),\"ERRO\")","v":""},{"$f":"IFERROR(IF(M60=\"\",\"\",SUMIFS(Inventário!$N$10:$N$150,Inventário!$D$10:$D$150,Estoque!N$10,Inventário!$E$10:$E$150,Estoque!$C60)),\"ERRO\")","v":""},{"$f":"IFERROR(IF(N60=\"\",\"\",SUMIFS(Inventário!$N$10:$N$150,Inventário!$D$10:$D$150,Estoque!O$10,Inventário!$E$10:$E$150,Estoque!$C60)),\"ERRO\")","v":""},null,null,null,{"$f":"Inventário!$E57","v":0}]
[null,49,{"$f":"IF('Cadastro de Produtos'!C53=\"\",\"\",VLOOKUP(B61,'Cadastro de Produtos'!$B$5:$C$204,2,0))","v":""},{"$f":"IFERROR(IF(C61=\"\",\"\",SUMIFS(Inventário!$N$10:$N$150,Inventário!$D$10:$D$150,Estoque!D$10,Inventário!$E$10:$E$150,Estoque!$C61)),\"ERRO\")","v":""},{"$f":"IFERROR(IF(D61=\"\",\"\",SUMIFS(Inventário!$N$10:$N$150,Inventário!$D$10:$D$150,Estoque!E$10,Inventário!$E$10:$E$150,Estoque!$C61)),\"ERRO\")","v":""},{"$f":"IFERROR(IF(E61=\"\",\"\",SUMIFS(Inventário!$N$10:$N$150,Inventário!$D$10:$D$150,Estoque!F$10,Inventário!$E$10:$E$150,Estoque!$C61)),\"ERRO\")","v":""},{"$f":"IFERROR(IF(F61=\"\",\"\",SUMIFS(Inventário!$N$10:$N$150,Inventário!$D$10:$D$150,Estoque!G$10,Inventário!$E$10:$E$150,Estoque!$C61)),\"ERRO\")","v":""},{"$f":"IFERROR(IF(G61=\"\",\"\",SUMIFS(Inventário!$N$10:$N$150,Inventário!$D$10:$D$150,Estoque!H$10,Inventário!$E$10:$E$150,Estoque!$C61)),\"ERRO\")","v":""},{"$f":"IFERROR(IF(H61=\"\",\"\",SUMIFS(Inventário!$N$10:$N$150,Inventário!$D$10:$D$150,Estoque!I$10,Inventário!$E$10:$E$150,Estoque!$C61)),\"ERRO\")","v":""},{"$f":"IFERROR(IF(I61=\"\",\"\",SUMIFS(Inventário!$N$10:$N$150,Inventário!$D$10:$D$150,Estoque!J$10,Inventário!$E$10:$E$150,Estoque!$C61)),\"ERRO\")","v":""},{"$f":"IFERROR(IF(J61=\"\",\"\",SUMIFS(Inventário!$N$10:$N$150,Inventário!$D$10:$D$150,Estoque!K$10,Inventário!$E$10:$E$150,Estoque!$C61)),\"ERRO\")","v":""},{"$f":"IFERROR(IF(K61=\"\",\"\",SUMIFS(Inventário!$N$10:$N$150,Inventário!$D$10:$D$150,Estoque!L$10,Inventário!$E$10:$E$150,Estoque!$C61)),\"ERRO\")","v":""},{"$f":"IFERROR(IF(L61=\"\",\"\",SUMIFS(Inventário!$N$10:$N$150,Inventário!$D$10:$D$150,Estoque!M$10,Inventário!$E$10:$E$150,Estoque!$C61)),\"ERRO\")","v":""},{"$f":"IFERROR(IF(M61=\"\",\"\",SUMIFS(Inventário!$N$10:$N$150,Inventário!$D$10:$D$150,Estoque!N$10,Inventário!$E$10:$E$150,Estoque!$C61)),\"ERRO\")","v":""},{"$f":"IFERROR(IF(N61=\"\",\"\",SUMIFS(Inventário!$N$10:$N$150,Inventário!$D$10:$D$150,Estoque!O$10,Inventário!$E$10:$E$150,Estoque!$C61)),\"ERRO\")","v":""},null,null,null,{"$f":"Inventário!$E58","v":0}]
[null,50,{"$f":"IF('Cadastro de Produtos'!C54=\"\",\"\",VLOOKUP(B62,'Cadastro de Produtos'!$B$5:$C$204,2,0))","v":""},{"$f":"IFERROR(IF(C62=\"\",\"\",SUMIFS(Inventário!$N$10:$N$150,Inventário!$D$10:$D$150,Estoque!D$10,Inventário!$E$10:$E$150,Estoque!$C62)),\"ERRO\")","v":""},{"$f":"IFERROR(IF(D62=\"\",\"\",SUMIFS(Inventário!$N$10:$N$150,Inventário!$D$10:$D$150,Estoque!E$10,Inventário!$E$10:$E$150,Estoque!$C62)),\"ERRO\")","v":""},{"$f":"IFERROR(IF(E62=\"\",\"\",SUMIFS(Inventário!$N$10:$N$150,Inventário!$D$10:$D$150,Estoque!F$10,Inventário!$E$10:$E$150,Estoque!$C62)),\"ERRO\")","v":""},{"$f":"IFERROR(IF(F62=\"\",\"\",SUMIFS(Inventário!$N$10:$N$150,Inventário!$D$10:$D$150,Estoque!G$10,Inventário!$E$10:$E$150,Estoque!$C62)),\"ERRO\")","v":""},{"$f":"IFERROR(IF(G62=\"\",\"\",SUMIFS(Inventário!$N$10:$N$150,Inventário!$D$10:$D$150,Estoque!H$10,Inventário!$E$10:$E$150,Estoque!$C62)),\"ERRO\")","v":""},{"$f":"IFERROR(IF(H62=\"\",\"\",SUMIFS(Inventário!$N$10:$N$150,Inventário!$D$10:$D$150,Estoque!I$10,Inventário!$E$10:$E$150,Estoque!$C62)),\"ERRO\")","v":""},{"$f":"IFERROR(IF(I62=\"\",\"\",SUMIFS(Inventário!$N$10:$N$150,Inventário!$D$10:$D$150,Estoque!J$10,Inventário!$E$10:$E$150,Estoque!$C62)),\"ERRO\")","v":""},{"$f":"IFERROR(IF(J62=\"\",\"\",SUMIFS(Inventário!$N$10:$N$150,Inventário!$D$10:$D$150,Estoque!K$10,Inventário!$E$10:$E$150,Estoque!$C62)),\"ERRO\")","v":""},{"$f":"IFERROR(IF(K62=\"\",\"\",SUMIFS(Inventário!$N$10:$N$150,Inventário!$D$10:$D$150,Estoque!L$10,Inventário!$E$10:$E$150,Estoque!$C62)),\"ERRO\")","v":""},{"$f":"IFERROR(IF(L62=\"\",\"\",SUMIFS(Inventário!$N$10:$N$150,Inventário!$D$10:$D$150,Estoque!M$10,Inventário!$E$10:$E$150,Estoque!$C62)),\"ERRO\")","v":""},{"$f":"IFERROR(IF(M62=\"\",\"\",SUMIFS(Inventário!$N$10:$N$150,Inventário!$D$10:$D$150,Estoque!N$10,Inventário!$E$10:$E$150,Estoque!$C62)),\"ERRO\")","v":""},{"$f":"IFERROR(IF(N62=\"\",\"\",SUMIFS(Inventário!$N$10:$N$150,Inventário!$D$10:$D$150,Estoque!O$10,Inventário!$E$10:$E$150,Estoque!$C62)),\"ERRO\")","v":""},null,null,null,{"$f":"Inventário!$E59","v":0}]
[null,51,{"$f":"IF('Cadastro de Produtos'!C55=\"\",\"\",VLOOKUP(B63,'Cadastro de Produtos'!$B$5:$C$204,2,0))","v":""},{"$f":"IFERROR(IF(C63=\"\",\"\",SUMIFS(Inventário!$N$10:$N$150,Inventário!$D$10:$D$150,Estoque!D$10,Inventário!$E$10:$E$150,Estoque!$C63)),\"ERRO\")","v":""},{"$f":"IFERROR(IF(D63=\"\",\"\",SUMIFS(Inventário!$N$10:$N$150,Inventário!$D$10:$D$150,Estoque!E$10,Inventário!$E$10:$E$150,Estoque!$C63)),\"ERRO\")","v":""},{"$f":"IFERROR(IF(E63=\"\",\"\",SUMIFS(Inventário!$N$10:$N$150,Inventário!$D$10:$D$150,Estoque!F$10,Inventário!$E$10:$E$150,Estoque!$C63)),\"ERRO\")","v":""},{"$f":"IFERROR(IF(F63=\"\",\"\",SUMIFS(Inventário!$N$10:$N$150,Inventário!$D$10:$D$150,Estoque!G$10,Inventário!$E$10:$E$150,Estoque!$C63)),\"ERRO\")","v":""},{"$f":"IFERROR(IF(G63=\"\",\"\",SUMIFS(Inventário!$N$10:$N$150,Inventário!$D$10:$D$150,Estoque!H$10,Inventário!$E$10:$E$150,Estoque!$C63)),\"ERRO\")","v":""},{"$f":"IFERROR(IF(H63=\"\",\"\",SUMIFS(Inventário!$N$10:$N$150,Inventário!$D$10:$D$150,Estoque!I$10,Inventário!$E$10:$E$150,Estoque!$C63)),\"ERRO\")","v":""},{"$f":"IFERROR(IF(I63=\"\",\"\",SUMIFS(Inventário!$N$10:$N$150,Inventário!$D$10:$D$150,Estoque!J$10,Inventário!$E$10:$E$150,Estoque!$C63)),\"ERRO\")","v":""},{"$f":"IFERROR(IF(J63=\"\",\"\",SUMIFS(Inventário!$N$10:$N$150,Inventário!$D$10:$D$150,Estoque!K$10,Inventário!$E$10:$E$150,Estoque!$C63)),\"ERRO\")","v":""},{"$f":"IFERROR(IF(K63=\"\",\"\",SUMIFS(Inventário!$N$10:$N$150,Inventário!$D$10:$D$150,Estoque!L$10,Inventário!$E$10:$E$150,Estoque!$C63)),\"ERRO\")","v":""},{"$f":"IFERROR(IF(L63=\"\",\"\",SUMIFS(Inventário!$N$10:$N$150,Inventário!$D$10:$D$150,Estoque!M$10,Inventário!$E$10:$E$150,Estoque!$C63)),\"ERRO\")","v":""},{"$f":"IFERROR(IF(M63=\"\",\"\",SUMIFS(Inventário!$N$10:$N$150,Inventário!$D$10:$D$150,Estoque!N$10,Inventário!$E$10:$E$150,Estoque!$C63)),\"ERRO\")","v":""},{"$f":"IFERROR(IF(N63=\"\",\"\",SUMIFS(Inventário!$N$10:$N$150,Inventário!$D$10:$D$150,Estoque!O$10,Inventário!$E$10:$E$150,Estoque!$C63)),\"ERRO\")","v":""},null,null,null,{"$f":"Inventário!$E60","v":0}]
[null,52,{"$f":"IF('Cadastro de Produtos'!C56=\"\",\"\",VLOOKUP(B64,'Cadastro de Produtos'!$B$5:$C$204,2,0))","v":""},{"$f":"IFERROR(IF(C64=\"\",\"\",SUMIFS(Inventário!$N$10:$N$150,Inventário!$D$10:$D$150,Estoque!D$10,Inventário!$E$10:$E$150,Estoque!$C64)),\"ERRO\")","v":""},{"$f":"IFERROR(IF(D64=\"\",\"\",SUMIFS(Inventário!$N$10:$N$150,Inventário!$D$10:$D$150,Estoque!E$10,Inventário!$E$10:$E$150,Estoque!$C64)),\"ERRO\")","v":""},{"$f":"IFERROR(IF(E64=\"\",\"\",SUMIFS(Inventário!$N$10:$N$150,Inventário!$D$10:$D$150,Estoque!F$10,Inventário!$E$10:$E$150,Estoque!$C64)),\"ERRO\")","v":""},{"$f":"IFERROR(IF(F64=\"\",\"\",SUMIFS(Inventário!$N$10:$N$150,Inventário!$D$10:$D$150,Estoque!G$10,Inventário!$E$10:$E$150,Estoque!$C64)),\"ERRO\")","v":""},{"$f":"IFERROR(IF(G64=\"\",\"\",SUMIFS(Inventário!$N$10:$N$150,Inventário!$D$10:$D$150,Estoque!H$10,Inventário!$E$10:$E$150,Estoque!$C64)),\"ERRO\")","v":""},{"$f":"IFERROR(IF(H64=\"\",\"\",SUMIFS(Inventário!$N$10:$N$150,Inventário!$D$10:$D$150,Estoque!I$10,Inventário!$E$10:$E$150,Estoque!$C64)),\"ERRO\")","v":""},{"$f":"IFERROR(IF(I64=\"\",\"\",SUMIFS(Inventário!$N$10:$N$150,Inventário!$D$10:$D$150,Estoque!J$10,Inventário!$E$10:$E$150,Estoque!$C64)),\"ERRO\")","v":""},{"$f":"IFERROR(IF(J64=\"\",\"\",SUMIFS(Inventário!$N$10:$N$150,Inventário!$D$10:$D$150,Estoque!K$10,Inventário!$E$10:$E$150,Estoque!$C64)),\"ERRO\")","v":""},{"$f":"IFERROR(IF(K64=\"\",\"\",SUMIFS(Inventário!$N$10:$N$150,Inventário!$D$10:$D$150,Estoque!L$10,Inventário!$E$10:$E$150,Estoque!$C64)),\"ERRO\")","v":""},{"$f":"IFERROR(IF(L64=\"\",\"\",SUMIFS(Inventário!$N$10:$N$150,Inventário!$D$10:$D$150,Estoque!M$10,Inventário!$E$10:$E$150,Estoque!$C64)),\"ERRO\")","v":""},{"$f":"IFERROR(IF(M64=\"\",\"\",SUMIFS(Inventário!$N$10:$N$150,Inventário!$D$10:$D$150,Estoque!N$10,Inventário!$E$10:$E$150,Estoque!$C64)),\"ERRO\")","v":""},{"$f":"IFERROR(IF(N64=\"\",\"\",SUMIFS(Inventário!$N$10:$N$150,Inventário!$D$10:$D$150,Estoque!O$10,Inventário!$E$10:$E$150,Estoque!$C64)),\"ERRO\")","v":""},null,null,null,{"$f":"Inventário!$E61","v":0}]
[null,53,{"$f":"IF('Cadastro de Produtos'!C57=\"\",\"\",VLOOKUP(B65,'Cadastro de Produtos'!$B$5:$C$204,2,0))","v":""},{"$f":"IFERROR(IF(C65=\"\",\"\",SUMIFS(Inventário!$N$10:$N$150,Inventário!$D$10:$D$150,Estoque!D$10,Inventário!$E$10:$E$150,Estoque!$C65)),\"ERRO\")","v":""},{"$f":"IFERROR(IF(D65=\"\",\"\",SUMIFS(Inventário!$N$10:$N$150,Inventário!$D$10:$D$150,Estoque!E$10,Inventário!$E$10:$E$150,Estoque!$C65)),\"ERRO\")","v":""},{"$f":"IFERROR(IF(E65=\"\",\"\",SUMIFS(Inventário!$N$10:$N$150,Inventário!$D$10:$D$150,Estoque!F$10,Inventário!$E$10:$E$150,Estoque!$C65)),\"ERRO\")","v":""},{"$f":"IFERROR(IF(F65=\"\",\"\",SUMIFS(Inventário!$N$10:$N$150,Inventário!$D$10:$D$150,Estoque!G$10,Inventário!$E$10:$E$150,Estoque!$C65)),\"ERRO\")","v":""},{"$f":"IFERROR(IF(G65=\"\",\"\",SUMIFS(Inventário!$N$10:$N$150,Inventário!$D$10:$D$150,Estoque!H$10,Inventário!$E$10:$E$150,Estoque!$C65)),\"ERRO\")","v":""},{"$f":"IFERROR(IF(H65=\"\",\"\",SUMIFS(Inventário!$N$10:$N$150,Inventário!$D$10:$D$150,Estoque!I$10,Inventário!$E$10:$E$150,Estoque!$C65)),\"ERRO\")","v":""},{"$f":"IFERROR(IF(I65=\"\",\"\",SUMIFS(Inventário!$N$10:$N$150,Inventário!$D$10:$D$150,Estoque!J$10,Inventário!$E$10:$E$150,Estoque!$C65)),\"ERRO\")","v":""},{"$f":"IFERROR(IF(J65=\"\",\"\",SUMIFS(Inventário!$N$10:$N$150,Inventário!$D$10:$D$150,Estoque!K$10,Inventário!$E$10:$E$150,Estoque!$C65)),\"ERRO\")","v":""},{"$f":"IFERROR(IF(K65=\"\",\"\",SUMIFS(Inventário!$N$10:$N$150,Inventário!$D$10:$D$150,Estoque!L$10,Inventário!$E$10:$E$150,Estoque!$C65)),\"ERRO\")","v":""},{"$f":"IFERROR(IF(L65=\"\",\"\",SUMIFS(Inventário!$N$10:$N$150,Inventário!$D$10:$D$150,Estoque!M$10,Inventário!$E$10:$E$150,Estoque!$C65)),\"ERRO\")","v":""},{"$f":"IFERROR(IF(M65=\"\",\"\",SUMIFS(Inventário!$N$10:$N$150,Inventário!$D$10:$D$150,Estoque!N$10,Inventário!$E$10:$E$150,Estoque!$C65)),\"ERRO\")","v":""},{"$f":"IFERROR(IF(N65=\"\",\"\",SUMIFS(Inventário!$N$10:$N$150,Inventário!$D$10:$D$150,Estoque!O$10,Inventário!$E$10:$E$150,Estoque!$C65)),\"ERRO\")","v":""},null,null,null,{"$f":"Inventário!$E62","v":0}]
[null,54,{"$f":"IF('Cadastro de Produtos'!C58=\"\",\"\",VLOOKUP(B66,'Cadastro de Produtos'!$B$5:$C$204,2,0))","v":""},{"$f":"IFERROR(IF(C66=\"\",\"\",SUMIFS(Inventário!$N$10:$N$150,Inventário!$D$10:$D$150,Estoque!D$10,Inventário!$E$10:$E$150,Estoque!$C66)),\"ERRO\")","v":""},{"$f":"IFERROR(IF(D66=\"\",\"\",SUMIFS(Inventário!$N$10:$N$150,Inventário!$D$10:$D$150,Estoque!E$10,Inventário!$E$10:$E$150,Estoque!$C66)),\"ERRO\")","v":""},{"$f":"IFERROR(IF(E66=\"\",\"\",SUMIFS(Inventário!$N$10:$N$150,Inventário!$D$10:$D$150,Estoque!F$10,Inventário!$E$10:$E$150,Estoque!$C66)),\"ERRO\")","v":""},{"$f":"IFERROR(IF(F66=\"\",\"\",SUMIFS(Inventário!$N$10:$N$150,Inventário!$D$10:$D$150,Estoque!G$10,Inventário!$E$10:$E$150,Estoque!$C66)),\"ERRO\")","v":""},{"$f":"IFERROR(IF(G66=\"\",\"\",SUMIFS(Inventário!$N$10:$N$150,Inventário!$D$10:$D$150,Estoque!H$10,Inventário!$E$10:$E$150,Estoque!$C66)),\"ERRO\")","v":""},{"$f":"IFERROR(IF(H66=\"\",\"\",SUMIFS(Inventário!$N$10:$N$150,Inventário!$D$10:$D$150,Estoque!I$10,Inventário!$E$10:$E$150,Estoque!$C66)),\"ERRO\")","v":""},{"$f":"IFERROR(IF(I66=\"\",\"\",SUMIFS(Inventário!$N$10:$N$150,Inventário!$D$10:$D$150,Estoque!J$10,Inventário!$E$10:$E$150,Estoque!$C66)),\"ERRO\")","v":""},{"$f":"IFERROR(IF(J66=\"\",\"\",SUMIFS(Inventário!$N$10:$N$150,Inventário!$D$10:$D$150,Estoque!K$10,Inventário!$E$10:$E$150,Estoque!$C66)),\"ERRO\")","v":""},{"$f":"IFERROR(IF(K66=\"\",\"\",SUMIFS(Inventário!$N$10:$N$150,Inventário!$D$10:$D$150,Estoque!L$10,Inventário!$E$10:$E$150,Estoque!$C66)),\"ERRO\")","v":""},{"$f":"IFERROR(IF(L66=\"\",\"\",SUMIFS(Inventário!$N$10:$N$150,Inventário!$D$10:$D$150,Estoque!M$10,Inventário!$E$10:$E$150,Estoque!$C66)),\"ERRO\")","v":""},{"$f":"IFERROR(IF(M66=\"\",\"\",SUMIFS(Inventário!$N$10:$N$150,Inventário!$D$10:$D$150,Estoque!N$10,Inventário!$E$10:$E$150,Estoque!$C66)),\"ERRO\")","v":""},{"$f":"IFERROR(IF(N66=\"\",\"\",SUMIFS(Inventário!$N$10:$N$150,Inventário!$D$10:$D$150,Estoque!O$10,Inventário!$E$10:$E$150,Estoque!$C66)),\"ERRO\")","v":""},null,null,null,{"$f":"Inventário!$E63","v":0}]
[null,55,{"$f":"IF('Cadastro de Produtos'!C59=\"\",\"\",VLOOKUP(B67,'Cadastro de Produtos'!$B$5:$C$204,2,0))","v":""},{"$f":"IFERROR(IF(C67=\"\",\"\",SUMIFS(Inventário!$N$10:$N$150,Inventário!$D$10:$D$150,Estoque!D$10,Inventário!$E$10:$E$150,Estoque!$C67)),\"ERRO\")","v":""},{"$f":"IFERROR(IF(D67=\"\",\"\",SUMIFS(Inventário!$N$10:$N$150,Inventário!$D$10:$D$150,Estoque!E$10,Inventário!$E$10:$E$150,Estoque!$C67)),\"ERRO\")","v":""},{"$f":"IFERROR(IF(E67=\"\",\"\",SUMIFS(Inventário!$N$10:$N$150,Inventário!$D$10:$D$150,Estoque!F$10,Inventário!$E$10:$E$150,Estoque!$C67)),\"ERRO\")","v":""},{"$f":"IFERROR(IF(F67=\"\",\"\",SUMIFS(Inventário!$N$10:$N$150,Inventário!$D$10:$D$150,Estoque!G$10,Inventário!$E$10:$E$150,Estoque!$C67)),\"ERRO\")","v":""},{"$f":"IFERROR(IF(G67=\"\",\"\",SUMIFS(Inventário!$N$10:$N$150,Inventário!$D$10:$D$150,Estoque!H$10,Inventário!$E$10:$E$150,Estoque!$C67)),\"ERRO\")","v":""},{"$f":"IFERROR(IF(H67=\"\",\"\",SUMIFS(Inventário!$N$10:$N$150,Inventário!$D$10:$D$150,Estoque!I$10,Inventário!$E$10:$E$150,Estoque!$C67)),\"ERRO\")","v":""},{"$f":"IFERROR(IF(I67=\"\",\"\",SUMIFS(Inventário!$N$10:$N$150,Inventário!$D$10:$D$150,Estoque!J$10,Inventário!$E$10:$E$150,Estoque!$C67)),\"ERRO\")","v":""},{"$f":"IFERROR(IF(J67=\"\",\"\",SUMIFS(Inventário!$N$10:$N$150,Inventário!$D$10:$D$150,Estoque!K$10,Inventário!$E$10:$E$150,Estoque!$C67)),\"ERRO\")","v":""},{"$f":"IFERROR(IF(K67=\"\",\"\",SUMIFS(Inventário!$N$10:$N$150,Inventário!$D$10:$D$150,Estoque!L$10,Inventário!$E$10:$E$150,Estoque!$C67)),\"ERRO\")","v":""},{"$f":"IFERROR(IF(L67=\"\",\"\",SUMIFS(Inventário!$N$10:$N$150,Inventário!$D$10:$D$150,Estoque!M$10,Inventário!$E$10:$E$150,Estoque!$C67)),\"ERRO\")","v":""},{"$f":"IFERROR(IF(M67=\"\",\"\",SUMIFS(Inventário!$N$10:$N$150,Inventário!$D$10:$D$150,Estoque!N$10,Inventário!$E$10:$E$150,Estoque!$C67)),\"ERRO\")","v":""},{"$f":"IFERROR(IF(N67=\"\",\"\",SUMIFS(Inventário!$N$10:$N$150,Inventário!$D$10:$D$150,Estoque!O$10,Inventário!$E$10:$E$150,Estoque!$C67)),\"ERRO\")","v":""},null,null,null,{"$f":"Inventário!$E64","v":0}]
[null,56,{"$f":"IF('Cadastro de Produtos'!C60=\"\",\"\",VLOOKUP(B68,'Cadastro de Produtos'!$B$5:$C$204,2,0))","v":""},{"$f":"IFERROR(IF(C68=\"\",\"\",SUMIFS(Inventário!$N$10:$N$150,Inventário!$D$10:$D$150,Estoque!D$10,Inventário!$E$10:$E$150,Estoque!$C68)),\"ERRO\")","v":""},{"$f":"IFERROR(IF(D68=\"\",\"\",SUMIFS(Inventário!$N$10:$N$150,Inventário!$D$10:$D$150,Estoque!E$10,Inventário!$E$10:$E$150,Estoque!$C68)),\"ERRO\")","v":""},{"$f":"IFERROR(IF(E68=\"\",\"\",SUMIFS(Inventário!$N$10:$N$150,Inventário!$D$10:$D$150,Estoque!F$10,Inventário!$E$10:$E$150,Estoque!$C68)),\"ERRO\")","v":""},{"$f":"IFERROR(IF(F68=\"\",\"\",SUMIFS(Inventário!$N$10:$N$150,Inventário!$D$10:$D$150,Estoque!G$10,Inventário!$E$10:$E$150,Estoque!$C68)),\"ERRO\")","v":""},{"$f":"IFERROR(IF(G68=\"\",\"\",SUMIFS(Inventário!$N$10:$N$150,Inventário!$D$10:$D$150,Estoque!H$10,Inventário!$E$10:$E$150,Estoque!$C68)),\"ERRO\")","v":""},{"$f":"IFERROR(IF(H68=\"\",\"\",SUMIFS(Inventário!$N$10:$N$150,Inventário!$D$10:$D$150,Estoque!I$10,Inventário!$E$10:$E$150,Estoque!$C68)),\"ERRO\")","v":""},{"$f":"IFERROR(IF(I68=\"\",\"\",SUMIFS(Inventário!$N$10:$N$150,Inventário!$D$10:$D$150,Estoque!J$10,Inventário!$E$10:$E$150,Estoque!$C68)),\"ERRO\")","v":""},{"$f":"IFERROR(IF(J68=\"\",\"\",SUMIFS(Inventário!$N$10:$N$150,Inventário!$D$10:$D$150,Estoque!K$10,Inventário!$E$10:$E$150,Estoque!$C68)),\"ERRO\")","v":""},{"$f":"IFERROR(IF(K68=\"\",\"\",SUMIFS(Inventário!$N$10:$N$150,Inventário!$D$10:$D$150,Estoque!L$10,Inventário!$E$10:$E$150,Estoque!$C68)),\"ERRO\")","v":""},{"$f":"IFERROR(IF(L68=\"\",\"\",SUMIFS(Inventário!$N$10:$N$150,Inventário!$D$10:$D$150,Estoque!M$10,Inventário!$E$10:$E$150,Estoque!$C68)),\"ERRO\")","v":""},{"$f":"IFERROR(IF(M68=\"\",\"\",SUMIFS(Inventário!$N$10:$N$150,Inventário!$D$10:$D$150,Estoque!N$10,Inventário!$E$10:$E$150,Estoque!$C68)),\"ERRO\")","v":""},{"$f":"IFERROR(IF(N68=\"\",\"\",SUMIFS(Inventário!$N$10:$N$150,Inventário!$D$10:$D$150,Estoque!O$10,Inventário!$E$10:$E$150,Estoque!$C68)),\"ERRO\")","v":""},null,null,null,{"$f":"Inventário!$E65","v":0}]
[null,57,{"$f":"IF('Cadastro de Produtos'!C61=\"\",\"\",VLOOKUP(B69,'Cadastro de Produtos'!$B$5:$C$204,2,0))","v":""},{"$f":"IFERROR(IF(C69=\"\",\"\",SUMIFS(Inventário!$N$10:$N$150,Inventário!$D$10:$D$150,Estoque!D$10,Inventário!$E$10:$E$150,Estoque!$C69)),\"ERRO\")","v":""},{"$f":"IFERROR(IF(D69=\"\",\"\",SUMIFS(Inventário!$N$10:$N$150,Inventário!$D$10:$D$150,Estoque!E$10,Inventário!$E$10:$E$150,Estoque!$C69)),\"ERRO\")","v":""},{"$f":"IFERROR(IF(E69=\"\",\"\",SUMIFS(Inventário!$N$10:$N$150,Inventário!$D$10:$D$150,Estoque!F$10,Inventário!$E$10:$E$150,Estoque!$C69)),\"ERRO\")","v":""},{"$f":"IFERROR(IF(F69=\"\",\"\",SUMIFS(Inventário!$N$10:$N$150,Inventário!$D$10:$D$150,Estoque!G$10,Inventário!$E$10:$E$150,Estoque!$C69)),\"ERRO\")","v":""},{"$f":"IFERROR(IF(G69=\"\",\"\",SUMIFS(Inventário!$N$10:$N$150,Inventário!$D$10:$D$150,Estoque!H$10,Inventário!$E$10:$E$150,Estoque!$C69)),\"ERRO\")","v":""},{"$f":"IFERROR(IF(H69=\"\",\"\",SUMIFS(Inventário!$N$10:$N$150,Inventário!$D$10:$D$150,Estoque!I$10,Inventário!$E$10:$E$150,Estoque!$C69)),\"ERRO\")","v":""},{"$f":"IFERROR(IF(I69=\"\",\"\",SUMIFS(Inventário!$N$10:$N$150,Inventário!$D$10:$D$150,Estoque!J$10,Inventário!$E$10:$E$150,Estoque!$C69)),\"ERRO\")","v":""},{"$f":"IFERROR(IF(J69=\"\",\"\",SUMIFS(Inventário!$N$10:$N$150,Inventário!$D$10:$D$150,Estoque!K$10,Inventário!$E$10:$E$150,Estoque!$C69)),\"ERRO\")","v":""},{"$f":"IFERROR(IF(K69=\"\",\"\",SUMIFS(Inventário!$N$10:$N$150,Inventário!$D$10:$D$150,Estoque!L$10,Inventário!$E$10:$E$150,Estoque!$C69)),\"ERRO\")","v":""},{"$f":"IFERROR(IF(L69=\"\",\"\",SUMIFS(Inventário!$N$10:$N$150,Inventário!$D$10:$D$150,Estoque!M$10,Inventário!$E$10:$E$150,Estoque!$C69)),\"ERRO\")","v":""},{"$f":"IFERROR(IF(M69=\"\",\"\",SUMIFS(Inventário!$N$10:$N$150,Inventário!$D$10:$D$150,Estoque!N$10,Inventário!$E$10:$E$150,Estoque!$C69)),\"ERRO\")","v":""},{"$f":"IFERROR(IF(N69=\"\",\"\",SUMIFS(Inventário!$N$10:$N$150,Inventário!$D$10:$D$150,Estoque!O$10,Inventário!$E$10:$E$150,Estoque!$C69)),\"ERRO\")","v":""},null,null,null,{"$f":"Inventário!$E66","v":0}]
[null,58,{"$f":"IF('Cadastro de Produtos'!C62=\"\",\"\",VLOOKUP(B70,'Cadastro de Produtos'!$B$5:$C$204,2,0))","v":""},{"$f":"IFERROR(IF(C70=\"\",\"\",SUMIFS(Inventário!$N$10:$N$150,Inventário!$D$10:$D$150,Estoque!D$10,Inventário!$E$10:$E$150,Estoque!$C70)),\"ERRO\")","v":""},{"$f":"IFERROR(IF(D70=\"\",\"\",SUMIFS(Inventário!$N$10:$N$150,Inventário!$D$10:$D$150,Estoque!E$10,Inventário!$E$10:$E$150,Estoque!$C70)),\"ERRO\")","v":""},{"$f":"IFERROR(IF(E70=\"\",\"\",SUMIFS(Inventário!$N$10:$N$150,Inventário!$D$10:$D$150,Estoque!F$10,Inventário!$E$10:$E$150,Estoque!$C70)),\"ERRO\")","v":""},{"$f":"IFERROR(IF(F70=\"\",\"\",SUMIFS(Inventário!$N$10:$N$150,Inventário!$D$10:$D$150,Estoque!G$10,Inventário!$E$10:$E$150,Estoque!$C70)),\"ERRO\")","v":""},{"$f":"IFERROR(IF(G70=\"\",\"\",SUMIFS(Inventário!$N$10:$N$150,Inventário!$D$10:$D$150,Estoque!H$10,Inventário!$E$10:$E$150,Estoque!$C70)),\"ERRO\")","v":""},{"$f":"IFERROR(IF(H70=\"\",\"\",SUMIFS(Inventário!$N$10:$N$150,Inventário!$D$10:$D$150,Estoque!I$10,Inventário!$E$10:$E$150,Estoque!$C70)),\"ERRO\")","v":""},{"$f":"IFERROR(IF(I70=\"\",\"\",SUMIFS(Inventário!$N$10:$N$150,Inventário!$D$10:$D$150,Estoque!J$10,Inventário!$E$10:$E$150,Estoque!$C70)),\"ERRO\")","v":""},{"$f":"IFERROR(IF(J70=\"\",\"\",SUMIFS(Inventário!$N$10:$N$150,Inventário!$D$10:$D$150,Estoque!K$10,Inventário!$E$10:$E$150,Estoque!$C70)),\"ERRO\")","v":""},{"$f":"IFERROR(IF(K70=\"\",\"\",SUMIFS(Inventário!$N$10:$N$150,Inventário!$D$10:$D$150,Estoque!L$10,Inventário!$E$10:$E$150,Estoque!$C70)),\"ERRO\")","v":""},{"$f":"IFERROR(IF(L70=\"\",\"\",SUMIFS(Inventário!$N$10:$N$150,Inventário!$D$10:$D$150,Estoque!M$10,Inventário!$E$10:$E$150,Estoque!$C70)),\"ERRO\")","v":""},{"$f":"IFERROR(IF(M70=\"\",\"\",SUMIFS(Inventário!$N$10:$N$150,Inventário!$D$10:$D$150,Estoque!N$10,Inventário!$E$10:$E$150,Estoque!$C70)),\"ERRO\")","v":""},{"$f":"IFERROR(IF(N70=\"\",\"\",SUMIFS(Inventário!$N$10:$N$150,Inventário!$D$10:$D$150,Estoque!O$10,Inventário!$E$10:$E$150,Estoque!$C70)),\"ERRO\")","v":""},null,null,null,{"$f":"Inventário!$E67","v":0}]
[null,59,{"$f":"IF('Cadastro de Produtos'!C63=\"\",\"\",VLOOKUP(B71,'Cadastro de Produtos'!$B$5:$C$204,2,0))","v":""},{"$f":"IFERROR(IF(C71=\"\",\"\",SUMIFS(Inventário!$N$10:$N$150,Inventário!$D$10:$D$150,Estoque!D$10,Inventário!$E$10:$E$150,Estoque!$C71)),\"ERRO\")","v":""},{"$f":"IFERROR(IF(D71=\"\",\"\",SUMIFS(Inventário!$N$10:$N$150,Inventário!$D$10:$D$150,Estoque!E$10,Inventário!$E$10:$E$150,Estoque!$C71)),\"ERRO\")","v":""},{"$f":"IFERROR(IF(E71=\"\",\"\",SUMIFS(Inventário!$N$10:$N$150,Inventário!$D$10:$D$150,Estoque!F$10,Inventário!$E$10:$E$150,Estoque!$C71)),\"ERRO\")","v":""},{"$f":"IFERROR(IF(F71=\"\",\"\",SUMIFS(Inventário!$N$10:$N$150,Inventário!$D$10:$D$150,Estoque!G$10,Inventário!$E$10:$E$150,Estoque!$C71)),\"ERRO\")","v":""},{"$f":"IFERROR(IF(G71=\"\",\"\",SUMIFS(Inventário!$N$10:$N$150,Inventário!$D$10:$D$150,Estoque!H$10,Inventário!$E$10:$E$150,Estoque!$C71)),\"ERRO\")","v":""},{"$f":"IFERROR(IF(H71=\"\",\"\",SUMIFS(Inventário!$N$10:$N$150,Inventário!$D$10:$D$150,Estoque!I$10,Inventário!$E$10:$E$150,Estoque!$C71)),\"ERRO\")","v":""},{"$f":"IFERROR(IF(I71=\"\",\"\",SUMIFS(Inventário!$N$10:$N$150,Inventário!$D$10:$D$150,Estoque!J$10,Inventário!$E$10:$E$150,Estoque!$C71)),\"ERRO\")","v":""},{"$f":"IFERROR(IF(J71=\"\",\"\",SUMIFS(Inventário!$N$10:$N$150,Inventário!$D$10:$D$150,Estoque!K$10,Inventário!$E$10:$E$150,Estoque!$C71)),\"ERRO\")","v":""},{"$f":"IFERROR(IF(K71=\"\",\"\",SUMIFS(Inventário!$N$10:$N$150,Inventário!$D$10:$D$150,Estoque!L$10,Inventário!$E$10:$E$150,Estoque!$C71)),\"ERRO\")","v":""},{"$f":"IFERROR(IF(L71=\"\",\"\",SUMIFS(Inventário!$N$10:$N$150,Inventário!$D$10:$D$150,Estoque!M$10,Inventário!$E$10:$E$150,Estoque!$C71)),\"ERRO\")","v":""},{"$f":"IFERROR(IF(M71=\"\",\"\",SUMIFS(Inventário!$N$10:$N$150,Inventário!$D$10:$D$150,Estoque!N$10,Inventário!$E$10:$E$150,Estoque!$C71)),\"ERRO\")","v":""},{"$f":"IFERROR(IF(N71=\"\",\"\",SUMIFS(Inventário!$N$10:$N$150,Inventário!$D$10:$D$150,Estoque!O$10,Inventário!$E$10:$E$150,Estoque!$C71)),\"ERRO\")","v":""},null,null,null,{"$f":"Inventário!$E68","v":0}]
[null,60,{"$f":"IF('Cadastro de Produtos'!C64=\"\",\"\",VLOOKUP(B72,'Cadastro de Produtos'!$B$5:$C$204,2,0))","v":""},{"$f":"IFERROR(IF(C72=\"\",\"\",SUMIFS(Inventário!$N$10:$N$150,Inventário!$D$10:$D$150,Estoque!D$10,Inventário!$E$10:$E$150,Estoque!$C72)),\"ERRO\")","v":""},{"$f":"IFERROR(IF(D72=\"\",\"\",SUMIFS(Inventário!$N$10:$N$150,Inventário!$D$10:$D$150,Estoque!E$10,Inventário!$E$10:$E$150,Estoque!$C72)),\"ERRO\")","v":""},{"$f":"IFERROR(IF(E72=\"\",\"\",SUMIFS(Inventário!$N$10:$N$150,Inventário!$D$10:$D$150,Estoque!F$10,Inventário!$E$10:$E$150,Estoque!$C72)),\"ERRO\")","v":""},{"$f":"IFERROR(IF(F72=\"\",\"\",SUMIFS(Inventário!$N$10:$N$150,Inventário!$D$10:$D$150,Estoque!G$10,Inventário!$E$10:$E$150,Estoque!$C72)),\"ERRO\")","v":""},{"$f":"IFERROR(IF(G72=\"\",\"\",SUMIFS(Inventário!$N$10:$N$150,Inventário!$D$10:$D$150,Estoque!H$10,Inventário!$E$10:$E$150,Estoque!$C72)),\"ERRO\")","v":""},{"$f":"IFERROR(IF(H72=\"\",\"\",SUMIFS(Inventário!$N$10:$N$150,Inventário!$D$10:$D$150,Estoque!I$10,Inventário!$E$10:$E$150,Estoque!$C72)),\"ERRO\")","v":""},{"$f":"IFERROR(IF(I72=\"\",\"\",SUMIFS(Inventário!$N$10:$N$150,Inventário!$D$10:$D$150,Estoque!J$10,Inventário!$E$10:$E$150,Estoque!$C72)),\"ERRO\")","v":""},{"$f":"IFERROR(IF(J72=\"\",\"\",SUMIFS(Inventário!$N$10:$N$150,Inventário!$D$10:$D$150,Estoque!K$10,Inventário!$E$10:$E$150,Estoque!$C72)),\"ERRO\")","v":""},{"$f":"IFERROR(IF(K72=\"\",\"\",SUMIFS(Inventário!$N$10:$N$150,Inventário!$D$10:$D$150,Estoque!L$10,Inventário!$E$10:$E$150,Estoque!$C72)),\"ERRO\")","v":""},{"$f":"IFERROR(IF(L72=\"\",\"\",SUMIFS(Inventário!$N$10:$N$150,Inventário!$D$10:$D$150,Estoque!M$10,Inventário!$E$10:$E$150,Estoque!$C72)),\"ERRO\")","v":""},{"$f":"IFERROR(IF(M72=\"\",\"\",SUMIFS(Inventário!$N$10:$N$150,Inventário!$D$10:$D$150,Estoque!N$10,Inventário!$E$10:$E$150,Estoque!$C72)),\"ERRO\")","v":""},{"$f":"IFERROR(IF(N72=\"\",\"\",SUMIFS(Inventário!$N$10:$N$150,Inventário!$D$10:$D$150,Estoque!O$10,Inventário!$E$10:$E$150,Estoque!$C72)),\"ERRO\")","v":""},null,null,null,{"$f":"Inventário!$E69","v":0}]
[null,61,{"$f":"IF('Cadastro de Produtos'!C65=\"\",\"\",VLOOKUP(B73,'Cadastro de Produtos'!$B$5:$C$204,2,0))","v":""},{"$f":"IFERROR(IF(C73=\"\",\"\",SUMIFS(Inventário!$N$10:$N$150,Inventário!$D$10:$D$150,Estoque!D$10,Inventário!$E$10:$E$150,Estoque!$C73)),\"ERRO\")","v":""},{"$f":"IFERROR(IF(D73=\"\",\"\",SUMIFS(Inventário!$N$10:$N$150,Inventário!$D$10:$D$150,Estoque!E$10,Inventário!$E$10:$E$150,Estoque!$C73)),\"ERRO\")","v":""},{"$f":"IFERROR(IF(E73=\"\",\"\",SUMIFS(Inventário!$N$10:$N$150,Inventário!$D$10:$D$150,Estoque!F$10,Inventário!$E$10:$E$150,Estoque!$C73)),\"ERRO\")","v":""},{"$f":"IFERROR(IF(F73=\"\",\"\",SUMIFS(Inventário!$N$10:$N$150,Inventário!$D$10:$D$150,Estoque!G$10,Inventário!$E$10:$E$150,Estoque!$C73)),\"ERRO\")","v":""},{"$f":"IFERROR(IF(G73=\"\",\"\",SUMIFS(Inventário!$N$10:$N$150,Inventário!$D$10:$D$150,Estoque!H$10,Inventário!$E$10:$E$150,Estoque!$C73)),\"ERRO\")","v":""},{"$f":"IFERROR(IF(H73=\"\",\"\",SUMIFS(Inventário!$N$10:$N$150,Inventário!$D$10:$D$150,Estoque!I$10,Inventário!$E$10:$E$150,Estoque!$C73)),\"ERRO\")","v":""},{"$f":"IFERROR(IF(I73=\"\",\"\",SUMIFS(Inventário!$N$10:$N$150,Inventário!$D$10:$D$150,Estoque!J$10,Inventário!$E$10:$E$150,Estoque!$C73)),\"ERRO\")","v":""},{"$f":"IFERROR(IF(J73=\"\",\"\",SUMIFS(Inventário!$N$10:$N$150,Inventário!$D$10:$D$150,Estoque!K$10,Inventário!$E$10:$E$150,Estoque!$C73)),\"ERRO\")","v":""},{"$f":"IFERROR(IF(K73=\"\",\"\",SUMIFS(Inventário!$N$10:$N$150,Inventário!$D$10:$D$150,Estoque!L$10,Inventário!$E$10:$E$150,Estoque!$C73)),\"ERRO\")","v":""},{"$f":"IFERROR(IF(L73=\"\",\"\",SUMIFS(Inventário!$N$10:$N$150,Inventário!$D$10:$D$150,Estoque!M$10,Inventário!$E$10:$E$150,Estoque!$C73)),\"ERRO\")","v":""},{"$f":"IFERROR(IF(M73=\"\",\"\",SUMIFS(Inventário!$N$10:$N$150,Inventário!$D$10:$D$150,Estoque!N$10,Inventário!$E$10:$E$150,Estoque!$C73)),\"ERRO\")","v":""},{"$f":"IFERROR(IF(N73=\"\",\"\",SUMIFS(Inventário!$N$10:$N$150,Inventário!$D$10:$D$150,Estoque!O$10,Inventário!$E$10:$E$150,Estoque!$C73)),\"ERRO\")","v":""},null,null,null,{"$f":"Inventário!$E70","v":0}]
[null,62,{"$f":"IF('Cadastro de Produtos'!C66=\"\",\"\",VLOOKUP(B74,'Cadastro de Produtos'!$B$5:$C$204,2,0))","v":""},{"$f":"IFERROR(IF(C74=\"\",\"\",SUMIFS(Inventário!$N$10:$N$150,Inventário!$D$10:$D$150,Estoque!D$10,Inventário!$E$10:$E$150,Estoque!$C74)),\"ERRO\")","v":""},{"$f":"IFERROR(IF(D74=\"\",\"\",SUMIFS(Inventário!$N$10:$N$150,Inventário!$D$10:$D$150,Estoque!E$10,Inventário!$E$10:$E$150,Estoque!$C74)),\"ERRO\")","v":""},{"$f":"IFERROR(IF(E74=\"\",\"\",SUMIFS(Inventário!$N$10:$N$150,Inventário!$D$10:$D$150,Estoque!F$10,Inventário!$E$10:$E$150,Estoque!$C74)),\"ERRO\")","v":""},{"$f":"IFERROR(IF(F74=\"\",\"\",SUMIFS(Inventário!$N$10:$N$150,Inventário!$D$10:$D$150,Estoque!G$10,Inventário!$E$10:$E$150,Estoque!$C74)),\"ERRO\")","v":""},{"$f":"IFERROR(IF(G74=\"\",\"\",SUMIFS(Inventário!$N$10:$N$150,Inventário!$D$10:$D$150,Estoque!H$10,Inventário!$E$10:$E$150,Estoque!$C74)),\"ERRO\")","v":""},{"$f":"IFERROR(IF(H74=\"\",\"\",SUMIFS(Inventário!$N$10:$N$150,Inventário!$D$10:$D$150,Estoque!I$10,Inventário!$E$10:$E$150,Estoque!$C74)),\"ERRO\")","v":""},{"$f":"IFERROR(IF(I74=\"\",\"\",SUMIFS(Inventário!$N$10:$N$150,Inventário!$D$10:$D$150,Estoque!J$10,Inventário!$E$10:$E$150,Estoque!$C74)),\"ERRO\")","v":""},{"$f":"IFERROR(IF(J74=\"\",\"\",SUMIFS(Inventário!$N$10:$N$150,Inventário!$D$10:$D$150,Estoque!K$10,Inventário!$E$10:$E$150,Estoque!$C74)),\"ERRO\")","v":""},{"$f":"IFERROR(IF(K74=\"\",\"\",SUMIFS(Inventário!$N$10:$N$150,Inventário!$D$10:$D$150,Estoque!L$10,Inventário!$E$10:$E$150,Estoque!$C74)),\"ERRO\")","v":""},{"$f":"IFERROR(IF(L74=\"\",\"\",SUMIFS(Inventário!$N$10:$N$150,Inventário!$D$10:$D$150,Estoque!M$10,Inventário!$E$10:$E$150,Estoque!$C74)),\"ERRO\")","v":""},{"$f":"IFERROR(IF(M74=\"\",\"\",SUMIFS(Inventário!$N$10:$N$150,Inventário!$D$10:$D$150,Estoque!N$10,Inventário!$E$10:$E$150,Estoque!$C74)),\"ERRO\")","v":""},{"$f":"IFERROR(IF(N74=\"\",\"\",SUMIFS(Inventário!$N$10:$N$150,Inventário!$D$10:$D$150,Estoque!O$10,Inventário!$E$10:$E$150,Estoque!$C74)),\"ERRO\")","v":""},null,null,null,{"$f":"Inventário!$E71","v":0}]
[null,63,{"$f":"IF('Cadastro de Produtos'!C67=\"\",\"\",VLOOKUP(B75,'Cadastro de Produtos'!$B$5:$C$204,2,0))","v":""},{"$f":"IFERROR(IF(C75=\"\",\"\",SUMIFS(Inventário!$N$10:$N$150,Inventário!$D$10:$D$150,Estoque!D$10,Inventário!$E$10:$E$150,Estoque!$C75)),\"ERRO\")","v":""},{"$f":"IFERROR(IF(D75=\"\",\"\",SUMIFS(Inventário!$N$10:$N$150,Inventário!$D$10:$D$150,Estoque!E$10,Inventário!$E$10:$E$150,Estoque!$C75)),\"ERRO\")","v":""},{"$f":"IFERROR(IF(E75=\"\",\"\",SUMIFS(Inventário!$N$10:$N$150,Inventário!$D$10:$D$150,Estoque!F$10,Inventário!$E$10:$E$150,Estoque!$C75)),\"ERRO\")","v":""},{"$f":"IFERROR(IF(F75=\"\",\"\",SUMIFS(Inventário!$N$10:$N$150,Inventário!$D$10:$D$150,Estoque!G$10,Inventário!$E$10:$E$150,Estoque!$C75)),\"ERRO\")","v":""},{"$f":"IFERROR(IF(G75=\"\",\"\",SUMIFS(Inventário!$N$10:$N$150,Inventário!$D$10:$D$150,Estoque!H$10,Inventário!$E$10:$E$150,Estoque!$C75)),\"ERRO\")","v":""},{"$f":"IFERROR(IF(H75=\"\",\"\",SUMIFS(Inventário!$N$10:$N$150,Inventário!$D$10:$D$150,Estoque!I$10,Inventário!$E$10:$E$150,Estoque!$C75)),\"ERRO\")","v":""},{"$f":"IFERROR(IF(I75=\"\",\"\",SUMIFS(Inventário!$N$10:$N$150,Inventário!$D$10:$D$150,Estoque!J$10,Inventário!$E$10:$E$150,Estoque!$C75)),\"ERRO\")","v":""},{"$f":"IFERROR(IF(J75=\"\",\"\",SUMIFS(Inventário!$N$10:$N$150,Inventário!$D$10:$D$150,Estoque!K$10,Inventário!$E$10:$E$150,Estoque!$C75)),\"ERRO\")","v":""},{"$f":"IFERROR(IF(K75=\"\",\"\",SUMIFS(Inventário!$N$10:$N$150,Inventário!$D$10:$D$150,Estoque!L$10,Inventário!$E$10:$E$150,Estoque!$C75)),\"ERRO\")","v":""},{"$f":"IFERROR(IF(L75=\"\",\"\",SUMIFS(Inventário!$N$10:$N$150,Inventário!$D$10:$D$150,Estoque!M$10,Inventário!$E$10:$E$150,Estoque!$C75)),\"ERRO\")","v":""},{"$f":"IFERROR(IF(M75=\"\",\"\",SUMIFS(Inventário!$N$10:$N$150,Inventário!$D$10:$D$150,Estoque!N$10,Inventário!$E$10:$E$150,Estoque!$C75)),\"ERRO\")","v":""},{"$f":"IFERROR(IF(N75=\"\",\"\",SUMIFS(Inventário!$N$10:$N$150,Inventário!$D$10:$D$150,Estoque!O$10,Inventário!$E$10:$E$150,Estoque!$C75)),\"ERRO\")","v":""},null,null,null,{"$f":"Inventário!$E72","v":0}]
[null,64,{"$f":"IF('Cadastro de Produtos'!C68=\"\",\"\",VLOOKUP(B76,'Cadastro de Produtos'!$B$5:$C$204,2,0))","v":""},{"$f":"IFERROR(IF(C76=\"\",\"\",SUMIFS(Inventário!$N$10:$N$150,Inventário!$D$10:$D$150,Estoque!D$10,Inventário!$E$10:$E$150,Estoque!$C76)),\"ERRO\")","v":""},{"$f":"IFERROR(IF(D76=\"\",\"\",SUMIFS(Inventário!$N$10:$N$150,Inventário!$D$10:$D$150,Estoque!E$10,Inventário!$E$10:$E$150,Estoque!$C76)),\"ERRO\")","v":""},{"$f":"IFERROR(IF(E76=\"\",\"\",SUMIFS(Inventário!$N$10:$N$150,Inventário!$D$10:$D$150,Estoque!F$10,Inventário!$E$10:$E$150,Estoque!$C76)),\"ERRO\")","v":""},{"$f":"IFERROR(IF(F76=\"\",\"\",SUMIFS(Inventário!$N$10:$N$150,Inventário!$D$10:$D$150,Estoque!G$10,Inventário!$E$10:$E$150,Estoque!$C76)),\"ERRO\")","v":""},{"$f":"IFERROR(IF(G76=\"\",\"\",SUMIFS(Inventário!$N$10:$N$150,Inventário!$D$10:$D$150,Estoque!H$10,Inventário!$E$10:$E$150,Estoque!$C76)),\"ERRO\")","v":""},{"$f":"IFERROR(IF(H76=\"\",\"\",SUMIFS(Inventário!$N$10:$N$150,Inventário!$D$10:$D$150,Estoque!I$10,Inventário!$E$10:$E$150,Estoque!$C76)),\"ERRO\")","v":""},{"$f":"IFERROR(IF(I76=\"\",\"\",SUMIFS(Inventário!$N$10:$N$150,Inventário!$D$10:$D$150,Estoque!J$10,Inventário!$E$10:$E$150,Estoque!$C76)),\"ERRO\")","v":""},{"$f":"IFERROR(IF(J76=\"\",\"\",SUMIFS(Inventário!$N$10:$N$150,Inventário!$D$10:$D$150,Estoque!K$10,Inventário!$E$10:$E$150,Estoque!$C76)),\"ERRO\")","v":""},{"$f":"IFERROR(IF(K76=\"\",\"\",SUMIFS(Inventário!$N$10:$N$150,Inventário!$D$10:$D$150,Estoque!L$10,Inventário!$E$10:$E$150,Estoque!$C76)),\"ERRO\")","v":""},{"$f":"IFERROR(IF(L76=\"\",\"\",SUMIFS(Inventário!$N$10:$N$150,Inventário!$D$10:$D$150,Estoque!M$10,Inventário!$E$10:$E$150,Estoque!$C76)),\"ERRO\")","v":""},{"$f":"IFERROR(IF(M76=\"\",\"\",SUMIFS(Inventário!$N$10:$N$150,Inventário!$D$10:$D$150,Estoque!N$10,Inventário!$E$10:$E$150,Estoque!$C76)),\"ERRO\")","v":""},{"$f":"IFERROR(IF(N76=\"\",\"\",SUMIFS(Inventário!$N$10:$N$150,Inventário!$D$10:$D$150,Estoque!O$10,Inventário!$E$10:$E$150,Estoque!$C76)),\"ERRO\")","v":""},null,null,null,{"$f":"Inventário!$E73","v":0}]
[null,65,{"$f":"IF('Cadastro de Produtos'!C69=\"\",\"\",VLOOKUP(B77,'Cadastro de Produtos'!$B$5:$C$204,2,0))","v":""},{"$f":"IFERROR(IF(C77=\"\",\"\",SUMIFS(Inventário!$N$10:$N$150,Inventário!$D$10:$D$150,Estoque!D$10,Inventário!$E$10:$E$150,Estoque!$C77)),\"ERRO\")","v":""},{"$f":"IFERROR(IF(D77=\"\",\"\",SUMIFS(Inventário!$N$10:$N$150,Inventário!$D$10:$D$150,Estoque!E$10,Inventário!$E$10:$E$150,Estoque!$C77)),\"ERRO\")","v":""},{"$f":"IFERROR(IF(E77=\"\",\"\",SUMIFS(Inventário!$N$10:$N$150,Inventário!$D$10:$D$150,Estoque!F$10,Inventário!$E$10:$E$150,Estoque!$C77)),\"ERRO\")","v":""},{"$f":"IFERROR(IF(F77=\"\",\"\",SUMIFS(Inventário!$N$10:$N$150,Inventário!$D$10:$D$150,Estoque!G$10,Inventário!$E$10:$E$150,Estoque!$C77)),\"ERRO\")","v":""},{"$f":"IFERROR(IF(G77=\"\",\"\",SUMIFS(Inventário!$N$10:$N$150,Inventário!$D$10:$D$150,Estoque!H$10,Inventário!$E$10:$E$150,Estoque!$C77)),\"ERRO\")","v":""},{"$f":"IFERROR(IF(H77=\"\",\"\",SUMIFS(Inventário!$N$10:$N$150,Inventário!$D$10:$D$150,Estoque!I$10,Inventário!$E$10:$E$150,Estoque!$C77)),\"ERRO\")","v":""},{"$f":"IFERROR(IF(I77=\"\",\"\",SUMIFS(Inventário!$N$10:$N$150,Inventário!$D$10:$D$150,Estoque!J$10,Inventário!$E$10:$E$150,Estoque!$C77)),\"ERRO\")","v":""},{"$f":"IFERROR(IF(J77=\"\",\"\",SUMIFS(Inventário!$N$10:$N$150,Inventário!$D$10:$D$150,Estoque!K$10,Inventário!$E$10:$E$150,Estoque!$C77)),\"ERRO\")","v":""},{"$f":"IFERROR(IF(K77=\"\",\"\",SUMIFS(Inventário!$N$10:$N$150,Inventário!$D$10:$D$150,Estoque!L$10,Inventário!$E$10:$E$150,Estoque!$C77)),\"ERRO\")","v":""},{"$f":"IFERROR(IF(L77=\"\",\"\",SUMIFS(Inventário!$N$10:$N$150,Inventário!$D$10:$D$150,Estoque!M$10,Inventário!$E$10:$E$150,Estoque!$C77)),\"ERRO\")","v":""},{"$f":"IFERROR(IF(M77=\"\",\"\",SUMIFS(Inventário!$N$10:$N$150,Inventário!$D$10:$D$150,Estoque!N$10,Inventário!$E$10:$E$150,Estoque!$C77)),\"ERRO\")","v":""},{"$f":"IFERROR(IF(N77=\"\",\"\",SUMIFS(Inventário!$N$10:$N$150,Inventário!$D$10:$D$150,Estoque!O$10,Inventário!$E$10:$E$150,Estoque!$C77)),\"ERRO\")","v":""},null,null,null,{"$f":"Inventário!$E74","v":0}]
[null,66,{"$f":"IF('Cadastro de Produtos'!C70=\"\",\"\",VLOOKUP(B78,'Cadastro de Produtos'!$B$5:$C$204,2,0))","v":""},{"$f":"IFERROR(IF(C78=\"\",\"\",SUMIFS(Inventário!$N$10:$N$150,Inventário!$D$10:$D$150,Estoque!D$10,Inventário!$E$10:$E$150,Estoque!$C78)),\"ERRO\")","v":""},{"$f":"IFERROR(IF(D78=\"\",\"\",SUMIFS(Inventário!$N$10:$N$150,Inventário!$D$10:$D$150,Estoque!E$10,Inventário!$E$10:$E$150,Estoque!$C78)),\"ERRO\")","v":""},{"$f":"IFERROR(IF(E78=\"\",\"\",SUMIFS(Inventário!$N$10:$N$150,Inventário!$D$10:$D$150,Estoque!F$10,Inventário!$E$10:$E$150,Estoque!$C78)),\"ERRO\")","v":""},{"$f":"IFERROR(IF(F78=\"\",\"\",SUMIFS(Inventário!$N$10:$N$150,Inventário!$D$10:$D$150,Estoque!G$10,Inventário!$E$10:$E$150,Estoque!$C78)),\"ERRO\")","v":""},{"$f":"IFERROR(IF(G78=\"\",\"\",SUMIFS(Inventário!$N$10:$N$150,Inventário!$D$10:$D$150,Estoque!H$10,Inventário!$E$10:$E$150,Estoque!$C78)),\"ERRO\")","v":""},{"$f":"IFERROR(IF(H78=\"\",\"\",SUMIFS(Inventário!$N$10:$N$150,Inventário!$D$10:$D$150,Estoque!I$10,Inventário!$E$10:$E$150,Estoque!$C78)),\"ERRO\")","v":""},{"$f":"IFERROR(IF(I78=\"\",\"\",SUMIFS(Inventário!$N$10:$N$150,Inventário!$D$10:$D$150,Estoque!J$10,Inventário!$E$10:$E$150,Estoque!$C78)),\"ERRO\")","v":""},{"$f":"IFERROR(IF(J78=\"\",\"\",SUMIFS(Inventário!$N$10:$N$150,Inventário!$D$10:$D$150,Estoque!K$10,Inventário!$E$10:$E$150,Estoque!$C78)),\"ERRO\")","v":""},{"$f":"IFERROR(IF(K78=\"\",\"\",SUMIFS(Inventário!$N$10:$N$150,Inventário!$D$10:$D$150,Estoque!L$10,Inventário!$E$10:$E$150,Estoque!$C78)),\"ERRO\")","v":""},{"$f":"IFERROR(IF(L78=\"\",\"\",SUMIFS(Inventário!$N$10:$N$150,Inventário!$D$10:$D$150,Estoque!M$10,Inventário!$E$10:$E$150,Estoque!$C78)),\"ERRO\")","v":""},{"$f":"IFERROR(IF(M78=\"\",\"\",SUMIFS(Inventário!$N$10:$N$150,Inventário!$D$10:$D$150,Estoque!N$10,Inventário!$E$10:$E$150,Estoque!$C78)),\"ERRO\")","v":""},{"$f":"IFERROR(IF(N78=\"\",\"\",SUMIFS(Inventário!$N$10:$N$150,Inventário!$D$10:$D$150,Estoque!O$10,Inventário!$E$10:$E$150,Estoque!$C78)),\"ERRO\")","v":""},null,null,null,{"$f":"Inventário!$E75","v":0}]
[null,67,{"$f":"IF('Cadastro de Produtos'!C71=\"\",\"\",VLOOKUP(B79,'Cadastro de Produtos'!$B$5:$C$204,2,0))","v":""},{"$f":"IFERROR(IF(C79=\"\",\"\",SUMIFS(Inventário!$N$10:$N$150,Inventário!$D$10:$D$150,Estoque!D$10,Inventário!$E$10:$E$150,Estoque!$C79)),\"ERRO\")","v":""},{"$f":"IFERROR(IF(D79=\"\",\"\",SUMIFS(Inventário!$N$10:$N$150,Inventário!$D$10:$D$150,Estoque!E$10,Inventário!$E$10:$E$150,Estoque!$C79)),\"ERRO\")","v":""},{"$f":"IFERROR(IF(E79=\"\",\"\",SUMIFS(Inventário!$N$10:$N$150,Inventário!$D$10:$D$150,Estoque!F$10,Inventário!$E$10:$E$150,Estoque!$C79)),\"ERRO\")","v":""},{"$f":"IFERROR(IF(F79=\"\",\"\",SUMIFS(Inventário!$N$10:$N$150,Inventário!$D$10:$D$150,Estoque!G$10,Inventário!$E$10:$E$150,Estoque!$C79)),\"ERRO\")","v":""},{"$f":"IFERROR(IF(G79=\"\",\"\",SUMIFS(Inventário!$N$10:$N$150,Inventário!$D$10:$D$150,Estoque!H$10,Inventário!$E$10:$E$150,Estoque!$C79)),\"ERRO\")","v":""},{"$f":"IFERROR(IF(H79=\"\",\"\",SUMIFS(Inventário!$N$10:$N$150,Inventário!$D$10:$D$150,Estoque!I$10,Inventário!$E$10:$E$150,Estoque!$C79)),\"ERRO\")","v":""},{"$f":"IFERROR(IF(I79=\"\",\"\",SUMIFS(Inventário!$N$10:$N$150,Inventário!$D$10:$D$150,Estoque!J$10,Inventário!$E$10:$E$150,Estoque!$C79)),\"ERRO\")","v":""},{"$f":"IFERROR(IF(J79=\"\",\"\",SUMIFS(Inventário!$N$10:$N$150,Inventário!$D$10:$D$150,Estoque!K$10,Inventário!$E$10:$E$150,Estoque!$C79)),\"ERRO\")","v":""},{"$f":"IFERROR(IF(K79=\"\",\"\",SUMIFS(Inventário!$N$10:$N$150,Inventário!$D$10:$D$150,Estoque!L$10,Inventário!$E$10:$E$150,Estoque!$C79)),\"ERRO\")","v":""},{"$f":"IFERROR(IF(L79=\"\",\"\",SUMIFS(Inventário!$N$10:$N$150,Inventário!$D$10:$D$150,Estoque!M$10,Inventário!$E$10:$E$150,Estoque!$C79)),\"ERRO\")","v":""},{"$f":"IFERROR(IF(M79=\"\",\"\",SUMIFS(Inventário!$N$10:$N$150,Inventário!$D$10:$D$150,Estoque!N$10,Inventário!$E$10:$E$150,Estoque!$C79)),\"ERRO\")","v":""},{"$f":"IFERROR(IF(N79=\"\",\"\",SUMIFS(Inventário!$N$10:$N$150,Inventário!$D$10:$D$150,Estoque!O$10,Inventário!$E$10:$E$150,Estoque!$C79)),\"ERRO\")","v":""},null,null,null,{"$f":"Inventário!$E76","v":0}]
[null,68,{"$f":"IF('Cadastro de Produtos'!C72=\"\",\"\",VLOOKUP(B80,'Cadastro de Produtos'!$B$5:$C$204,2,0))","v":""},{"$f":"IFERROR(IF(C80=\"\",\"\",SUMIFS(Inventário!$N$10:$N$150,Inventário!$D$10:$D$150,Estoque!D$10,Inventário!$E$10:$E$150,Estoque!$C80)),\"ERRO\")","v":""},{"$f":"IFERROR(IF(D80=\"\",\"\",SUMIFS(Inventário!$N$10:$N$150,Inventário!$D$10:$D$150,Estoque!E$10,Inventário!$E$10:$E$150,Estoque!$C80)),\"ERRO\")","v":""},{"$f":"IFERROR(IF(E80=\"\",\"\",SUMIFS(Inventário!$N$10:$N$150,Inventário!$D$10:$D$150,Estoque!F$10,Inventário!$E$10:$E$150,Estoque!$C80)),\"ERRO\")","v":""},{"$f":"IFERROR(IF(F80=\"\",\"\",SUMIFS(Inventário!$N$10:$N$150,Inventário!$D$10:$D$150,Estoque!G$10,Inventário!$E$10:$E$150,Estoque!$C80)),\"ERRO\")","v":""},{"$f":"IFERROR(IF(G80=\"\",\"\",SUMIFS(Inventário!$N$10:$N$150,Inventário!$D$10:$D$150,Estoque!H$10,Inventário!$E$10:$E$150,Estoque!$C80)),\"ERRO\")","v":""},{"$f":"IFERROR(IF(H80=\"\",\"\",SUMIFS(Inventário!$N$10:$N$150,Inventário!$D$10:$D$150,Estoque!I$10,Inventário!$E$10:$E$150,Estoque!$C80)),\"ERRO\")","v":""},{"$f":"IFERROR(IF(I80=\"\",\"\",SUMIFS(Inventário!$N$10:$N$150,Inventário!$D$10:$D$150,Estoque!J$10,Inventário!$E$10:$E$150,Estoque!$C80)),\"ERRO\")","v":""},{"$f":"IFERROR(IF(J80=\"\",\"\",SUMIFS(Inventário!$N$10:$N$150,Inventário!$D$10:$D$150,Estoque!K$10,Inventário!$E$10:$E$150,Estoque!$C80)),\"ERRO\")","v":""},{"$f":"IFERROR(IF(K80=\"\",\"\",SUMIFS(Inventário!$N$10:$N$150,Inventário!$D$10:$D$150,Estoque!L$10,Inventário!$E$10:$E$150,Estoque!$C80)),\"ERRO\")","v":""},{"$f":"IFERROR(IF(L80=\"\",\"\",SUMIFS(Inventário!$N$10:$N$150,Inventário!$D$10:$D$150,Estoque!M$10,Inventário!$E$10:$E$150,Estoque!$C80)),\"ERRO\")","v":""},{"$f":"IFERROR(IF(M80=\"\",\"\",SUMIFS(Inventário!$N$10:$N$150,Inventário!$D$10:$D$150,Estoque!N$10,Inventário!$E$10:$E$150,Estoque!$C80)),\"ERRO\")","v":""},{"$f":"IFERROR(IF(N80=\"\",\"\",SUMIFS(Inventário!$N$10:$N$150,Inventário!$D$10:$D$150,Estoque!O$10,Inventário!$E$10:$E$150,Estoque!$C80)),\"ERRO\")","v":""},null,null,null,{"$f":"Inventário!$E77","v":0}]
[null,69,{"$f":"IF('Cadastro de Produtos'!C73=\"\",\"\",VLOOKUP(B81,'Cadastro de Produtos'!$B$5:$C$204,2,0))","v":""},{"$f":"IFERROR(IF(C81=\"\",\"\",SUMIFS(Inventário!$N$10:$N$150,Inventário!$D$10:$D$150,Estoque!D$10,Inventário!$E$10:$E$150,Estoque!$C81)),\"ERRO\")","v":""},{"$f":"IFERROR(IF(D81=\"\",\"\",SUMIFS(Inventário!$N$10:$N$150,Inventário!$D$10:$D$150,Estoque!E$10,Inventário!$E$10:$E$150,Estoque!$C81)),\"ERRO\")","v":""},{"$f":"IFERROR(IF(E81=\"\",\"\",SUMIFS(Inventário!$N$10:$N$150,Inventário!$D$10:$D$150,Estoque!F$10,Inventário!$E$10:$E$150,Estoque!$C81)),\"ERRO\")","v":""},{"$f":"IFERROR(IF(F81=\"\",\"\",SUMIFS(Inventário!$N$10:$N$150,Inventário!$D$10:$D$150,Estoque!G$10,Inventário!$E$10:$E$150,Estoque!$C81)),\"ERRO\")","v":""},{"$f":"IFERROR(IF(G81=\"\",\"\",SUMIFS(Inventário!$N$10:$N$150,Inventário!$D$10:$D$150,Estoque!H$10,Inventário!$E$10:$E$150,Estoque!$C81)),\"ERRO\")","v":""},{"$f":"IFERROR(IF(H81=\"\",\"\",SUMIFS(Inventário!$N$10:$N$150,Inventário!$D$10:$D$150,Estoque!I$10,Inventário!$E$10:$E$150,Estoque!$C81)),\"ERRO\")","v":""},{"$f":"IFERROR(IF(I81=\"\",\"\",SUMIFS(Inventário!$N$10:$N$150,Inventário!$D$10:$D$150,Estoque!J$10,Inventário!$E$10:$E$150,Estoque!$C81)),\"ERRO\")","v":""},{"$f":"IFERROR(IF(J81=\"\",\"\",SUMIFS(Inventário!$N$10:$N$150,Inventário!$D$10:$D$150,Estoque!K$10,Inventário!$E$10:$E$150,Estoque!$C81)),\"ERRO\")","v":""},{"$f":"IFERROR(IF(K81=\"\",\"\",SUMIFS(Inventário!$N$10:$N$150,Inventário!$D$10:$D$150,Estoque!L$10,Inventário!$E$10:$E$150,Estoque!$C81)),\"ERRO\")","v":""},{"$f":"IFERROR(IF(L81=\"\",\"\",SUMIFS(Inventário!$N$10:$N$150,Inventário!$D$10:$D$150,Estoque!M$10,Inventário!$E$10:$E$150,Estoque!$C81)),\"ERRO\")","v":""},{"$f":"IFERROR(IF(M81=\"\",\"\",SUMIFS(Inventário!$N$10:$N$150,Inventário!$D$10:$D$150,Estoque!N$10,Inventário!$E$10:$E$150,Estoque!$C81)),\"ERRO\")","v":""},{"$f":"IFERROR(IF(N81=\"\",\"\",SUMIFS(Inventário!$N$10:$N$150,Inventário!$D$10:$D$150,Estoque!O$10,Inventário!$E$10:$E$150,Estoque!$C81)),\"ERRO\")","v":""},null,null,null,{"$f":"Inventário!$E78","v":0}]
[null,70,{"$f":"IF('Cadastro de Produtos'!C74=\"\",\"\",VLOOKUP(B82,'Cadastro de Produtos'!$B$5:$C$204,2,0))","v":""},{"$f":"IFERROR(IF(C82=\"\",\"\",SUMIFS(Inventário!$N$10:$N$150,Inventário!$D$10:$D$150,Estoque!D$10,Inventário!$E$10:$E$150,Estoque!$C82)),\"ERRO\")","v":""},{"$f":"IFERROR(IF(D82=\"\",\"\",SUMIFS(Inventário!$N$10:$N$150,Inventário!$D$10:$D$150,Estoque!E$10,Inventário!$E$10:$E$150,Estoque!$C82)),\"ERRO\")","v":""},{"$f":"IFERROR(IF(E82=\"\",\"\",SUMIFS(Inventário!$N$10:$N$150,Inventário!$D$10:$D$150,Estoque!F$10,Inventário!$E$10:$E$150,Estoque!$C82)),\"ERRO\")","v":""},{"$f":"IFERROR(IF(F82=\"\",\"\",SUMIFS(Inventário!$N$10:$N$150,Inventário!$D$10:$D$150,Estoque!G$10,Inventário!$E$10:$E$150,Estoque!$C82)),\"ERRO\")","v":""},{"$f":"IFERROR(IF(G82=\"\",\"\",SUMIFS(Inventário!$N$10:$N$150,Inventário!$D$10:$D$150,Estoque!H$10,Inventário!$E$10:$E$150,Estoque!$C82)),\"ERRO\")","v":""},{"$f":"IFERROR(IF(H82=\"\",\"\",SUMIFS(Inventário!$N$10:$N$150,Inventário!$D$10:$D$150,Estoque!I$10,Inventário!$E$10:$E$150,Estoque!$C82)),\"ERRO\")","v":""},{"$f":"IFERROR(IF(I82=\"\",\"\",SUMIFS(Inventário!$N$10:$N$150,Inventário!$D$10:$D$150,Estoque!J$10,Inventário!$E$10:$E$150,Estoque!$C82)),\"ERRO\")","v":""},{"$f":"IFERROR(IF(J82=\"\",\"\",SUMIFS(Inventário!$N$10:$N$150,Inventário!$D$10:$D$150,Estoque!K$10,Inventário!$E$10:$E$150,Estoque!$C82)),\"ERRO\")","v":""},{"$f":"IFERROR(IF(K82=\"\",\"\",SUMIFS(Inventário!$N$10:$N$150,Inventário!$D$10:$D$150,Estoque!L$10,Inventário!$E$10:$E$150,Estoque!$C82)),\"ERRO\")","v":""},{"$f":"IFERROR(IF(L82=\"\",\"\",SUMIFS(Inventário!$N$10:$N$150,Inventário!$D$10:$D$150,Estoque!M$10,Inventário!$E$10:$E$150,Estoque!$C82)),\"ERRO\")","v":""},{"$f":"IFERROR(IF(M82=\"\",\"\",SUMIFS(Inventário!$N$10:$N$150,Inventário!$D$10:$D$150,Estoque!N$10,Inventário!$E$10:$E$150,Estoque!$C82)),\"ERRO\")","v":""},{"$f":"IFERROR(IF(N82=\"\",\"\",SUMIFS(Inventário!$N$10:$N$150,Inventário!$D$10:$D$150,Estoque!O$10,Inventário!$E$10:$E$150,Estoque!$C82)),\"ERRO\")","v":""},null,null,null,{"$f":"Inventário!$E79","v":0}]
[null,71,{"$f":"IF('Cadastro de Produtos'!C75=\"\",\"\",VLOOKUP(B83,'Cadastro de Produtos'!$B$5:$C$204,2,0))","v":""},{"$f":"IFERROR(IF(C83=\"\",\"\",SUMIFS(Inventário!$N$10:$N$150,Inventário!$D$10:$D$150,Estoque!D$10,Inventário!$E$10:$E$150,Estoque!$C83)),\"ERRO\")","v":""},{"$f":"IFERROR(IF(D83=\"\",\"\",SUMIFS(Inventário!$N$10:$N$150,Inventário!$D$10:$D$150,Estoque!E$10,Inventário!$E$10:$E$150,Estoque!$C83)),\"ERRO\")","v":""},{"$f":"IFERROR(IF(E83=\"\",\"\",SUMIFS(Inventário!$N$10:$N$150,Inventário!$D$10:$D$150,Estoque!F$10,Inventário!$E$10:$E$150,Estoque!$C83)),\"ERRO\")","v":""},{"$f":"IFERROR(IF(F83=\"\",\"\",SUMIFS(Inventário!$N$10:$N$150,Inventário!$D$10:$D$150,Estoque!G$10,Inventário!$E$10:$E$150,Estoque!$C83)),\"ERRO\")","v":""},{"$f":"IFERROR(IF(G83=\"\",\"\",SUMIFS(Inventário!$N$10:$N$150,Inventário!$D$10:$D$150,Estoque!H$10,Inventário!$E$10:$E$150,Estoque!$C83)),\"ERRO\")","v":""},{"$f":"IFERROR(IF(H83=\"\",\"\",SUMIFS(Inventário!$N$10:$N$150,Inventário!$D$10:$D$150,Estoque!I$10,Inventário!$E$10:$E$150,Estoque!$C83)),\"ERRO\")","v":""},{"$f":"IFERROR(IF(I83=\"\",\"\",SUMIFS(Inventário!$N$10:$N$150,Inventário!$D$10:$D$150,Estoque!J$10,Inventário!$E$10:$E$150,Estoque!$C83)),\"ERRO\")","v":""},{"$f":"IFERROR(IF(J83=\"\",\"\",SUMIFS(Inventário!$N$10:$N$150,Inventário!$D$10:$D$150,Estoque!K$10,Inventário!$E$10:$E$150,Estoque!$C83)),\"ERRO\")","v":""},{"$f":"IFERROR(IF(K83=\"\",\"\",SUMIFS(Inventário!$N$10:$N$150,Inventário!$D$10:$D$150,Estoque!L$10,Inventário!$E$10:$E$150,Estoque!$C83)),\"ERRO\")","v":""},{"$f":"IFERROR(IF(L83=\"\",\"\",SUMIFS(Inventário!$N$10:$N$150,Inventário!$D$10:$D$150,Estoque!M$10,Inventário!$E$10:$E$150,Estoque!$C83)),\"ERRO\")","v":""},{"$f":"IFERROR(IF(M83=\"\",\"\",SUMIFS(Inventário!$N$10:$N$150,Inventário!$D$10:$D$150,Estoque!N$10,Inventário!$E$10:$E$150,Estoque!$C83)),\"ERRO\")","v":""},{"$f":"IFERROR(IF(N83=\"\",\"\",SUMIFS(Inventário!$N$10:$N$150,Inventário!$D$10:$D$150,Estoque!O$10,Inventário!$E$10:$E$150,Estoque!$C83)),\"ERRO\")","v":""},null,null,null,{"$f":"Inventário!$E80","v":0}]
[null,72,{"$f":"IF('Cadastro de Produtos'!C76=\"\",\"\",VLOOKUP(B84,'Cadastro de Produtos'!$B$5:$C$204,2,0))","v":""},{"$f":"IFERROR(IF(C84=\"\",\"\",SUMIFS(Inventário!$N$10:$N$150,Inventário!$D$10:$D$150,Estoque!D$10,Inventário!$E$10:$E$150,Estoque!$C84)),\"ERRO\")","v":""},{"$f":"IFERROR(IF(D84=\"\",\"\",SUMIFS(Inventário!$N$10:$N$150,Inventário!$D$10:$D$150,Estoque!E$10,Inventário!$E$10:$E$150,Estoque!$C84)),\"ERRO\")","v":""},{"$f":"IFERROR(IF(E84=\"\",\"\",SUMIFS(Inventário!$N$10:$N$150,Inventário!$D$10:$D$150,Estoque!F$10,Inventário!$E$10:$E$150,Estoque!$C84)),\"ERRO\")","v":""},{"$f":"IFERROR(IF(F84=\"\",\"\",SUMIFS(Inventário!$N$10:$N$150,Inventário!$D$10:$D$150,Estoque!G$10,Inventário!$E$10:$E$150,Estoque!$C84)),\"ERRO\")","v":""},{"$f":"IFERROR(IF(G84=\"\",\"\",SUMIFS(Inventário!$N$10:$N$150,Inventário!$D$10:$D$150,Estoque!H$10,Inventário!$E$10:$E$150,Estoque!$C84)),\"ERRO\")","v":""},{"$f":"IFERROR(IF(H84=\"\",\"\",SUMIFS(Inventário!$N$10:$N$150,Inventário!$D$10:$D$150,Estoque!I$10,Inventário!$E$10:$E$150,Estoque!$C84)),\"ERRO\")","v":""},{"$f":"IFERROR(IF(I84=\"\",\"\",SUMIFS(Inventário!$N$10:$N$150,Inventário!$D$10:$D$150,Estoque!J$10,Inventário!$E$10:$E$150,Estoque!$C84)),\"ERRO\")","v":""},{"$f":"IFERROR(IF(J84=\"\",\"\",SUMIFS(Inventário!$N$10:$N$150,Inventário!$D$10:$D$150,Estoque!K$10,Inventário!$E$10:$E$150,Estoque!$C84)),\"ERRO\")","v":""},{"$f":"IFERROR(IF(K84=\"\",\"\",SUMIFS(Inventário!$N$10:$N$150,Inventário!$D$10:$D$150,Estoque!L$10,Inventário!$E$10:$E$150,Estoque!$C84)),\"ERRO\")","v":""},{"$f":"IFERROR(IF(L84=\"\",\"\",SUMIFS(Inventário!$N$10:$N$150,Inventário!$D$10:$D$150,Estoque!M$10,Inventário!$E$10:$E$150,Estoque!$C84)),\"ERRO\")","v":""},{"$f":"IFERROR(IF(M84=\"\",\"\",SUMIFS(Inventário!$N$10:$N$150,Inventário!$D$10:$D$150,Estoque!N$10,Inventário!$E$10:$E$150,Estoque!$C84)),\"ERRO\")","v":""},{"$f":"IFERROR(IF(N84=\"\",\"\",SUMIFS(Inventário!$N$10:$N$150,Inventário!$D$10:$D$150,Estoque!O$10,Inventário!$E$10:$E$150,Estoque!$C84)),\"ERRO\")","v":""},null,null,null,{"$f":"Inventário!$E81","v":0}]
[null,73,{"$f":"IF('Cadastro de Produtos'!C77=\"\",\"\",VLOOKUP(B85,'Cadastro de Produtos'!$B$5:$C$204,2,0))","v":""},{"$f":"IFERROR(IF(C85=\"\",\"\",SUMIFS(Inventário!$N$10:$N$150,Inventário!$D$10:$D$150,Estoque!D$10,Inventário!$E$10:$E$150,Estoque!$C85)),\"ERRO\")","v":""},{"$f":"IFERROR(IF(D85=\"\",\"\",SUMIFS(Inventário!$N$10:$N$150,Inventário!$D$10:$D$150,Estoque!E$10,Inventário!$E$10:$E$150,Estoque!$C85)),\"ERRO\")","v":""},{"$f":"IFERROR(IF(E85=\"\",\"\",SUMIFS(Inventário!$N$10:$N$150,Inventário!$D$10:$D$150,Estoque!F$10,Inventário!$E$10:$E$150,Estoque!$C85)),\"ERRO\")","v":""},{"$f":"IFERROR(IF(F85=\"\",\"\",SUMIFS(Inventário!$N$10:$N$150,Inventário!$D$10:$D$150,Estoque!G$10,Inventário!$E$10:$E$150,Estoque!$C85)),\"ERRO\")","v":""},{"$f":"IFERROR(IF(G85=\"\",\"\",SUMIFS(Inventário!$N$10:$N$150,Inventário!$D$10:$D$150,Estoque!H$10,Inventário!$E$10:$E$150,Estoque!$C85)),\"ERRO\")","v":""},{"$f":"IFERROR(IF(H85=\"\",\"\",SUMIFS(Inventário!$N$10:$N$150,Inventário!$D$10:$D$150,Estoque!I$10,Inventário!$E$10:$E$150,Estoque!$C85)),\"ERRO\")","v":""},{"$f":"IFERROR(IF(I85=\"\",\"\",SUMIFS(Inventário!$N$10:$N$150,Inventário!$D$10:$D$150,Estoque!J$10,Inventário!$E$10:$E$150,Estoque!$C85)),\"ERRO\")","v":""},{"$f":"IFERROR(IF(J85=\"\",\"\",SUMIFS(Inventário!$N$10:$N$150,Inventário!$D$10:$D$150,Estoque!K$10,Inventário!$E$10:$E$150,Estoque!$C85)),\"ERRO\")","v":""},{"$f":"IFERROR(IF(K85=\"\",\"\",SUMIFS(Inventário!$N$10:$N$150,Inventário!$D$10:$D$150,Estoque!L$10,Inventário!$E$10:$E$150,Estoque!$C85)),\"ERRO\")","v":""},{"$f":"IFERROR(IF(L85=\"\",\"\",SUMIFS(Inventário!$N$10:$N$150,Inventário!$D$10:$D$150,Estoque!M$10,Inventário!$E$10:$E$150,Estoque!$C85)),\"ERRO\")","v":""},{"$f":"IFERROR(IF(M85=\"\",\"\",SUMIFS(Inventário!$N$10:$N$150,Inventário!$D$10:$D$150,Estoque!N$10,Inventário!$E$10:$E$150,Estoque!$C85)),\"ERRO\")","v":""},{"$f":"IFERROR(IF(N85=\"\",\"\",SUMIFS(Inventário!$N$10:$N$150,Inventário!$D$10:$D$150,Estoque!O$10,Inventário!$E$10:$E$150,Estoque!$C85)),\"ERRO\")","v":""},null,null,null,{"$f":"Inventário!$E82","v":0}]
[null,74,{"$f":"IF('Cadastro de Produtos'!C78=\"\",\"\",VLOOKUP(B86,'Cadastro de Produtos'!$B$5:$C$204,2,0))","v":""},{"$f":"IFERROR(IF(C86=\"\",\"\",SUMIFS(Inventário!$N$10:$N$150,Inventário!$D$10:$D$150,Estoque!D$10,Inventário!$E$10:$E$150,Estoque!$C86)),\"ERRO\")","v":""},{"$f":"IFERROR(IF(D86=\"\",\"\",SUMIFS(Inventário!$N$10:$N$150,Inventário!$D$10:$D$150,Estoque!E$10,Inventário!$E$10:$E$150,Estoque!$C86)),\"ERRO\")","v":""},{"$f":"IFERROR(IF(E86=\"\",\"\",SUMIFS(Inventário!$N$10:$N$150,Inventário!$D$10:$D$150,Estoque!F$10,Inventário!$E$10:$E$150,Estoque!$C86)),\"ERRO\")","v":""},{"$f":"IFERROR(IF(F86=\"\",\"\",SUMIFS(Inventário!$N$10:$N$150,Inventário!$D$10:$D$150,Estoque!G$10,Inventário!$E$10:$E$150,Estoque!$C86)),\"ERRO\")","v":""},{"$f":"IFERROR(IF(G86=\"\",\"\",SUMIFS(Inventário!$N$10:$N$150,Inventário!$D$10:$D$150,Estoque!H$10,Inventário!$E$10:$E$150,Estoque!$C86)),\"ERRO\")","v":""},{"$f":"IFERROR(IF(H86=\"\",\"\",SUMIFS(Inventário!$N$10:$N$150,Inventário!$D$10:$D$150,Estoque!I$10,Inventário!$E$10:$E$150,Estoque!$C86)),\"ERRO\")","v":""},{"$f":"IFERROR(IF(I86=\"\",\"\",SUMIFS(Inventário!$N$10:$N$150,Inventário!$D$10:$D$150,Estoque!J$10,Inventário!$E$10:$E$150,Estoque!$C86)),\"ERRO\")","v":""},{"$f":"IFERROR(IF(J86=\"\",\"\",SUMIFS(Inventário!$N$10:$N$150,Inventário!$D$10:$D$150,Estoque!K$10,Inventário!$E$10:$E$150,Estoque!$C86)),\"ERRO\")","v":""},{"$f":"IFERROR(IF(K86=\"\",\"\",SUMIFS(Inventário!$N$10:$N$150,Inventário!$D$10:$D$150,Estoque!L$10,Inventário!$E$10:$E$150,Estoque!$C86)),\"ERRO\")","v":""},{"$f":"IFERROR(IF(L86=\"\",\"\",SUMIFS(Inventário!$N$10:$N$150,Inventário!$D$10:$D$150,Estoque!M$10,Inventário!$E$10:$E$150,Estoque!$C86)),\"ERRO\")","v":""},{"$f":"IFERROR(IF(M86=\"\",\"\",SUMIFS(Inventário!$N$10:$N$150,Inventário!$D$10:$D$150,Estoque!N$10,Inventário!$E$10:$E$150,Estoque!$C86)),\"ERRO\")","v":""},{"$f":"IFERROR(IF(N86=\"\",\"\",SUMIFS(Inventário!$N$10:$N$150,Inventário!$D$10:$D$150,Estoque!O$10,Inventário!$E$10:$E$150,Estoque!$C86)),\"ERRO\")","v":""},null,null,null,{"$f":"Inventário!$E83","v":0}]
[null,75,{"$f":"IF('Cadastro de Produtos'!C79=\"\",\"\",VLOOKUP(B87,'Cadastro de Produtos'!$B$5:$C$204,2,0))","v":""},{"$f":"IFERROR(IF(C87=\"\",\"\",SUMIFS(Inventário!$N$10:$N$150,Inventário!$D$10:$D$150,Estoque!D$10,Inventário!$E$10:$E$150,Estoque!$C87)),\"ERRO\")","v":""},{"$f":"IFERROR(IF(D87=\"\",\"\",SUMIFS(Inventário!$N$10:$N$150,Inventário!$D$10:$D$150,Estoque!E$10,Inventário!$E$10:$E$150,Estoque!$C87)),\"ERRO\")","v":""},{"$f":"IFERROR(IF(E87=\"\",\"\",SUMIFS(Inventário!$N$10:$N$150,Inventário!$D$10:$D$150,Estoque!F$10,Inventário!$E$10:$E$150,Estoque!$C87)),\"ERRO\")","v":""},{"$f":"IFERROR(IF(F87=\"\",\"\",SUMIFS(Inventário!$N$10:$N$150,Inventário!$D$10:$D$150,Estoque!G$10,Inventário!$E$10:$E$150,Estoque!$C87)),\"ERRO\")","v":""},{"$f":"IFERROR(IF(G87=\"\",\"\",SUMIFS(Inventário!$N$10:$N$150,Inventário!$D$10:$D$150,Estoque!H$10,Inventário!$E$10:$E$150,Estoque!$C87)),\"ERRO\")","v":""},{"$f":"IFERROR(IF(H87=\"\",\"\",SUMIFS(Inventário!$N$10:$N$150,Inventário!$D$10:$D$150,Estoque!I$10,Inventário!$E$10:$E$150,Estoque!$C87)),\"ERRO\")","v":""},{"$f":"IFERROR(IF(I87=\"\",\"\",SUMIFS(Inventário!$N$10:$N$150,Inventário!$D$10:$D$150,Estoque!J$10,Inventário!$E$10:$E$150,Estoque!$C87)),\"ERRO\")","v":""},{"$f":"IFERROR(IF(J87=\"\",\"\",SUMIFS(Inventário!$N$10:$N$150,Inventário!$D$10:$D$150,Estoque!K$10,Inventário!$E$10:$E$150,Estoque!$C87)),\"ERRO\")","v":""},{"$f":"IFERROR(IF(K87=\"\",\"\",SUMIFS(Inventário!$N$10:$N$150,Inventário!$D$10:$D$150,Estoque!L$10,Inventário!$E$10:$E$150,Estoque!$C87)),\"ERRO\")","v":""},{"$f":"IFERROR(IF(L87=\"\",\"\",SUMIFS(Inventário!$N$10:$N$150,Inventário!$D$10:$D$150,Estoque!M$10,Inventário!$E$10:$E$150,Estoque!$C87)),\"ERRO\")","v":""},{"$f":"IFERROR(IF(M87=\"\",\"\",SUMIFS(Inventário!$N$10:$N$150,Inventário!$D$10:$D$150,Estoque!N$10,Inventário!$E$10:$E$150,Estoque!$C87)),\"ERRO\")","v":""},{"$f":"IFERROR(IF(N87=\"\",\"\",SUMIFS(Inventário!$N$10:$N$150,Inventário!$D$10:$D$150,Estoque!O$10,Inventário!$E$10:$E$150,Estoque!$C87)),\"ERRO\")","v":""},null,null,null,{"$f":"Inventário!$E84","v":0}]
[null,76,{"$f":"IF('Cadastro de Produtos'!C80=\"\",\"\",VLOOKUP(B88,'Cadastro de Produtos'!$B$5:$C$204,2,0))","v":""},{"$f":"IFERROR(IF(C88=\"\",\"\",SUMIFS(Inventário!$N$10:$N$150,Inventário!$D$10:$D$150,Estoque!D$10,Inventário!$E$10:$E$150,Estoque!$C88)),\"ERRO\")","v":""},{"$f":"IFERROR(IF(D88=\"\",\"\",SUMIFS(Inventário!$N$10:$N$150,Inventário!$D$10:$D$150,Estoque!E$10,Inventário!$E$10:$E$150,Estoque!$C88)),\"ERRO\")","v":""},{"$f":"IFERROR(IF(E88=\"\",\"\",SUMIFS(Inventário!$N$10:$N$150,Inventário!$D$10:$D$150,Estoque!F$10,Inventário!$E$10:$E$150,Estoque!$C88)),\"ERRO\")","v":""},{"$f":"IFERROR(IF(F88=\"\",\"\",SUMIFS(Inventário!$N$10:$N$150,Inventário!$D$10:$D$150,Estoque!G$10,Inventário!$E$10:$E$150,Estoque!$C88)),\"ERRO\")","v":""},{"$f":"IFERROR(IF(G88=\"\",\"\",SUMIFS(Inventário!$N$10:$N$150,Inventário!$D$10:$D$150,Estoque!H$10,Inventário!$E$10:$E$150,Estoque!$C88)),\"ERRO\")","v":""},{"$f":"IFERROR(IF(H88=\"\",\"\",SUMIFS(Inventário!$N$10:$N$150,Inventário!$D$10:$D$150,Estoque!I$10,Inventário!$E$10:$E$150,Estoque!$C88)),\"ERRO\")","v":""},{"$f":"IFERROR(IF(I88=\"\",\"\",SUMIFS(Inventário!$N$10:$N$150,Inventário!$D$10:$D$150,Estoque!J$10,Inventário!$E$10:$E$150,Estoque!$C88)),\"ERRO\")","v":""},{"$f":"IFERROR(IF(J88=\"\",\"\",SUMIFS(Inventário!$N$10:$N$150,Inventário!$D$10:$D$150,Estoque!K$10,Inventário!$E$10:$E$150,Estoque!$C88)),\"ERRO\")","v":""},{"$f":"IFERROR(IF(K88=\"\",\"\",SUMIFS(Inventário!$N$10:$N$150,Inventário!$D$10:$D$150,Estoque!L$10,Inventário!$E$10:$E$150,Estoque!$C88)),\"ERRO\")","v":""},{"$f":"IFERROR(IF(L88=\"\",\"\",SUMIFS(Inventário!$N$10:$N$150,Inventário!$D$10:$D$150,Estoque!M$10,Inventário!$E$10:$E$150,Estoque!$C88)),\"ERRO\")","v":""},{"$f":"IFERROR(IF(M88=\"\",\"\",SUMIFS(Inventário!$N$10:$N$150,Inventário!$D$10:$D$150,Estoque!N$10,Inventário!$E$10:$E$150,Estoque!$C88)),\"ERRO\")","v":""},{"$f":"IFERROR(IF(N88=\"\",\"\",SUMIFS(Inventário!$N$10:$N$150,Inventário!$D$10:$D$150,Estoque!O$10,Inventário!$E$10:$E$150,Estoque!$C88)),\"ERRO\")","v":""},null,null,null,{"$f":"Inventário!$E85","v":0}]
[null,77,{"$f":"IF('Cadastro de Produtos'!C81=\"\",\"\",VLOOKUP(B89,'Cadastro de Produtos'!$B$5:$C$204,2,0))","v":""},{"$f":"IFERROR(IF(C89=\"\",\"\",SUMIFS(Inventário!$N$10:$N$150,Inventário!$D$10:$D$150,Estoque!D$10,Inventário!$E$10:$E$150,Estoque!$C89)),\"ERRO\")","v":""},{"$f":"IFERROR(IF(D89=\"\",\"\",SUMIFS(Inventário!$N$10:$N$150,Inventário!$D$10:$D$150,Estoque!E$10,Inventário!$E$10:$E$150,Estoque!$C89)),\"ERRO\")","v":""},{"$f":"IFERROR(IF(E89=\"\",\"\",SUMIFS(Inventário!$N$10:$N$150,Inventário!$D$10:$D$150,Estoque!F$10,Inventário!$E$10:$E$150,Estoque!$C89)),\"ERRO\")","v":""},{"$f":"IFERROR(IF(F89=\"\",\"\",SUMIFS(Inventário!$N$10:$N$150,Inventário!$D$10:$D$150,Estoque!G$10,Inventário!$E$10:$E$150,Estoque!$C89)),\"ERRO\")","v":""},{"$f":"IFERROR(IF(G89=\"\",\"\",SUMIFS(Inventário!$N$10:$N$150,Inventário!$D$10:$D$150,Estoque!H$10,Inventário!$E$10:$E$150,Estoque!$C89)),\"ERRO\")","v":""},{"$f":"IFERROR(IF(H89=\"\",\"\",SUMIFS(Inventário!$N$10:$N$150,Inventário!$D$10:$D$150,Estoque!I$10,Inventário!$E$10:$E$150,Estoque!$C89)),\"ERRO\")","v":""},{"$f":"IFERROR(IF(I89=\"\",\"\",SUMIFS(Inventário!$N$10:$N$150,Inventário!$D$10:$D$150,Estoque!J$10,Inventário!$E$10:$E$150,Estoque!$C89)),\"ERRO\")","v":""},{"$f":"IFERROR(IF(J89=\"\",\"\",SUMIFS(Inventário!$N$10:$N$150,Inventário!$D$10:$D$150,Estoque!K$10,Inventário!$E$10:$E$150,Estoque!$C89)),\"ERRO\")","v":""},{"$f":"IFERROR(IF(K89=\"\",\"\",SUMIFS(Inventário!$N$10:$N$150,Inventário!$D$10:$D$150,Estoque!L$10,Inventário!$E$10:$E$150,Estoque!$C89)),\"ERRO\")","v":""},{"$f":"IFERROR(IF(L89=\"\",\"\",SUMIFS(Inventário!$N$10:$N$150,Inventário!$D$10:$D$150,Estoque!M$10,Inventário!$E$10:$E$150,Estoque!$C89)),\"ERRO\")","v":""},{"$f":"IFERROR(IF(M89=\"\",\"\",SUMIFS(Inventário!$N$10:$N$150,Inventário!$D$10:$D$150,Estoque!N$10,Inventário!$E$10:$E$150,Estoque!$C89)),\"ERRO\")","v":""},{"$f":"IFERROR(IF(N89=\"\",\"\",SUMIFS(Inventário!$N$10:$N$150,Inventário!$D$10:$D$150,Estoque!O$10,Inventário!$E$10:$E$150,Estoque!$C89)),\"ERRO\")","v":""},null,null,null,{"$f":"Inventário!$E86","v":0}]
[null,78,{"$f":"IF('Cadastro de Produtos'!C82=\"\",\"\",VLOOKUP(B90,'Cadastro de Produtos'!$B$5:$C$204,2,0))","v":""},{"$f":"IFERROR(IF(C90=\"\",\"\",SUMIFS(Inventário!$N$10:$N$150,Inventário!$D$10:$D$150,Estoque!D$10,Inventário!$E$10:$E$150,Estoque!$C90)),\"ERRO\")","v":""},{"$f":"IFERROR(IF(D90=\"\",\"\",SUMIFS(Inventário!$N$10:$N$150,Inventário!$D$10:$D$150,Estoque!E$10,Inventário!$E$10:$E$150,Estoque!$C90)),\"ERRO\")","v":""},{"$f":"IFERROR(IF(E90=\"\",\"\",SUMIFS(Inventário!$N$10:$N$150,Inventário!$D$10:$D$150,Estoque!F$10,Inventário!$E$10:$E$150,Estoque!$C90)),\"ERRO\")","v":""},{"$f":"IFERROR(IF(F90=\"\",\"\",SUMIFS(Inventário!$N$10:$N$150,Inventário!$D$10:$D$150,Estoque!G$10,Inventário!$E$10:$E$150,Estoque!$C90)),\"ERRO\")","v":""},{"$f":"IFERROR(IF(G90=\"\",\"\",SUMIFS(Inventário!$N$10:$N$150,Inventário!$D$10:$D$150,Estoque!H$10,Inventário!$E$10:$E$150,Estoque!$C90)),\"ERRO\")","v":""},{"$f":"IFERROR(IF(H90=\"\",\"\",SUMIFS(Inventário!$N$10:$N$150,Inventário!$D$10:$D$150,Estoque!I$10,Inventário!$E$10:$E$150,Estoque!$C90)),\"ERRO\")","v":""},{"$f":"IFERROR(IF(I90=\"\",\"\",SUMIFS(Inventário!$N$10:$N$150,Inventário!$D$10:$D$150,Estoque!J$10,Inventário!$E$10:$E$150,Estoque!$C90)),\"ERRO\")","v":""},{"$f":"IFERROR(IF(J90=\"\",\"\",SUMIFS(Inventário!$N$10:$N$150,Inventário!$D$10:$D$150,Estoque!K$10,Inventário!$E$10:$E$150,Estoque!$C90)),\"ERRO\")","v":""},{"$f":"IFERROR(IF(K90=\"\",\"\",SUMIFS(Inventário!$N$10:$N$150,Inventário!$D$10:$D$150,Estoque!L$10,Inventário!$E$10:$E$150,Estoque!$C90)),\"ERRO\")","v":""},{"$f":"IFERROR(IF(L90=\"\",\"\",SUMIFS(Inventário!$N$10:$N$150,Inventário!$D$10:$D$150,Estoque!M$10,Inventário!$E$10:$E$150,Estoque!$C90)),\"ERRO\")","v":""},{"$f":"IFERROR(IF(M90=\"\",\"\",SUMIFS(Inventário!$N$10:$N$150,Inventário!$D$10:$D$150,Estoque!N$10,Inventário!$E$10:$E$150,Estoque!$C90)),\"ERRO\")","v":""},{"$f":"IFERROR(IF(N90=\"\",\"\",SUMIFS(Inventário!$N$10:$N$150,Inventário!$D$10:$D$150,Estoque!O$10,Inventário!$E$10:$E$150,Estoque!$C90)),\"ERRO\")","v":""},null,null,null,{"$f":"Inventário!$E87","v":0}]
[null,79,{"$f":"IF('Cadastro de Produtos'!C83=\"\",\"\",VLOOKUP(B91,'Cadastro de Produtos'!$B$5:$C$204,2,0))","v":""},{"$f":"IFERROR(IF(C91=\"\",\"\",SUMIFS(Inventário!$N$10:$N$150,Inventário!$D$10:$D$150,Estoque!D$10,Inventário!$E$10:$E$150,Estoque!$C91)),\"ERRO\")","v":""},{"$f":"IFERROR(IF(D91=\"\",\"\",SUMIFS(Inventário!$N$10:$N$150,Inventário!$D$10:$D$150,Estoque!E$10,Inventário!$E$10:$E$150,Estoque!$C91)),\"ERRO\")","v":""},{"$f":"IFERROR(IF(E91=\"\",\"\",SUMIFS(Inventário!$N$10:$N$150,Inventário!$D$10:$D$150,Estoque!F$10,Inventário!$E$10:$E$150,Estoque!$C91)),\"ERRO\")","v":""},{"$f":"IFERROR(IF(F91=\"\",\"\",SUMIFS(Inventário!$N$10:$N$150,Inventário!$D$10:$D$150,Estoque!G$10,Inventário!$E$10:$E$150,Estoque!$C91)),\"ERRO\")","v":""},{"$f":"IFERROR(IF(G91=\"\",\"\",SUMIFS(Inventário!$N$10:$N$150,Inventário!$D$10:$D$150,Estoque!H$10,Inventário!$E$10:$E$150,Estoque!$C91)),\"ERRO\")","v":""},{"$f":"IFERROR(IF(H91=\"\",\"\",SUMIFS(Inventário!$N$10:$N$150,Inventário!$D$10:$D$150,Estoque!I$10,Inventário!$E$10:$E$150,Estoque!$C91)),\"ERRO\")","v":""},{"$f":"IFERROR(IF(I91=\"\",\"\",SUMIFS(Inventário!$N$10:$N$150,Inventário!$D$10:$D$150,Estoque!J$10,Inventário!$E$10:$E$150,Estoque!$C91)),\"ERRO\")","v":""},{"$f":"IFERROR(IF(J91=\"\",\"\",SUMIFS(Inventário!$N$10:$N$150,Inventário!$D$10:$D$150,Estoque!K$10,Inventário!$E$10:$E$150,Estoque!$C91)),\"ERRO\")","v":""},{"$f":"IFERROR(IF(K91=\"\",\"\",SUMIFS(Inventário!$N$10:$N$150,Inventário!$D$10:$D$150,Estoque!L$10,Inventário!$E$10:$E$150,Estoque!$C91)),\"ERRO\")","v":""},{"$f":"IFERROR(IF(L91=\"\",\"\",SUMIFS(Inventário!$N$10:$N$150,Inventário!$D$10:$D$150,Estoque!M$10,Inventário!$E$10:$E$150,Estoque!$C91)),\"ERRO\")","v":""},{"$f":"IFERROR(IF(M91=\"\",\"\",SUMIFS(Inventário!$N$10:$N$150,Inventário!$D$10:$D$150,Estoque!N$10,Inventário!$E$10:$E$150,Estoque!$C91)),\"ERRO\")","v":""},{"$f":"IFERROR(IF(N91=\"\",\"\",SUMIFS(Inventário!$N$10:$N$150,Inventário!$D$10:$D$150,Estoque!O$10,Inventário!$E$10:$E$150,Estoque!$C91)),\"ERRO\")","v":""},null,null,null,{"$f":"Inventário!$E88","v":0}]
[null,80,{"$f":"IF('Cadastro de Produtos'!C84=\"\",\"\",VLOOKUP(B92,'Cadastro de Produtos'!$B$5:$C$204,2,0))","v":""},{"$f":"IFERROR(IF(C92=\"\",\"\",SUMIFS(Inventário!$N$10:$N$150,Inventário!$D$10:$D$150,Estoque!D$10,Inventário!$E$10:$E$150,Estoque!$C92)),\"ERRO\")","v":""},{"$f":"IFERROR(IF(D92=\"\",\"\",SUMIFS(Inventário!$N$10:$N$150,Inventário!$D$10:$D$150,Estoque!E$10,Inventário!$E$10:$E$150,Estoque!$C92)),\"ERRO\")","v":""},{"$f":"IFERROR(IF(E92=\"\",\"\",SUMIFS(Inventário!$N$10:$N$150,Inventário!$D$10:$D$150,Estoque!F$10,Inventário!$E$10:$E$150,Estoque!$C92)),\"ERRO\")","v":""},{"$f":"IFERROR(IF(F92=\"\",\"\",SUMIFS(Inventário!$N$10:$N$150,Inventário!$D$10:$D$150,Estoque!G$10,Inventário!$E$10:$E$150,Estoque!$C92)),\"ERRO\")","v":""},{"$f":"IFERROR(IF(G92=\"\",\"\",SUMIFS(Inventário!$N$10:$N$150,Inventário!$D$10:$D$150,Estoque!H$10,Inventário!$E$10:$E$150,Estoque!$C92)),\"ERRO\")","v":""},{"$f":"IFERROR(IF(H92=\"\",\"\",SUMIFS(Inventário!$N$10:$N$150,Inventário!$D$10:$D$150,Estoque!I$10,Inventário!$E$10:$E$150,Estoque!$C92)),\"ERRO\")","v":""},{"$f":"IFERROR(IF(I92=\"\",\"\",SUMIFS(Inventário!$N$10:$N$150,Inventário!$D$10:$D$150,Estoque!J$10,Inventário!$E$10:$E$150,Estoque!$C92)),\"ERRO\")","v":""},{"$f":"IFERROR(IF(J92=\"\",\"\",SUMIFS(Inventário!$N$10:$N$150,Inventário!$D$10:$D$150,Estoque!K$10,Inventário!$E$10:$E$150,Estoque!$C92)),\"ERRO\")","v":""},{"$f":"IFERROR(IF(K92=\"\",\"\",SUMIFS(Inventário!$N$10:$N$150,Inventário!$D$10:$D$150,Estoque!L$10,Inventário!$E$10:$E$150,Estoque!$C92)),\"ERRO\")","v":""},{"$f":"IFERROR(IF(L92=\"\",\"\",SUMIFS(Inventário!$N$10:$N$150,Inventário!$D$10:$D$150,Estoque!M$10,Inventário!$E$10:$E$150,Estoque!$C92)),\"ERRO\")","v":""},{"$f":"IFERROR(IF(M92=\"\",\"\",SUMIFS(Inventário!$N$10:$N$150,Inventário!$D$10:$D$150,Estoque!N$10,Inventário!$E$10:$E$150,Estoque!$C92)),\"ERRO\")","v":""},{"$f":"IFERROR(IF(N92=\"\",\"\",SUMIFS(Inventário!$N$10:$N$150,Inventário!$D$10:$D$150,Estoque!O$10,Inventário!$E$10:$E$150,Estoque!$C92)),\"ERRO\")","v":""},null,null,null,{"$f":"Inventário!$E89","v":0}]
[null,81,{"$f":"IF('Cadastro de Produtos'!C85=\"\",\"\",VLOOKUP(B93,'Cadastro de Produtos'!$B$5:$C$204,2,0))","v":""},{"$f":"IFERROR(IF(C93=\"\",\"\",SUMIFS(Inventário!$N$10:$N$150,Inventário!$D$10:$D$150,Estoque!D$10,Inventário!$E$10:$E$150,Estoque!$C93)),\"ERRO\")","v":""},{"$f":"IFERROR(IF(D93=\"\",\"\",SUMIFS(Inventário!$N$10:$N$150,Inventário!$D$10:$D$150,Estoque!E$10,Inventário!$E$10:$E$150,Estoque!$C93)),\"ERRO\")","v":""},{"$f":"IFERROR(IF(E93=\"\",\"\",SUMIFS(Inventário!$N$10:$N$150,Inventário!$D$10:$D$150,Estoque!F$10,Inventário!$E$10:$E$150,Estoque!$C93)),\"ERRO\")","v":""},{"$f":"IFERROR(IF(F93=\"\",\"\",SUMIFS(Inventário!$N$10:$N$150,Inventário!$D$10:$D$150,Estoque!G$10,Inventário!$E$10:$E$150,Estoque!$C93)),\"ERRO\")","v":""},{"$f":"IFERROR(IF(G93=\"\",\"\",SUMIFS(Inventário!$N$10:$N$150,Inventário!$D$10:$D$150,Estoque!H$10,Inventário!$E$10:$E$150,Estoque!$C93)),\"ERRO\")","v":""},{"$f":"IFERROR(IF(H93=\"\",\"\",SUMIFS(Inventário!$N$10:$N$150,Inventário!$D$10:$D$150,Estoque!I$10,Inventário!$E$10:$E$150,Estoque!$C93)),\"ERRO\")","v":""},{"$f":"IFERROR(IF(I93=\"\",\"\",SUMIFS(Inventário!$N$10:$N$150,Inventário!$D$10:$D$150,Estoque!J$10,Inventário!$E$10:$E$150,Estoque!$C93)),\"ERRO\")","v":""},{"$f":"IFERROR(IF(J93=\"\",\"\",SUMIFS(Inventário!$N$10:$N$150,Inventário!$D$10:$D$150,Estoque!K$10,Inventário!$E$10:$E$150,Estoque!$C93)),\"ERRO\")","v":""},{"$f":"IFERROR(IF(K93=\"\",\"\",SUMIFS(Inventário!$N$10:$N$150,Inventário!$D$10:$D$150,Estoque!L$10,Inventário!$E$10:$E$150,Estoque!$C93)),\"ERRO\")","v":""},{"$f":"IFERROR(IF(L93=\"\",\"\",SUMIFS(Inventário!$N$10:$N$150,Inventário!$D$10:$D$150,Estoque!M$10,Inventário!$E$10:$E$150,Estoque!$C93)),\"ERRO\")","v":""},{"$f":"IFERROR(IF(M93=\"\",\"\",SUMIFS(Inventário!$N$10:$N$150,Inventário!$D$10:$D$150,Estoque!N$10,Inventário!$E$10:$E$150,Estoque!$C93)),\"ERRO\")","v":""},{"$f":"IFERROR(IF(N93=\"\",\"\",SUMIFS(Inventário!$N$10:$N$150,Inventário!$D$10:$D$150,Estoque!O$10,Inventário!$E$10:$E$150,Estoque!$C93)),\"ERRO\")","v":""},null,null,null,{"$f":"Inventário!$E90","v":0}]
[null,82,{"$f":"IF('Cadastro de Produtos'!C86=\"\",\"\",VLOOKUP(B94,'Cadastro de Produtos'!$B$5:$C$204,2,0))","v":""},{"$f":"IFERROR(IF(C94=\"\",\"\",SUMIFS(Inventário!$N$10:$N$150,Inventário!$D$10:$D$150,Estoque!D$10,Inventário!$E$10:$E$150,Estoque!$C94)),\"ERRO\")","v":""},{"$f":"IFERROR(IF(D94=\"\",\"\",SUMIFS(Inventário!$N$10:$N$150,Inventário!$D$10:$D$150,Estoque!E$10,Inventário!$E$10:$E$150,Estoque!$C94)),\"ERRO\")","v":""},{"$f":"IFERROR(IF(E94=\"\",\"\",SUMIFS(Inventário!$N$10:$N$150,Inventário!$D$10:$D$150,Estoque!F$10,Inventário!$E$10:$E$150,Estoque!$C94)),\"ERRO\")","v":""},{"$f":"IFERROR(IF(F94=\"\",\"\",SUMIFS(Inventário!$N$10:$N$150,Inventário!$D$10:$D$150,Estoque!G$10,Inventário!$E$10:$E$150,Estoque!$C94)),\"ERRO\")","v":""},{"$f":"IFERROR(IF(G94=\"\",\"\",SUMIFS(Inventário!$N$10:$N$150,Inventário!$D$10:$D$150,Estoque!H$10,Inventário!$E$10:$E$150,Estoque!$C94)),\"ERRO\")","v":""},{"$f":"IFERROR(IF(H94=\"\",\"\",SUMIFS(Inventário!$N$10:$N$150,Inventário!$D$10:$D$150,Estoque!I$10,Inventário!$E$10:$E$150,Estoque!$C94)),\"ERRO\")","v":""},{"$f":"IFERROR(IF(I94=\"\",\"\",SUMIFS(Inventário!$N$10:$N$150,Inventário!$D$10:$D$150,Estoque!J$10,Inventário!$E$10:$E$150,Estoque!$C94)),\"ERRO\")","v":""},{"$f":"IFERROR(IF(J94=\"\",\"\",SUMIFS(Inventário!$N$10:$N$150,Inventário!$D$10:$D$150,Estoque!K$10,Inventário!$E$10:$E$150,Estoque!$C94)),\"ERRO\")","v":""},{"$f":"IFERROR(IF(K94=\"\",\"\",SUMIFS(Inventário!$N$10:$N$150,Inventário!$D$10:$D$150,Estoque!L$10,Inventário!$E$10:$E$150,Estoque!$C94)),\"ERRO\")","v":""},{"$f":"IFERROR(IF(L94=\"\",\"\",SUMIFS(Inventário!$N$10:$N$150,Inventário!$D$10:$D$150,Estoque!M$10,Inventário!$E$10:$E$150,Estoque!$C94)),\"ERRO\")","v":""},{"$f":"IFERROR(IF(M94=\"\",\"\",SUMIFS(Inventário!$N$10:$N$150,Inventário!$D$10:$D$150,Estoque!N$10,Inventário!$E$10:$E$150,Estoque!$C94)),\"ERRO\")","v":""},{"$f":"IFERROR(IF(N94=\"\",\"\",SUMIFS(Inventário!$N$10:$N$150,Inventário!$D$10:$D$150,Estoque!O$10,Inventário!$E$10:$E$150,Estoque!$C94)),\"ERRO\")","v":""},null,null,null,{"$f":"Inventário!$E91","v":0}]
[null,83,{"$f":"IF('Cadastro de Produtos'!C87=\"\",\"\",VLOOKUP(B95,'Cadastro de Produtos'!$B$5:$C$204,2,0))","v":""},{"$f":"IFERROR(IF(C95=\"\",\"\",SUMIFS(Inventário!$N$10:$N$150,Inventário!$D$10:$D$150,Estoque!D$10,Inventário!$E$10:$E$150,Estoque!$C95)),\"ERRO\")","v":""},{"$f":"IFERROR(IF(D95=\"\",\"\",SUMIFS(Inventário!$N$10:$N$150,Inventário!$D$10:$D$150,Estoque!E$10,Inventário!$E$10:$E$150,Estoque!$C95)),\"ERRO\")","v":""},{"$f":"IFERROR(IF(E95=\"\",\"\",SUMIFS(Inventário!$N$10:$N$150,Inventário!$D$10:$D$150,Estoque!F$10,Inventário!$E$10:$E$150,Estoque!$C95)),\"ERRO\")","v":""},{"$f":"IFERROR(IF(F95=\"\",\"\",SUMIFS(Inventário!$N$10:$N$150,Inventário!$D$10:$D$150,Estoque!G$10,Inventário!$E$10:$E$150,Estoque!$C95)),\"ERRO\")","v":""},{"$f":"IFERROR(IF(G95=\"\",\"\",SUMIFS(Inventário!$N$10:$N$150,Inventário!$D$10:$D$150,Estoque!H$10,Inventário!$E$10:$E$150,Estoque!$C95)),\"ERRO\")","v":""},{"$f":"IFERROR(IF(H95=\"\",\"\",SUMIFS(Inventário!$N$10:$N$150,Inventário!$D$10:$D$150,Estoque!I$10,Inventário!$E$10:$E$150,Estoque!$C95)),\"ERRO\")","v":""},{"$f":"IFERROR(IF(I95=\"\",\"\",SUMIFS(Inventário!$N$10:$N$150,Inventário!$D$10:$D$150,Estoque!J$10,Inventário!$E$10:$E$150,Estoque!$C95)),\"ERRO\")","v":""},{"$f":"IFERROR(IF(J95=\"\",\"\",SUMIFS(Inventário!$N$10:$N$150,Inventário!$D$10:$D$150,Estoque!K$10,Inventário!$E$10:$E$150,Estoque!$C95)),\"ERRO\")","v":""},{"$f":"IFERROR(IF(K95=\"\",\"\",SUMIFS(Inventário!$N$10:$N$150,Inventário!$D$10:$D$150,Estoque!L$10,Inventário!$E$10:$E$150,Estoque!$C95)),\"ERRO\")","v":""},{"$f":"IFERROR(IF(L95=\"\",\"\",SUMIFS(Inventário!$N$10:$N$150,Inventário!$D$10:$D$150,Estoque!M$10,Inventário!$E$10:$E$150,Estoque!$C95)),\"ERRO\")","v":""},{"$f":"IFERROR(IF(M95=\"\",\"\",SUMIFS(Inventário!$N$10:$N$150,Inventário!$D$10:$D$150,Estoque!N$10,Inventário!$E$10:$E$150,Estoque!$C95)),\"ERRO\")","v":""},{"$f":"IFERROR(IF(N95=\"\",\"\",SUMIFS(Inventário!$N$10:$N$150,Inventário!$D$10:$D$150,Estoque!O$10,Inventário!$E$10:$E$150,Estoque!$C95)),\"ERRO\")","v":""},null,null,null,{"$f":"Inventário!$E92","v":0}]
[null,84,{"$f":"IF('Cadastro de Produtos'!C88=\"\",\"\",VLOOKUP(B96,'Cadastro de Produtos'!$B$5:$C$204,2,0))","v":""},{"$f":"IFERROR(IF(C96=\"\",\"\",SUMIFS(Inventário!$N$10:$N$150,Inventário!$D$10:$D$150,Estoque!D$10,Inventário!$E$10:$E$150,Estoque!$C96)),\"ERRO\")","v":""},{"$f":"IFERROR(IF(D96=\"\",\"\",SUMIFS(Inventário!$N$10:$N$150,Inventário!$D$10:$D$150,Estoque!E$10,Inventário!$E$10:$E$150,Estoque!$C96)),\"ERRO\")","v":""},{"$f":"IFERROR(IF(E96=\"\",\"\",SUMIFS(Inventário!$N$10:$N$150,Inventário!$D$10:$D$150,Estoque!F$10,Inventário!$E$10:$E$150,Estoque!$C96)),\"ERRO\")","v":""},{"$f":"IFERROR(IF(F96=\"\",\"\",SUMIFS(Inventário!$N$10:$N$150,Inventário!$D$10:$D$150,Estoque!G$10,Inventário!$E$10:$E$150,Estoque!$C96)),\"ERRO\")","v":""},{"$f":"IFERROR(IF(G96=\"\",\"\",SUMIFS(Inventário!$N$10:$N$150,Inventário!$D$10:$D$150,Estoque!H$10,Inventário!$E$10:$E$150,Estoque!$C96)),\"ERRO\")","v":""},{"$f":"IFERROR(IF(H96=\"\",\"\",SUMIFS(Inventário!$N$10:$N$150,Inventário!$D$10:$D$150,Estoque!I$10,Inventário!$E$10:$E$150,Estoque!$C96)),\"ERRO\")","v":""},{"$f":"IFERROR(IF(I96=\"\",\"\",SUMIFS(Inventário!$N$10:$N$150,Inventário!$D$10:$D$150,Estoque!J$10,Inventário!$E$10:$E$150,Estoque!$C96)),\"ERRO\")","v":""},{"$f":"IFERROR(IF(J96=\"\",\"\",SUMIFS(Inventário!$N$10:$N$150,Inventário!$D$10:$D$150,Estoque!K$10,Inventário!$E$10:$E$150,Estoque!$C96)),\"ERRO\")","v":""},{"$f":"IFERROR(IF(K96=\"\",\"\",SUMIFS(Inventário!$N$10:$N$150,Inventário!$D$10:$D$150,Estoque!L$10,Inventário!$E$10:$E$150,Estoque!$C96)),\"ERRO\")","v":""},{"$f":"IFERROR(IF(L96=\"\",\"\",SUMIFS(Inventário!$N$10:$N$150,Inventário!$D$10:$D$150,Estoque!M$10,Inventário!$E$10:$E$150,Estoque!$C96)),\"ERRO\")","v":""},{"$f":"IFERROR(IF(M96=\"\",\"\",SUMIFS(Inventário!$N$10:$N$150,Inventário!$D$10:$D$150,Estoque!N$10,Inventário!$E$10:$E$150,Estoque!$C96)),\"ERRO\")","v":""},{"$f":"IFERROR(IF(N96=\"\",\"\",SUMIFS(Inventário!$N$10:$N$150,Inventário!$D$10:$D$150,Estoque!O$10,Inventário!$E$10:$E$150,Estoque!$C96)),\"ERRO\")","v":""},null,null,null,{"$f":"Inventário!$E93","v":0}]
[null,85,{"$f":"IF('Cadastro de Produtos'!C89=\"\",\"\",VLOOKUP(B97,'Cadastro de Produtos'!$B$5:$C$204,2,0))","v":""},{"$f":"IFERROR(IF(C97=\"\",\"\",SUMIFS(Inventário!$N$10:$N$150,Inventário!$D$10:$D$150,Estoque!D$10,Inventário!$E$10:$E$150,Estoque!$C97)),\"ERRO\")","v":""},{"$f":"IFERROR(IF(D97=\"\",\"\",SUMIFS(Inventário!$N$10:$N$150,Inventário!$D$10:$D$150,Estoque!E$10,Inventário!$E$10:$E$150,Estoque!$C97)),\"ERRO\")","v":""},{"$f":"IFERROR(IF(E97=\"\",\"\",SUMIFS(Inventário!$N$10:$N$150,Inventário!$D$10:$D$150,Estoque!F$10,Inventário!$E$10:$E$150,Estoque!$C97)),\"ERRO\")","v":""},{"$f":"IFERROR(IF(F97=\"\",\"\",SUMIFS(Inventário!$N$10:$N$150,Inventário!$D$10:$D$150,Estoque!G$10,Inventário!$E$10:$E$150,Estoque!$C97)),\"ERRO\")","v":""},{"$f":"IFERROR(IF(G97=\"\",\"\",SUMIFS(Inventário!$N$10:$N$150,Inventário!$D$10:$D$150,Estoque!H$10,Inventário!$E$10:$E$150,Estoque!$C97)),\"ERRO\")","v":""},{"$f":"IFERROR(IF(H97=\"\",\"\",SUMIFS(Inventário!$N$10:$N$150,Inventário!$D$10:$D$150,Estoque!I$10,Inventário!$E$10:$E$150,Estoque!$C97)),\"ERRO\")","v":""},{"$f":"IFERROR(IF(I97=\"\",\"\",SUMIFS(Inventário!$N$10:$N$150,Inventário!$D$10:$D$150,Estoque!J$10,Inventário!$E$10:$E$150,Estoque!$C97)),\"ERRO\")","v":""},{"$f":"IFERROR(IF(J97=\"\",\"\",SUMIFS(Inventário!$N$10:$N$150,Inventário!$D$10:$D$150,Estoque!K$10,Inventário!$E$10:$E$150,Estoque!$C97)),\"ERRO\")","v":""},{"$f":"IFERROR(IF(K97=\"\",\"\",SUMIFS(Inventário!$N$10:$N$150,Inventário!$D$10:$D$150,Estoque!L$10,Inventário!$E$10:$E$150,Estoque!$C97)),\"ERRO\")","v":""},{"$f":"IFERROR(IF(L97=\"\",\"\",SUMIFS(Inventário!$N$10:$N$150,Inventário!$D$10:$D$150,Estoque!M$10,Inventário!$E$10:$E$150,Estoque!$C97)),\"ERRO\")","v":""},{"$f":"IFERROR(IF(M97=\"\",\"\",SUMIFS(Inventário!$N$10:$N$150,Inventário!$D$10:$D$150,Estoque!N$10,Inventário!$E$10:$E$150,Estoque!$C97)),\"ERRO\")","v":""},{"$f":"IFERROR(IF(N97=\"\",\"\",SUMIFS(Inventário!$N$10:$N$150,Inventário!$D$10:$D$150,Estoque!O$10,Inventário!$E$10:$E$150,Estoque!$C97)),\"ERRO\")","v":""},null,null,null,{"$f":"Inventário!$E94","v":0}]
[null,86,{"$f":"IF('Cadastro de Produtos'!C90=\"\",\"\",VLOOKUP(B98,'Cadastro de Produtos'!$B$5:$C$204,2,0))","v":""},{"$f":"IFERROR(IF(C98=\"\",\"\",SUMIFS(Inventário!$N$10:$N$150,Inventário!$D$10:$D$150,Estoque!D$10,Inventário!$E$10:$E$150,Estoque!$C98)),\"ERRO\")","v":""},{"$f":"IFERROR(IF(D98=\"\",\"\",SUMIFS(Inventário!$N$10:$N$150,Inventário!$D$10:$D$150,Estoque!E$10,Inventário!$E$10:$E$150,Estoque!$C98)),\"ERRO\")","v":""},{"$f":"IFERROR(IF(E98=\"\",\"\",SUMIFS(Inventário!$N$10:$N$150,Inventário!$D$10:$D$150,Estoque!F$10,Inventário!$E$10:$E$150,Estoque!$C98)),\"ERRO\")","v":""},{"$f":"IFERROR(IF(F98=\"\",\"\",SUMIFS(Inventário!$N$10:$N$150,Inventário!$D$10:$D$150,Estoque!G$10,Inventário!$E$10:$E$150,Estoque!$C98)),\"ERRO\")","v":""},{"$f":"IFERROR(IF(G98=\"\",\"\",SUMIFS(Inventário!$N$10:$N$150,Inventário!$D$10:$D$150,Estoque!H$10,Inventário!$E$10:$E$150,Estoque!$C98)),\"ERRO\")","v":""},{"$f":"IFERROR(IF(H98=\"\",\"\",SUMIFS(Inventário!$N$10:$N$150,Inventário!$D$10:$D$150,Estoque!I$10,Inventário!$E$10:$E$150,Estoque!$C98)),\"ERRO\")","v":""},{"$f":"IFERROR(IF(I98=\"\",\"\",SUMIFS(Inventário!$N$10:$N$150,Inventário!$D$10:$D$150,Estoque!J$10,Inventário!$E$10:$E$150,Estoque!$C98)),\"ERRO\")","v":""},{"$f":"IFERROR(IF(J98=\"\",\"\",SUMIFS(Inventário!$N$10:$N$150,Inventário!$D$10:$D$150,Estoque!K$10,Inventário!$E$10:$E$150,Estoque!$C98)),\"ERRO\")","v":""},{"$f":"IFERROR(IF(K98=\"\",\"\",SUMIFS(Inventário!$N$10:$N$150,Inventário!$D$10:$D$150,Estoque!L$10,Inventário!$E$10:$E$150,Estoque!$C98)),\"ERRO\")","v":""},{"$f":"IFERROR(IF(L98=\"\",\"\",SUMIFS(Inventário!$N$10:$N$150,Inventário!$D$10:$D$150,Estoque!M$10,Inventário!$E$10:$E$150,Estoque!$C98)),\"ERRO\")","v":""},{"$f":"IFERROR(IF(M98=\"\",\"\",SUMIFS(Inventário!$N$10:$N$150,Inventário!$D$10:$D$150,Estoque!N$10,Inventário!$E$10:$E$150,Estoque!$C98)),\"ERRO\")","v":""},{"$f":"IFERROR(IF(N98=\"\",\"\",SUMIFS(Inventário!$N$10:$N$150,Inventário!$D$10:$D$150,Estoque!O$10,Inventário!$E$10:$E$150,Estoque!$C98)),\"ERRO\")","v":""},null,null,null,{"$f":"Inventário!$E95","v":0}]
[null,87,{"$f":"IF('Cadastro de Produtos'!C91=\"\",\"\",VLOOKUP(B99,'Cadastro de Produtos'!$B$5:$C$204,2,0))","v":""},{"$f":"IFERROR(IF(C99=\"\",\"\",SUMIFS(Inventário!$N$10:$N$150,Inventário!$D$10:$D$150,Estoque!D$10,Inventário!$E$10:$E$150,Estoque!$C99)),\"ERRO\")","v":""},{"$f":"IFERROR(IF(D99=\"\",\"\",SUMIFS(Inventário!$N$10:$N$150,Inventário!$D$10:$D$150,Estoque!E$10,Inventário!$E$10:$E$150,Estoque!$C99)),\"ERRO\")","v":""},{"$f":"IFERROR(IF(E99=\"\",\"\",SUMIFS(Inventário!$N$10:$N$150,Inventário!$D$10:$D$150,Estoque!F$10,Inventário!$E$10:$E$150,Estoque!$C99)),\"ERRO\")","v":""},{"$f":"IFERROR(IF(F99=\"\",\"\",SUMIFS(Inventário!$N$10:$N$150,Inventário!$D$10:$D$150,Estoque!G$10,Inventário!$E$10:$E$150,Estoque!$C99)),\"ERRO\")","v":""},{"$f":"IFERROR(IF(G99=\"\",\"\",SUMIFS(Inventário!$N$10:$N$150,Inventário!$D$10:$D$150,Estoque!H$10,Inventário!$E$10:$E$150,Estoque!$C99)),\"ERRO\")","v":""},{"$f":"IFERROR(IF(H99=\"\",\"\",SUMIFS(Inventário!$N$10:$N$150,Inventário!$D$10:$D$150,Estoque!I$10,Inventário!$E$10:$E$150,Estoque!$C99)),\"ERRO\")","v":""},{"$f":"IFERROR(IF(I99=\"\",\"\",SUMIFS(Inventário!$N$10:$N$150,Inventário!$D$10:$D$150,Estoque!J$10,Inventário!$E$10:$E$150,Estoque!$C99)),\"ERRO\")","v":""},{"$f":"IFERROR(IF(J99=\"\",\"\",SUMIFS(Inventário!$N$10:$N$150,Inventário!$D$10:$D$150,Estoque!K$10,Inventário!$E$10:$E$150,Estoque!$C99)),\"ERRO\")","v":""},{"$f":"IFERROR(IF(K99=\"\",\"\",SUMIFS(Inventário!$N$10:$N$150,Inventário!$D$10:$D$150,Estoque!L$10,Inventário!$E$10:$E$150,Estoque!$C99)),\"ERRO\")","v":""},{"$f":"IFERROR(IF(L99=\"\",\"\",SUMIFS(Inventário!$N$10:$N$150,Inventário!$D$10:$D$150,Estoque!M$10,Inventário!$E$10:$E$150,Estoque!$C99)),\"ERRO\")","v":""},{"$f":"IFERROR(IF(M99=\"\",\"\",SUMIFS(Inventário!$N$10:$N$150,Inventário!$D$10:$D$150,Estoque!N$10,Inventário!$E$10:$E$150,Estoque!$C99)),\"ERRO\")","v":""},{"$f":"IFERROR(IF(N99=\"\",\"\",SUMIFS(Inventário!$N$10:$N$150,Inventário!$D$10:$D$150,Estoque!O$10,Inventário!$E$10:$E$150,Estoque!$C99)),\"ERRO\")","v":""},null,null,null,{"$f":"Inventário!$E96","v":0}]
[null,88,{"$f":"IF('Cadastro de Produtos'!C92=\"\",\"\",VLOOKUP(B100,'Cadastro de Produtos'!$B$5:$C$204,2,0))","v":""},{"$f":"IFERROR(IF(C100=\"\",\"\",SUMIFS(Inventário!$N$10:$N$150,Inventário!$D$10:$D$150,Estoque!D$10,Inventário!$E$10:$E$150,Estoque!$C100)),\"ERRO\")","v":""},{"$f":"IFERROR(IF(D100=\"\",\"\",SUMIFS(Inventário!$N$10:$N$150,Inventário!$D$10:$D$150,Estoque!E$10,Inventário!$E$10:$E$150,Estoque!$C100)),\"ERRO\")","v":""},{"$f":"IFERROR(IF(E100=\"\",\"\",SUMIFS(Inventário!$N$10:$N$150,Inventário!$D$10:$D$150,Estoque!F$10,Inventário!$E$10:$E$150,Estoque!$C100)),\"ERRO\")","v":""},{"$f":"IFERROR(IF(F100=\"\",\"\",SUMIFS(Inventário!$N$10:$N$150,Inventário!$D$10:$D$150,Estoque!G$10,Inventário!$E$10:$E$150,Estoque!$C100)),\"ERRO\")","v":""},{"$f":"IFERROR(IF(G100=\"\",\"\",SUMIFS(Inventário!$N$10:$N$150,Inventário!$D$10:$D$150,Estoque!H$10,Inventário!$E$10:$E$150,Estoque!$C100)),\"ERRO\")","v":""},{"$f":"IFERROR(IF(H100=\"\",\"\",SUMIFS(Inventário!$N$10:$N$150,Inventário!$D$10:$D$150,Estoque!I$10,Inventário!$E$10:$E$150,Estoque!$C100)),\"ERRO\")","v":""},{"$f":"IFERROR(IF(I100=\"\",\"\",SUMIFS(Inventário!$N$10:$N$150,Inventário!$D$10:$D$150,Estoque!J$10,Inventário!$E$10:$E$150,Estoque!$C100)),\"ERRO\")","v":""},{"$f":"IFERROR(IF(J100=\"\",\"\",SUMIFS(Inventário!$N$10:$N$150,Inventário!$D$10:$D$150,Estoque!K$10,Inventário!$E$10:$E$150,Estoque!$C100)),\"ERRO\")","v":""},{"$f":"IFERROR(IF(K100=\"\",\"\",SUMIFS(Inventário!$N$10:$N$150,Inventário!$D$10:$D$150,Estoque!L$10,Inventário!$E$10:$E$150,Estoque!$C100)),\"ERRO\")","v":""},{"$f":"IFERROR(IF(L100=\"\",\"\",SUMIFS(Inventário!$N$10:$N$150,Inventário!$D$10:$D$150,Estoque!M$10,Inventário!$E$10:$E$150,Estoque!$C100)),\"ERRO\")","v":""},{"$f":"IFERROR(IF(M100=\"\",\"\",SUMIFS(Inventário!$N$10:$N$150,Inventário!$D$10:$D$150,Estoque!N$10,Inventário!$E$10:$E$150,Estoque!$C100)),\"ERRO\")","v":""},{"$f":"IFERROR(IF(N100=\"\",\"\",SUMIFS(Inventário!$N$10:$N$150,Inventário!$D$10:$D$150,Estoque!O$10,Inventário!$E$10:$E$150,Estoque!$C100)),\"ERRO\")","v":""},null,null,null,{"$f":"Inventário!$E97","v":0}]
[null,89,{"$f":"IF('Cadastro de Produtos'!C93=\"\",\"\",VLOOKUP(B101,'Cadastro de Produtos'!$B$5:$C$204,2,0))","v":""},{"$f":"IFERROR(IF(C101=\"\",\"\",SUMIFS(Inventário!$N$10:$N$150,Inventário!$D$10:$D$150,Estoque!D$10,Inventário!$E$10:$E$150,Estoque!$C101)),\"ERRO\")","v":""},{"$f":"IFERROR(IF(D101=\"\",\"\",SUMIFS(Inventário!$N$10:$N$150,Inventário!$D$10:$D$150,Estoque!E$10,Inventário!$E$10:$E$150,Estoque!$C101)),\"ERRO\")","v":""},{"$f":"IFERROR(IF(E101=\"\",\"\",SUMIFS(Inventário!$N$10:$N$150,Inventário!$D$10:$D$150,Estoque!F$10,Inventário!$E$10:$E$150,Estoque!$C101)),\"ERRO\")","v":""},{"$f":"IFERROR(IF(F101=\"\",\"\",SUMIFS(Inventário!$N$10:$N$150,Inventário!$D$10:$D$150,Estoque!G$10,Inventário!$E$10:$E$150,Estoque!$C101)),\"ERRO\")","v":""},{"$f":"IFERROR(IF(G101=\"\",\"\",SUMIFS(Inventário!$N$10:$N$150,Inventário!$D$10:$D$150,Estoque!H$10,Inventário!$E$10:$E$150,Estoque!$C101)),\"ERRO\")","v":""},{"$f":"IFERROR(IF(H101=\"\",\"\",SUMIFS(Inventário!$N$10:$N$150,Inventário!$D$10:$D$150,Estoque!I$10,Inventário!$E$10:$E$150,Estoque!$C101)),\"ERRO\")","v":""},{"$f":"IFERROR(IF(I101=\"\",\"\",SUMIFS(Inventário!$N$10:$N$150,Inventário!$D$10:$D$150,Estoque!J$10,Inventário!$E$10:$E$150,Estoque!$C101)),\"ERRO\")","v":""},{"$f":"IFERROR(IF(J101=\"\",\"\",SUMIFS(Inventário!$N$10:$N$150,Inventário!$D$10:$D$150,Estoque!K$10,Inventário!$E$10:$E$150,Estoque!$C101)),\"ERRO\")","v":""},{"$f":"IFERROR(IF(K101=\"\",\"\",SUMIFS(Inventário!$N$10:$N$150,Inventário!$D$10:$D$150,Estoque!L$10,Inventário!$E$10:$E$150,Estoque!$C101)),\"ERRO\")","v":""},{"$f":"IFERROR(IF(L101=\"\",\"\",SUMIFS(Inventário!$N$10:$N$150,Inventário!$D$10:$D$150,Estoque!M$10,Inventário!$E$10:$E$150,Estoque!$C101)),\"ERRO\")","v":""},{"$f":"IFERROR(IF(M101=\"\",\"\",SUMIFS(Inventário!$N$10:$N$150,Inventário!$D$10:$D$150,Estoque!N$10,Inventário!$E$10:$E$150,Estoque!$C101)),\"ERRO\")","v":""},{"$f":"IFERROR(IF(N101=\"\",\"\",SUMIFS(Inventário!$N$10:$N$150,Inventário!$D$10:$D$150,Estoque!O$10,Inventário!$E$10:$E$150,Estoque!$C101)),\"ERRO\")","v":""},null,null,null,{"$f":"Inventário!$E98","v":0}]
[null,90,{"$f":"IF('Cadastro de Produtos'!C94=\"\",\"\",VLOOKUP(B102,'Cadastro de Produtos'!$B$5:$C$204,2,0))","v":""},{"$f":"IFERROR(IF(C102=\"\",\"\",SUMIFS(Inventário!$N$10:$N$150,Inventário!$D$10:$D$150,Estoque!D$10,Inventário!$E$10:$E$150,Estoque!$C102)),\"ERRO\")","v":""},{"$f":"IFERROR(IF(D102=\"\",\"\",SUMIFS(Inventário!$N$10:$N$150,Inventário!$D$10:$D$150,Estoque!E$10,Inventário!$E$10:$E$150,Estoque!$C102)),\"ERRO\")","v":""},{"$f":"IFERROR(IF(E102=\"\",\"\",SUMIFS(Inventário!$N$10:$N$150,Inventário!$D$10:$D$150,Estoque!F$10,Inventário!$E$10:$E$150,Estoque!$C102)),\"ERRO\")","v":""},{"$f":"IFERROR(IF(F102=\"\",\"\",SUMIFS(Inventário!$N$10:$N$150,Inventário!$D$10:$D$150,Estoque!G$10,Inventário!$E$10:$E$150,Estoque!$C102)),\"ERRO\")","v":""},{"$f":"IFERROR(IF(G102=\"\",\"\",SUMIFS(Inventário!$N$10:$N$150,Inventário!$D$10:$D$150,Estoque!H$10,Inventário!$E$10:$E$150,Estoque!$C102)),\"ERRO\")","v":""},{"$f":"IFERROR(IF(H102=\"\",\"\",SUMIFS(Inventário!$N$10:$N$150,Inventário!$D$10:$D$150,Estoque!I$10,Inventário!$E$10:$E$150,Estoque!$C102)),\"ERRO\")","v":""},{"$f":"IFERROR(IF(I102=\"\",\"\",SUMIFS(Inventário!$N$10:$N$150,Inventário!$D$10:$D$150,Estoque!J$10,Inventário!$E$10:$E$150,Estoque!$C102)),\"ERRO\")","v":""},{"$f":"IFERROR(IF(J102=\"\",\"\",SUMIFS(Inventário!$N$10:$N$150,Inventário!$D$10:$D$150,Estoque!K$10,Inventário!$E$10:$E$150,Estoque!$C102)),\"ERRO\")","v":""},{"$f":"IFERROR(IF(K102=\"\",\"\",SUMIFS(Inventário!$N$10:$N$150,Inventário!$D$10:$D$150,Estoque!L$10,Inventário!$E$10:$E$150,Estoque!$C102)),\"ERRO\")","v":""},{"$f":"IFERROR(IF(L102=\"\",\"\",SUMIFS(Inventário!$N$10:$N$150,Inventário!$D$10:$D$150,Estoque!M$10,Inventário!$E$10:$E$150,Estoque!$C102)),\"ERRO\")","v":""},{"$f":"IFERROR(IF(M102=\"\",\"\",SUMIFS(Inventário!$N$10:$N$150,Inventário!$D$10:$D$150,Estoque!N$10,Inventário!$E$10:$E$150,Estoque!$C102)),\"ERRO\")","v":""},{"$f":"IFERROR(IF(N102=\"\",\"\",SUMIFS(Inventário!$N$10:$N$150,Inventário!$D$10:$D$150,Estoque!O$10,Inventário!$E$10:$E$150,Estoque!$C102)),\"ERRO\")","v":""},null,null,null,{"$f":"Inventário!$E99","v":0}]
[null,91,{"$f":"IF('Cadastro de Produtos'!C95=\"\",\"\",VLOOKUP(B103,'Cadastro de Produtos'!$B$5:$C$204,2,0))","v":""},{"$f":"IFERROR(IF(C103=\"\",\"\",SUMIFS(Inventário!$N$10:$N$150,Inventário!$D$10:$D$150,Estoque!D$10,Inventário!$E$10:$E$150,Estoque!$C103)),\"ERRO\")","v":""},{"$f":"IFERROR(IF(D103=\"\",\"\",SUMIFS(Inventário!$N$10:$N$150,Inventário!$D$10:$D$150,Estoque!E$10,Inventário!$E$10:$E$150,Estoque!$C103)),\"ERRO\")","v":""},{"$f":"IFERROR(IF(E103=\"\",\"\",SUMIFS(Inventário!$N$10:$N$150,Inventário!$D$10:$D$150,Estoque!F$10,Inventário!$E$10:$E$150,Estoque!$C103)),\"ERRO\")","v":""},{"$f":"IFERROR(IF(F103=\"\",\"\",SUMIFS(Inventário!$N$10:$N$150,Inventário!$D$10:$D$150,Estoque!G$10,Inventário!$E$10:$E$150,Estoque!$C103)),\"ERRO\")","v":""},{"$f":"IFERROR(IF(G103=\"\",\"\",SUMIFS(Inventário!$N$10:$N$150,Inventário!$D$10:$D$150,Estoque!H$10,Inventário!$E$10:$E$150,Estoque!$C103)),\"ERRO\")","v":""},{"$f":"IFERROR(IF(H103=\"\",\"\",SUMIFS(Inventário!$N$10:$N$150,Inventário!$D$10:$D$150,Estoque!I$10,Inventário!$E$10:$E$150,Estoque!$C103)),\"ERRO\")","v":""},{"$f":"IFERROR(IF(I103=\"\",\"\",SUMIFS(Inventário!$N$10:$N$150,Inventário!$D$10:$D$150,Estoque!J$10,Inventário!$E$10:$E$150,Estoque!$C103)),\"ERRO\")","v":""},{"$f":"IFERROR(IF(J103=\"\",\"\",SUMIFS(Inventário!$N$10:$N$150,Inventário!$D$10:$D$150,Estoque!K$10,Inventário!$E$10:$E$150,Estoque!$C103)),\"ERRO\")","v":""},{"$f":"IFERROR(IF(K103=\"\",\"\",SUMIFS(Inventário!$N$10:$N$150,Inventário!$D$10:$D$150,Estoque!L$10,Inventário!$E$10:$E$150,Estoque!$C103)),\"ERRO\")","v":""},{"$f":"IFERROR(IF(L103=\"\",\"\",SUMIFS(Inventário!$N$10:$N$150,Inventário!$D$10:$D$150,Estoque!M$10,Inventário!$E$10:$E$150,Estoque!$C103)),\"ERRO\")","v":""},{"$f":"IFERROR(IF(M103=\"\",\"\",SUMIFS(Inventário!$N$10:$N$150,Inventário!$D$10:$D$150,Estoque!N$10,Inventário!$E$10:$E$150,Estoque!$C103)),\"ERRO\")","v":""},{"$f":"IFERROR(IF(N103=\"\",\"\",SUMIFS(Inventário!$N$10:$N$150,Inventário!$D$10:$D$150,Estoque!O$10,Inventário!$E$10:$E$150,Estoque!$C103)),\"ERRO\")","v":""},null,null,null,{"$f":"Inventário!$E100","v":0}]
[null,92,{"$f":"IF('Cadastro de Produtos'!C96=\"\",\"\",VLOOKUP(B104,'Cadastro de Produtos'!$B$5:$C$204,2,0))","v":""},{"$f":"IFERROR(IF(C104=\"\",\"\",SUMIFS(Inventário!$N$10:$N$150,Inventário!$D$10:$D$150,Estoque!D$10,Inventário!$E$10:$E$150,Estoque!$C104)),\"ERRO\")","v":""},{"$f":"IFERROR(IF(D104=\"\",\"\",SUMIFS(Inventário!$N$10:$N$150,Inventário!$D$10:$D$150,Estoque!E$10,Inventário!$E$10:$E$150,Estoque!$C104)),\"ERRO\")","v":""},{"$f":"IFERROR(IF(E104=\"\",\"\",SUMIFS(Inventário!$N$10:$N$150,Inventário!$D$10:$D$150,Estoque!F$10,Inventário!$E$10:$E$150,Estoque!$C104)),\"ERRO\")","v":""},{"$f":"IFERROR(IF(F104=\"\",\"\",SUMIFS(Inventário!$N$10:$N$150,Inventário!$D$10:$D$150,Estoque!G$10,Inventário!$E$10:$E$150,Estoque!$C104)),\"ERRO\")","v":""},{"$f":"IFERROR(IF(G104=\"\",\"\",SUMIFS(Inventário!$N$10:$N$150,Inventário!$D$10:$D$150,Estoque!H$10,Inventário!$E$10:$E$150,Estoque!$C104)),\"ERRO\")","v":""},{"$f":"IFERROR(IF(H104=\"\",\"\",SUMIFS(Inventário!$N$10:$N$150,Inventário!$D$10:$D$150,Estoque!I$10,Inventário!$E$10:$E$150,Estoque!$C104)),\"ERRO\")","v":""},{"$f":"IFERROR(IF(I104=\"\",\"\",SUMIFS(Inventário!$N$10:$N$150,Inventário!$D$10:$D$150,Estoque!J$10,Inventário!$E$10:$E$150,Estoque!$C104)),\"ERRO\")","v":""},{"$f":"IFERROR(IF(J104=\"\",\"\",SUMIFS(Inventário!$N$10:$N$150,Inventário!$D$10:$D$150,Estoque!K$10,Inventário!$E$10:$E$150,Estoque!$C104)),\"ERRO\")","v":""},{"$f":"IFERROR(IF(K104=\"\",\"\",SUMIFS(Inventário!$N$10:$N$150,Inventário!$D$10:$D$150,Estoque!L$10,Inventário!$E$10:$E$150,Estoque!$C104)),\"ERRO\")","v":""},{"$f":"IFERROR(IF(L104=\"\",\"\",SUMIFS(Inventário!$N$10:$N$150,Inventário!$D$10:$D$150,Estoque!M$10,Inventário!$E$10:$E$150,Estoque!$C104)),\"ERRO\")","v":""},{"$f":"IFERROR(IF(M104=\"\",\"\",SUMIFS(Inventário!$N$10:$N$150,Inventário!$D$10:$D$150,Estoque!N$10,Inventário!$E$10:$E$150,Estoque!$C104)),\"ERRO\")","v":""},{"$f":"IFERROR(IF(N104=\"\",\"\",SUMIFS(Inventário!$N$10:$N$150,Inventário!$D$10:$D$150,Estoque!O$10,Inventário!$E$10:$E$150,Estoque!$C104)),\"ERRO\")","v":""},null,null,null,{"$f":"Inventário!$E101","v":0}]
[null,93,{"$f":"IF('Cadastro de Produtos'!C97=\"\",\"\",VLOOKUP(B105,'Cadastro de Produtos'!$B$5:$C$204,2,0))","v":""},{"$f":"IFERROR(IF(C105=\"\",\"\",SUMIFS(Inventário!$N$10:$N$150,Inventário!$D$10:$D$150,Estoque!D$10,Inventário!$E$10:$E$150,Estoque!$C105)),\"ERRO\")","v":""},{"$f":"IFERROR(IF(D105=\"\",\"\",SUMIFS(Inventário!$N$10:$N$150,Inventário!$D$10:$D$150,Estoque!E$10,Inventário!$E$10:$E$150,Estoque!$C105)),\"ERRO\")","v":""},{"$f":"IFERROR(IF(E105=\"\",\"\",SUMIFS(Inventário!$N$10:$N$150,Inventário!$D$10:$D$150,Estoque!F$10,Inventário!$E$10:$E$150,Estoque!$C105)),\"ERRO\")","v":""},{"$f":"IFERROR(IF(F105=\"\",\"\",SUMIFS(Inventário!$N$10:$N$150,Inventário!$D$10:$D$150,Estoque!G$10,Inventário!$E$10:$E$150,Estoque!$C105)),\"ERRO\")","v":""},{"$f":"IFERROR(IF(G105=\"\",\"\",SUMIFS(Inventário!$N$10:$N$150,Inventário!$D$10:$D$150,Estoque!H$10,Inventário!$E$10:$E$150,Estoque!$C105)),\"ERRO\")","v":""},{"$f":"IFERROR(IF(H105=\"\",\"\",SUMIFS(Inventário!$N$10:$N$150,Inventário!$D$10:$D$150,Estoque!I$10,Inventário!$E$10:$E$150,Estoque!$C105)),\"ERRO\")","v":""},{"$f":"IFERROR(IF(I105=\"\",\"\",SUMIFS(Inventário!$N$10:$N$150,Inventário!$D$10:$D$150,Estoque!J$10,Inventário!$E$10:$E$150,Estoque!$C105)),\"ERRO\")","v":""},{"$f":"IFERROR(IF(J105=\"\",\"\",SUMIFS(Inventário!$N$10:$N$150,Inventário!$D$10:$D$150,Estoque!K$10,Inventário!$E$10:$E$150,Estoque!$C105)),\"ERRO\")","v":""},{"$f":"IFERROR(IF(K105=\"\",\"\",SUMIFS(Inventário!$N$10:$N$150,Inventário!$D$10:$D$150,Estoque!L$10,Inventário!$E$10:$E$150,Estoque!$C105)),\"ERRO\")","v":""},{"$f":"IFERROR(IF(L105=\"\",\"\",SUMIFS(Inventário!$N$10:$N$150,Inventário!$D$10:$D$150,Estoque!M$10,Inventário!$E$10:$E$150,Estoque!$C105)),\"ERRO\")","v":""},{"$f":"IFERROR(IF(M105=\"\",\"\",SUMIFS(Inventário!$N$10:$N$150,Inventário!$D$10:$D$150,Estoque!N$10,Inventário!$E$10:$E$150,Estoque!$C105)),\"ERRO\")","v":""},{"$f":"IFERROR(IF(N105=\"\",\"\",SUMIFS(Inventário!$N$10:$N$150,Inventário!$D$10:$D$150,Estoque!O$10,Inventário!$E$10:$E$150,Estoque!$C105)),\"ERRO\")","v":""},null,null,null,{"$f":"Inventário!$E102","v":0}]
[null,94,{"$f":"IF('Cadastro de Produtos'!C98=\"\",\"\",VLOOKUP(B106,'Cadastro de Produtos'!$B$5:$C$204,2,0))","v":""},{"$f":"IFERROR(IF(C106=\"\",\"\",SUMIFS(Inventário!$N$10:$N$150,Inventário!$D$10:$D$150,Estoque!D$10,Inventário!$E$10:$E$150,Estoque!$C106)),\"ERRO\")","v":""},{"$f":"IFERROR(IF(D106=\"\",\"\",SUMIFS(Inventário!$N$10:$N$150,Inventário!$D$10:$D$150,Estoque!E$10,Inventário!$E$10:$E$150,Estoque!$C106)),\"ERRO\")","v":""},{"$f":"IFERROR(IF(E106=\"\",\"\",SUMIFS(Inventário!$N$10:$N$150,Inventário!$D$10:$D$150,Estoque!F$10,Inventário!$E$10:$E$150,Estoque!$C106)),\"ERRO\")","v":""},{"$f":"IFERROR(IF(F106=\"\",\"\",SUMIFS(Inventário!$N$10:$N$150,Inventário!$D$10:$D$150,Estoque!G$10,Inventário!$E$10:$E$150,Estoque!$C106)),\"ERRO\")","v":""},{"$f":"IFERROR(IF(G106=\"\",\"\",SUMIFS(Inventário!$N$10:$N$150,Inventário!$D$10:$D$150,Estoque!H$10,Inventário!$E$10:$E$150,Estoque!$C106)),\"ERRO\")","v":""},{"$f":"IFERROR(IF(H106=\"\",\"\",SUMIFS(Inventário!$N$10:$N$150,Inventário!$D$10:$D$150,Estoque!I$10,Inventário!$E$10:$E$150,Estoque!$C106)),\"ERRO\")","v":""},{"$f":"IFERROR(IF(I106=\"\",\"\",SUMIFS(Inventário!$N$10:$N$150,Inventário!$D$10:$D$150,Estoque!J$10,Inventário!$E$10:$E$150,Estoque!$C106)),\"ERRO\")","v":""},{"$f":"IFERROR(IF(J106=\"\",\"\",SUMIFS(Inventário!$N$10:$N$150,Inventário!$D$10:$D$150,Estoque!K$10,Inventário!$E$10:$E$150,Estoque!$C106)),\"ERRO\")","v":""},{"$f":"IFERROR(IF(K106=\"\",\"\",SUMIFS(Inventário!$N$10:$N$150,Inventário!$D$10:$D$150,Estoque!L$10,Inventário!$E$10:$E$150,Estoque!$C106)),\"ERRO\")","v":""},{"$f":"IFERROR(IF(L106=\"\",\"\",SUMIFS(Inventário!$N$10:$N$150,Inventário!$D$10:$D$150,Estoque!M$10,Inventário!$E$10:$E$150,Estoque!$C106)),\"ERRO\")","v":""},{"$f":"IFERROR(IF(M106=\"\",\"\",SUMIFS(Inventário!$N$10:$N$150,Inventário!$D$10:$D$150,Estoque!N$10,Inventário!$E$10:$E$150,Estoque!$C106)),\"ERRO\")","v":""},{"$f":"IFERROR(IF(N106=\"\",\"\",SUMIFS(Inventário!$N$10:$N$150,Inventário!$D$10:$D$150,Estoque!O$10,Inventário!$E$10:$E$150,Estoque!$C106)),\"ERRO\")","v":""},null,null,null,{"$f":"Inventário!$E103","v":0}]
[null,95,{"$f":"IF('Cadastro de Produtos'!C99=\"\",\"\",VLOOKUP(B107,'Cadastro de Produtos'!$B$5:$C$204,2,0))","v":""},{"$f":"IFERROR(IF(C107=\"\",\"\",SUMIFS(Inventário!$N$10:$N$150,Inventário!$D$10:$D$150,Estoque!D$10,Inventário!$E$10:$E$150,Estoque!$C107)),\"ERRO\")","v":""},{"$f":"IFERROR(IF(D107=\"\",\"\",SUMIFS(Inventário!$N$10:$N$150,Inventário!$D$10:$D$150,Estoque!E$10,Inventário!$E$10:$E$150,Estoque!$C107)),\"ERRO\")","v":""},{"$f":"IFERROR(IF(E107=\"\",\"\",SUMIFS(Inventário!$N$10:$N$150,Inventário!$D$10:$D$150,Estoque!F$10,Inventário!$E$10:$E$150,Estoque!$C107)),\"ERRO\")","v":""},{"$f":"IFERROR(IF(F107=\"\",\"\",SUMIFS(Inventário!$N$10:$N$150,Inventário!$D$10:$D$150,Estoque!G$10,Inventário!$E$10:$E$150,Estoque!$C107)),\"ERRO\")","v":""},{"$f":"IFERROR(IF(G107=\"\",\"\",SUMIFS(Inventário!$N$10:$N$150,Inventário!$D$10:$D$150,Estoque!H$10,Inventário!$E$10:$E$150,Estoque!$C107)),\"ERRO\")","v":""},{"$f":"IFERROR(IF(H107=\"\",\"\",SUMIFS(Inventário!$N$10:$N$150,Inventário!$D$10:$D$150,Estoque!I$10,Inventário!$E$10:$E$150,Estoque!$C107)),\"ERRO\")","v":""},{"$f":"IFERROR(IF(I107=\"\",\"\",SUMIFS(Inventário!$N$10:$N$150,Inventário!$D$10:$D$150,Estoque!J$10,Inventário!$E$10:$E$150,Estoque!$C107)),\"ERRO\")","v":""},{"$f":"IFERROR(IF(J107=\"\",\"\",SUMIFS(Inventário!$N$10:$N$150,Inventário!$D$10:$D$150,Estoque!K$10,Inventário!$E$10:$E$150,Estoque!$C107)),\"ERRO\")","v":""},{"$f":"IFERROR(IF(K107=\"\",\"\",SUMIFS(Inventário!$N$10:$N$150,Inventário!$D$10:$D$150,Estoque!L$10,Inventário!$E$10:$E$150,Estoque!$C107)),\"ERRO\")","v":""},{"$f":"IFERROR(IF(L107=\"\",\"\",SUMIFS(Inventário!$N$10:$N$150,Inventário!$D$10:$D$150,Estoque!M$10,Inventário!$E$10:$E$150,Estoque!$C107)),\"ERRO\")","v":""},{"$f":"IFERROR(IF(M107=\"\",\"\",SUMIFS(Inventário!$N$10:$N$150,Inventário!$D$10:$D$150,Estoque!N$10,Inventário!$E$10:$E$150,Estoque!$C107)),\"ERRO\")","v":""},{"$f":"IFERROR(IF(N107=\"\",\"\",SUMIFS(Inventário!$N$10:$N$150,Inventário!$D$10:$D$150,Estoque!O$10,Inventário!$E$10:$E$150,Estoque!$C107)),\"ERRO\")","v":""},null,null,null,{"$f":"Inventário!$E104","v":0}]
[null,96,{"$f":"IF('Cadastro de Produtos'!C100=\"\",\"\",VLOOKUP(B108,'Cadastro de Produtos'!$B$5:$C$204,2,0))","v":""},{"$f":"IFERROR(IF(C108=\"\",\"\",SUMIFS(Inventário!$N$10:$N$150,Inventário!$D$10:$D$150,Estoque!D$10,Inventário!$E$10:$E$150,Estoque!$C108)),\"ERRO\")","v":""},{"$f":"IFERROR(IF(D108=\"\",\"\",SUMIFS(Inventário!$N$10:$N$150,Inventário!$D$10:$D$150,Estoque!E$10,Inventário!$E$10:$E$150,Estoque!$C108)),\"ERRO\")","v":""},{"$f":"IFERROR(IF(E108=\"\",\"\",SUMIFS(Inventário!$N$10:$N$150,Inventário!$D$10:$D$150,Estoque!F$10,Inventário!$E$10:$E$150,Estoque!$C108)),\"ERRO\")","v":""},{"$f":"IFERROR(IF(F108=\"\",\"\",SUMIFS(Inventário!$N$10:$N$150,Inventário!$D$10:$D$150,Estoque!G$10,Inventário!$E$10:$E$150,Estoque!$C108)),\"ERRO\")","v":""},{"$f":"IFERROR(IF(G108=\"\",\"\",SUMIFS(Inventário!$N$10:$N$150,Inventário!$D$10:$D$150,Estoque!H$10,Inventário!$E$10:$E$150,Estoque!$C108)),\"ERRO\")","v":""},{"$f":"IFERROR(IF(H108=\"\",\"\",SUMIFS(Inventário!$N$10:$N$150,Inventário!$D$10:$D$150,Estoque!I$10,Inventário!$E$10:$E$150,Estoque!$C108)),\"ERRO\")","v":""},{"$f":"IFERROR(IF(I108=\"\",\"\",SUMIFS(Inventário!$N$10:$N$150,Inventário!$D$10:$D$150,Estoque!J$10,Inventário!$E$10:$E$150,Estoque!$C108)),\"ERRO\")","v":""},{"$f":"IFERROR(IF(J108=\"\",\"\",SUMIFS(Inventário!$N$10:$N$150,Inventário!$D$10:$D$150,Estoque!K$10,Inventário!$E$10:$E$150,Estoque!$C108)),\"ERRO\")","v":""},{"$f":"IFERROR(IF(K108=\"\",\"\",SUMIFS(Inventário!$N$10:$N$150,Inventário!$D$10:$D$150,Estoque!L$10,Inventário!$E$10:$E$150,Estoque!$C108)),\"ERRO\")","v":""},{"$f":"IFERROR(IF(L108=\"\",\"\",SUMIFS(Inventário!$N$10:$N$150,Inventário!$D$10:$D$150,Estoque!M$10,Inventário!$E$10:$E$150,Estoque!$C108)),\"ERRO\")","v":""},{"$f":"IFERROR(IF(M108=\"\",\"\",SUMIFS(Inventário!$N$10:$N$150,Inventário!$D$10:$D$150,Estoque!N$10,Inventário!$E$10:$E$150,Estoque!$C108)),\"ERRO\")","v":""},{"$f":"IFERROR(IF(N108=\"\",\"\",SUMIFS(Inventário!$N$10:$N$150,Inventário!$D$10:$D$150,Estoque!O$10,Inventário!$E$10:$E$150,Estoque!$C108)),\"ERRO\")","v":""},null,null,null,{"$f":"Inventário!$E105","v":0}]
[null,97,{"$f":"IF('Cadastro de Produtos'!C101=\"\",\"\",VLOOKUP(B109,'Cadastro de Produtos'!$B$5:$C$204,2,0))","v":""},{"$f":"IFERROR(IF(C109=\"\",\"\",SUMIFS(Inventário!$N$10:$N$150,Inventário!$D$10:$D$150,Estoque!D$10,Inventário!$E$10:$E$150,Estoque!$C109)),\"ERRO\")","v":""},{"$f":"IFERROR(IF(D109=\"\",\"\",SUMIFS(Inventário!$N$10:$N$150,Inventário!$D$10:$D$150,Estoque!E$10,Inventário!$E$10:$E$150,Estoque!$C109)),\"ERRO\")","v":""},{"$f":"IFERROR(IF(E109=\"\",\"\",SUMIFS(Inventário!$N$10:$N$150,Inventário!$D$10:$D$150,Estoque!F$10,Inventário!$E$10:$E$150,Estoque!$C109)),\"ERRO\")","v":""},{"$f":"IFERROR(IF(F109=\"\",\"\",SUMIFS(Inventário!$N$10:$N$150,Inventário!$D$10:$D$150,Estoque!G$10,Inventário!$E$10:$E$150,Estoque!$C109)),\"ERRO\")","v":""},{"$f":"IFERROR(IF(G109=\"\",\"\",SUMIFS(Inventário!$N$10:$N$150,Inventário!$D$10:$D$150,Estoque!H$10,Inventário!$E$10:$E$150,Estoque!$C109)),\"ERRO\")","v":""},{"$f":"IFERROR(IF(H109=\"\",\"\",SUMIFS(Inventário!$N$10:$N$150,Inventário!$D$10:$D$150,Estoque!I$10,Inventário!$E$10:$E$150,Estoque!$C109)),\"ERRO\")","v":""},{"$f":"IFERROR(IF(I109=\"\",\"\",SUMIFS(Inventário!$N$10:$N$150,Inventário!$D$10:$D$150,Estoque!J$10,Inventário!$E$10:$E$150,Estoque!$C109)),\"ERRO\")","v":""},{"$f":"IFERROR(IF(J109=\"\",\"\",SUMIFS(Inventário!$N$10:$N$150,Inventário!$D$10:$D$150,Estoque!K$10,Inventário!$E$10:$E$150,Estoque!$C109)),\"ERRO\")","v":""},{"$f":"IFERROR(IF(K109=\"\",\"\",SUMIFS(Inventário!$N$10:$N$150,Inventário!$D$10:$D$150,Estoque!L$10,Inventário!$E$10:$E$150,Estoque!$C109)),\"ERRO\")","v":""},{"$f":"IFERROR(IF(L109=\"\",\"\",SUMIFS(Inventário!$N$10:$N$150,Inventário!$D$10:$D$150,Estoque!M$10,Inventário!$E$10:$E$150,Estoque!$C109)),\"ERRO\")","v":""},{"$f":"IFERROR(IF(M109=\"\",\"\",SUMIFS(Inventário!$N$10:$N$150,Inventário!$D$10:$D$150,Estoque!N$10,Inventário!$E$10:$E$150,Estoque!$C109)),\"ERRO\")","v":""},{"$f":"IFERROR(IF(N109=\"\",\"\",SUMIFS(Inventário!$N$10:$N$150,Inventário!$D$10:$D$150,Estoque!O$10,Inventário!$E$10:$E$150,Estoque!$C109)),\"ERRO\")","v":""},null,null,null,{"$f":"Inventário!$E106","v":0}]
[null,98,{"$f":"IF('Cadastro de Produtos'!C102=\"\",\"\",VLOOKUP(B110,'Cadastro de Produtos'!$B$5:$C$204,2,0))","v":""},{"$f":"IFERROR(IF(C110=\"\",\"\",SUMIFS(Inventário!$N$10:$N$150,Inventário!$D$10:$D$150,Estoque!D$10,Inventário!$E$10:$E$150,Estoque!$C110)),\"ERRO\")","v":""},{"$f":"IFERROR(IF(D110=\"\",\"\",SUMIFS(Inventário!$N$10:$N$150,Inventário!$D$10:$D$150,Estoque!E$10,Inventário!$E$10:$E$150,Estoque!$C110)),\"ERRO\")","v":""},{"$f":"IFERROR(IF(E110=\"\",\"\",SUMIFS(Inventário!$N$10:$N$150,Inventário!$D$10:$D$150,Estoque!F$10,Inventário!$E$10:$E$150,Estoque!$C110)),\"ERRO\")","v":""},{"$f":"IFERROR(IF(F110=\"\",\"\",SUMIFS(Inventário!$N$10:$N$150,Inventário!$D$10:$D$150,Estoque!G$10,Inventário!$E$10:$E$150,Estoque!$C110)),\"ERRO\")","v":""},{"$f":"IFERROR(IF(G110=\"\",\"\",SUMIFS(Inventário!$N$10:$N$150,Inventário!$D$10:$D$150,Estoque!H$10,Inventário!$E$10:$E$150,Estoque!$C110)),\"ERRO\")","v":""},{"$f":"IFERROR(IF(H110=\"\",\"\",SUMIFS(Inventário!$N$10:$N$150,Inventário!$D$10:$D$150,Estoque!I$10,Inventário!$E$10:$E$150,Estoque!$C110)),\"ERRO\")","v":""},{"$f":"IFERROR(IF(I110=\"\",\"\",SUMIFS(Inventário!$N$10:$N$150,Inventário!$D$10:$D$150,Estoque!J$10,Inventário!$E$10:$E$150,Estoque!$C110)),\"ERRO\")","v":""},{"$f":"IFERROR(IF(J110=\"\",\"\",SUMIFS(Inventário!$N$10:$N$150,Inventário!$D$10:$D$150,Estoque!K$10,Inventário!$E$10:$E$150,Estoque!$C110)),\"ERRO\")","v":""},{"$f":"IFERROR(IF(K110=\"\",\"\",SUMIFS(Inventário!$N$10:$N$150,Inventário!$D$10:$D$150,Estoque!L$10,Inventário!$E$10:$E$150,Estoque!$C110)),\"ERRO\")","v":""},{"$f":"IFERROR(IF(L110=\"\",\"\",SUMIFS(Inventário!$N$10:$N$150,Inventário!$D$10:$D$150,Estoque!M$10,Inventário!$E$10:$E$150,Estoque!$C110)),\"ERRO\")","v":""},{"$f":"IFERROR(IF(M110=\"\",\"\",SUMIFS(Inventário!$N$10:$N$150,Inventário!$D$10:$D$150,Estoque!N$10,Inventário!$E$10:$E$150,Estoque!$C110)),\"ERRO\")","v":""},{"$f":"IFERROR(IF(N110=\"\",\"\",SUMIFS(Inventário!$N$10:$N$150,Inventário!$D$10:$D$150,Estoque!O$10,Inventário!$E$10:$E$150,Estoque!$C110)),\"ERRO\")","v":""},null,null,null,{"$f":"Inventário!$E107","v":0}]
[null,99,{"$f":"IF('Cadastro de Produtos'!C103=\"\",\"\",VLOOKUP(B111,'Cadastro de Produtos'!$B$5:$C$204,2,0))","v":""},{"$f":"IFERROR(IF(C111=\"\",\"\",SUMIFS(Inventário!$N$10:$N$150,Inventário!$D$10:$D$150,Estoque!D$10,Inventário!$E$10:$E$150,Estoque!$C111)),\"ERRO\")","v":""},{"$f":"IFERROR(IF(D111=\"\",\"\",SUMIFS(Inventário!$N$10:$N$150,Inventário!$D$10:$D$150,Estoque!E$10,Inventário!$E$10:$E$150,Estoque!$C111)),\"ERRO\")","v":""},{"$f":"IFERROR(IF(E111=\"\",\"\",SUMIFS(Inventário!$N$10:$N$150,Inventário!$D$10:$D$150,Estoque!F$10,Inventário!$E$10:$E$150,Estoque!$C111)),\"ERRO\")","v":""},{"$f":"IFERROR(IF(F111=\"\",\"\",SUMIFS(Inventário!$N$10:$N$150,Inventário!$D$10:$D$150,Estoque!G$10,Inventário!$E$10:$E$150,Estoque!$C111)),\"ERRO\")","v":""},{"$f":"IFERROR(IF(G111=\"\",\"\",SUMIFS(Inventário!$N$10:$N$150,Inventário!$D$10:$D$150,Estoque!H$10,Inventário!$E$10:$E$150,Estoque!$C111)),\"ERRO\")","v":""},{"$f":"IFERROR(IF(H111=\"\",\"\",SUMIFS(Inventário!$N$10:$N$150,Inventário!$D$10:$D$150,Estoque!I$10,Inventário!$E$10:$E$150,Estoque!$C111)),\"ERRO\")","v":""},{"$f":"IFERROR(IF(I111=\"\",\"\",SUMIFS(Inventário!$N$10:$N$150,Inventário!$D$10:$D$150,Estoque!J$10,Inventário!$E$10:$E$150,Estoque!$C111)),\"ERRO\")","v":""},{"$f":"IFERROR(IF(J111=\"\",\"\",SUMIFS(Inventário!$N$10:$N$150,Inventário!$D$10:$D$150,Estoque!K$10,Inventário!$E$10:$E$150,Estoque!$C111)),\"ERRO\")","v":""},{"$f":"IFERROR(IF(K111=\"\",\"\",SUMIFS(Inventário!$N$10:$N$150,Inventário!$D$10:$D$150,Estoque!L$10,Inventário!$E$10:$E$150,Estoque!$C111)),\"ERRO\")","v":""},{"$f":"IFERROR(IF(L111=\"\",\"\",SUMIFS(Inventário!$N$10:$N$150,Inventário!$D$10:$D$150,Estoque!M$10,Inventário!$E$10:$E$150,Estoque!$C111)),\"ERRO\")","v":""},{"$f":"IFERROR(IF(M111=\"\",\"\",SUMIFS(Inventário!$N$10:$N$150,Inventário!$D$10:$D$150,Estoque!N$10,Inventário!$E$10:$E$150,Estoque!$C111)),\"ERRO\")","v":""},{"$f":"IFERROR(IF(N111=\"\",\"\",SUMIFS(Inventário!$N$10:$N$150,Inventário!$D$10:$D$150,Estoque!O$10,Inventário!$E$10:$E$150,Estoque!$C111)),\"ERRO\")","v":""},null,null,null,{"$f":"Inventário!$E108","v":0}]
[null,100,{"$f":"IF('Cadastro de Produtos'!C104=\"\",\"\",VLOOKUP(B112,'Cadastro de Produtos'!$B$5:$C$204,2,0))","v":""},{"$f":"IFERROR(IF(C112=\"\",\"\",SUMIFS(Inventário!$N$10:$N$150,Inventário!$D$10:$D$150,Estoque!D$10,Inventário!$E$10:$E$150,Estoque!$C112)),\"ERRO\")","v":""},{"$f":"IFERROR(IF(D112=\"\",\"\",SUMIFS(Inventário!$N$10:$N$150,Inventário!$D$10:$D$150,Estoque!E$10,Inventário!$E$10:$E$150,Estoque!$C112)),\"ERRO\")","v":""},{"$f":"IFERROR(IF(E112=\"\",\"\",SUMIFS(Inventário!$N$10:$N$150,Inventário!$D$10:$D$150,Estoque!F$10,Inventário!$E$10:$E$150,Estoque!$C112)),\"ERRO\")","v":""},{"$f":"IFERROR(IF(F112=\"\",\"\",SUMIFS(Inventário!$N$10:$N$150,Inventário!$D$10:$D$150,Estoque!G$10,Inventário!$E$10:$E$150,Estoque!$C112)),\"ERRO\")","v":""},{"$f":"IFERROR(IF(G112=\"\",\"\",SUMIFS(Inventário!$N$10:$N$150,Inventário!$D$10:$D$150,Estoque!H$10,Inventário!$E$10:$E$150,Estoque!$C112)),\"ERRO\")","v":""},{"$f":"IFERROR(IF(H112=\"\",\"\",SUMIFS(Inventário!$N$10:$N$150,Inventário!$D$10:$D$150,Estoque!I$10,Inventário!$E$10:$E$150,Estoque!$C112)),\"ERRO\")","v":""},{"$f":"IFERROR(IF(I112=\"\",\"\",SUMIFS(Inventário!$N$10:$N$150,Inventário!$D$10:$D$150,Estoque!J$10,Inventário!$E$10:$E$150,Estoque!$C112)),\"ERRO\")","v":""},{"$f":"IFERROR(IF(J112=\"\",\"\",SUMIFS(Inventário!$N$10:$N$150,Inventário!$D$10:$D$150,Estoque!K$10,Inventário!$E$10:$E$150,Estoque!$C112)),\"ERRO\")","v":""},{"$f":"IFERROR(IF(K112=\"\",\"\",SUMIFS(Inventário!$N$10:$N$150,Inventário!$D$10:$D$150,Estoque!L$10,Inventário!$E$10:$E$150,Estoque!$C112)),\"ERRO\")","v":""},{"$f":"IFERROR(IF(L112=\"\",\"\",SUMIFS(Inventário!$N$10:$N$150,Inventário!$D$10:$D$150,Estoque!M$10,Inventário!$E$10:$E$150,Estoque!$C112)),\"ERRO\")","v":""},{"$f":"IFERROR(IF(M112=\"\",\"\",SUMIFS(Inventário!$N$10:$N$150,Inventário!$D$10:$D$150,Estoque!N$10,Inventário!$E$10:$E$150,Estoque!$C112)),\"ERRO\")","v":""},{"$f":"IFERROR(IF(N112=\"\",\"\",SUMIFS(Inventário!$N$10:$N$150,Inventário!$D$10:$D$150,Estoque!O$10,Inventário!$E$10:$E$150,Estoque!$C112)),\"ERRO\")","v":""},null,null,null,{"$f":"Inventário!$E109","v":0}]
[null,101,{"$f":"IF('Cadastro de Produtos'!C105=\"\",\"\",VLOOKUP(B113,'Cadastro de Produtos'!$B$5:$C$204,2,0))","v":""},{"$f":"IFERROR(IF(C113=\"\",\"\",SUMIFS(Inventário!$N$10:$N$150,Inventário!$D$10:$D$150,Estoque!D$10,Inventário!$E$10:$E$150,Estoque!$C113)),\"ERRO\")","v":""},{"$f":"IFERROR(IF(D113=\"\",\"\",SUMIFS(Inventário!$N$10:$N$150,Inventário!$D$10:$D$150,Estoque!E$10,Inventário!$E$10:$E$150,Estoque!$C113)),\"ERRO\")","v":""},{"$f":"IFERROR(IF(E113=\"\",\"\",SUMIFS(Inventário!$N$10:$N$150,Inventário!$D$10:$D$150,Estoque!F$10,Inventário!$E$10:$E$150,Estoque!$C113)),\"ERRO\")","v":""},{"$f":"IFERROR(IF(F113=\"\",\"\",SUMIFS(Inventário!$N$10:$N$150,Inventário!$D$10:$D$150,Estoque!G$10,Inventário!$E$10:$E$150,Estoque!$C113)),\"ERRO\")","v":""},{"$f":"IFERROR(IF(G113=\"\",\"\",SUMIFS(Inventário!$N$10:$N$150,Inventário!$D$10:$D$150,Estoque!H$10,Inventário!$E$10:$E$150,Estoque!$C113)),\"ERRO\")","v":""},{"$f":"IFERROR(IF(H113=\"\",\"\",SUMIFS(Inventário!$N$10:$N$150,Inventário!$D$10:$D$150,Estoque!I$10,Inventário!$E$10:$E$150,Estoque!$C113)),\"ERRO\")","v":""},{"$f":"IFERROR(IF(I113=\"\",\"\",SUMIFS(Inventário!$N$10:$N$150,Inventário!$D$10:$D$150,Estoque!J$10,Inventário!$E$10:$E$150,Estoque!$C113)),\"ERRO\")","v":""},{"$f":"IFERROR(IF(J113=\"\",\"\",SUMIFS(Inventário!$N$10:$N$150,Inventário!$D$10:$D$150,Estoque!K$10,Inventário!$E$10:$E$150,Estoque!$C113)),\"ERRO\")","v":""},{"$f":"IFERROR(IF(K113=\"\",\"\",SUMIFS(Inventário!$N$10:$N$150,Inventário!$D$10:$D$150,Estoque!L$10,Inventário!$E$10:$E$150,Estoque!$C113)),\"ERRO\")","v":""},{"$f":"IFERROR(IF(L113=\"\",\"\",SUMIFS(Inventário!$N$10:$N$150,Inventário!$D$10:$D$150,Estoque!M$10,Inventário!$E$10:$E$150,Estoque!$C113)),\"ERRO\")","v":""},{"$f":"IFERROR(IF(M113=\"\",\"\",SUMIFS(Inventário!$N$10:$N$150,Inventário!$D$10:$D$150,Estoque!N$10,Inventário!$E$10:$E$150,Estoque!$C113)),\"ERRO\")","v":""},{"$f":"IFERROR(IF(N113=\"\",\"\",SUMIFS(Inventário!$N$10:$N$150,Inventário!$D$10:$D$150,Estoque!O$10,Inventário!$E$10:$E$150,Estoque!$C113)),\"ERRO\")","v":""},null,null,null,{"$f":"Inventário!$E110","v":0}]
[null,102,{"$f":"IF('Cadastro de Produtos'!C106=\"\",\"\",VLOOKUP(B114,'Cadastro de Produtos'!$B$5:$C$204,2,0))","v":""},{"$f":"IFERROR(IF(C114=\"\",\"\",SUMIFS(Inventário!$N$10:$N$150,Inventário!$D$10:$D$150,Estoque!D$10,Inventário!$E$10:$E$150,Estoque!$C114)),\"ERRO\")","v":""},{"$f":"IFERROR(IF(D114=\"\",\"\",SUMIFS(Inventário!$N$10:$N$150,Inventário!$D$10:$D$150,Estoque!E$10,Inventário!$E$10:$E$150,Estoque!$C114)),\"ERRO\")","v":""},{"$f":"IFERROR(IF(E114=\"\",\"\",SUMIFS(Inventário!$N$10:$N$150,Inventário!$D$10:$D$150,Estoque!F$10,Inventário!$E$10:$E$150,Estoque!$C114)),\"ERRO\")","v":""},{"$f":"IFERROR(IF(F114=\"\",\"\",SUMIFS(Inventário!$N$10:$N$150,Inventário!$D$10:$D$150,Estoque!G$10,Inventário!$E$10:$E$150,Estoque!$C114)),\"ERRO\")","v":""},{"$f":"IFERROR(IF(G114=\"\",\"\",SUMIFS(Inventário!$N$10:$N$150,Inventário!$D$10:$D$150,Estoque!H$10,Inventário!$E$10:$E$150,Estoque!$C114)),\"ERRO\")","v":""},{"$f":"IFERROR(IF(H114=\"\",\"\",SUMIFS(Inventário!$N$10:$N$150,Inventário!$D$10:$D$150,Estoque!I$10,Inventário!$E$10:$E$150,Estoque!$C114)),\"ERRO\")","v":""},{"$f":"IFERROR(IF(I114=\"\",\"\",SUMIFS(Inventário!$N$10:$N$150,Inventário!$D$10:$D$150,Estoque!J$10,Inventário!$E$10:$E$150,Estoque!$C114)),\"ERRO\")","v":""},{"$f":"IFERROR(IF(J114=\"\",\"\",SUMIFS(Inventário!$N$10:$N$150,Inventário!$D$10:$D$150,Estoque!K$10,Inventário!$E$10:$E$150,Estoque!$C114)),\"ERRO\")","v":""},{"$f":"IFERROR(IF(K114=\"\",\"\",SUMIFS(Inventário!$N$10:$N$150,Inventário!$D$10:$D$150,Estoque!L$10,Inventário!$E$10:$E$150,Estoque!$C114)),\"ERRO\")","v":""},{"$f":"IFERROR(IF(L114=\"\",\"\",SUMIFS(Inventário!$N$10:$N$150,Inventário!$D$10:$D$150,Estoque!M$10,Inventário!$E$10:$E$150,Estoque!$C114)),\"ERRO\")","v":""},{"$f":"IFERROR(IF(M114=\"\",\"\",SUMIFS(Inventário!$N$10:$N$150,Inventário!$D$10:$D$150,Estoque!N$10,Inventário!$E$10:$E$150,Estoque!$C114)),\"ERRO\")","v":""},{"$f":"IFERROR(IF(N114=\"\",\"\",SUMIFS(Inventário!$N$10:$N$150,Inventário!$D$10:$D$150,Estoque!O$10,Inventário!$E$10:$E$150,Estoque!$C114)),\"ERRO\")","v":""},null,null,null,{"$f":"Inventário!$E111","v":0}]
[null,103,{"$f":"IF('Cadastro de Produtos'!C107=\"\",\"\",VLOOKUP(B115,'Cadastro de Produtos'!$B$5:$C$204,2,0))","v":""},{"$f":"IFERROR(IF(C115=\"\",\"\",SUMIFS(Inventário!$N$10:$N$150,Inventário!$D$10:$D$150,Estoque!D$10,Inventário!$E$10:$E$150,Estoque!$C115)),\"ERRO\")","v":""},{"$f":"IFERROR(IF(D115=\"\",\"\",SUMIFS(Inventário!$N$10:$N$150,Inventário!$D$10:$D$150,Estoque!E$10,Inventário!$E$10:$E$150,Estoque!$C115)),\"ERRO\")","v":""},{"$f":"IFERROR(IF(E115=\"\",\"\",SUMIFS(Inventário!$N$10:$N$150,Inventário!$D$10:$D$150,Estoque!F$10,Inventário!$E$10:$E$150,Estoque!$C115)),\"ERRO\")","v":""},{"$f":"IFERROR(IF(F115=\"\",\"\",SUMIFS(Inventário!$N$10:$N$150,Inventário!$D$10:$D$150,Estoque!G$10,Inventário!$E$10:$E$150,Estoque!$C115)),\"ERRO\")","v":""},{"$f":"IFERROR(IF(G115=\"\",\"\",SUMIFS(Inventário!$N$10:$N$150,Inventário!$D$10:$D$150,Estoque!H$10,Inventário!$E$10:$E$150,Estoque!$C115)),\"ERRO\")","v":""},{"$f":"IFERROR(IF(H115=\"\",\"\",SUMIFS(Inventário!$N$10:$N$150,Inventário!$D$10:$D$150,Estoque!I$10,Inventário!$E$10:$E$150,Estoque!$C115)),\"ERRO\")","v":""},{"$f":"IFERROR(IF(I115=\"\",\"\",SUMIFS(Inventário!$N$10:$N$150,Inventário!$D$10:$D$150,Estoque!J$10,Inventário!$E$10:$E$150,Estoque!$C115)),\"ERRO\")","v":""},{"$f":"IFERROR(IF(J115=\"\",\"\",SUMIFS(Inventário!$N$10:$N$150,Inventário!$D$10:$D$150,Estoque!K$10,Inventário!$E$10:$E$150,Estoque!$C115)),\"ERRO\")","v":""},{"$f":"IFERROR(IF(K115=\"\",\"\",SUMIFS(Inventário!$N$10:$N$150,Inventário!$D$10:$D$150,Estoque!L$10,Inventário!$E$10:$E$150,Estoque!$C115)),\"ERRO\")","v":""},{"$f":"IFERROR(IF(L115=\"\",\"\",SUMIFS(Inventário!$N$10:$N$150,Inventário!$D$10:$D$150,Estoque!M$10,Inventário!$E$10:$E$150,Estoque!$C115)),\"ERRO\")","v":""},{"$f":"IFERROR(IF(M115=\"\",\"\",SUMIFS(Inventário!$N$10:$N$150,Inventário!$D$10:$D$150,Estoque!N$10,Inventário!$E$10:$E$150,Estoque!$C115)),\"ERRO\")","v":""},{"$f":"IFERROR(IF(N115=\"\",\"\",SUMIFS(Inventário!$N$10:$N$150,Inventário!$D$10:$D$150,Estoque!O$10,Inventário!$E$10:$E$150,Estoque!$C115)),\"ERRO\")","v":""},null,null,null,{"$f":"Inventário!$E112","v":0}]
[null,104,{"$f":"IF('Cadastro de Produtos'!C108=\"\",\"\",VLOOKUP(B116,'Cadastro de Produtos'!$B$5:$C$204,2,0))","v":""},{"$f":"IFERROR(IF(C116=\"\",\"\",SUMIFS(Inventário!$N$10:$N$150,Inventário!$D$10:$D$150,Estoque!D$10,Inventário!$E$10:$E$150,Estoque!$C116)),\"ERRO\")","v":""},{"$f":"IFERROR(IF(D116=\"\",\"\",SUMIFS(Inventário!$N$10:$N$150,Inventário!$D$10:$D$150,Estoque!E$10,Inventário!$E$10:$E$150,Estoque!$C116)),\"ERRO\")","v":""},{"$f":"IFERROR(IF(E116=\"\",\"\",SUMIFS(Inventário!$N$10:$N$150,Inventário!$D$10:$D$150,Estoque!F$10,Inventário!$E$10:$E$150,Estoque!$C116)),\"ERRO\")","v":""},{"$f":"IFERROR(IF(F116=\"\",\"\",SUMIFS(Inventário!$N$10:$N$150,Inventário!$D$10:$D$150,Estoque!G$10,Inventário!$E$10:$E$150,Estoque!$C116)),\"ERRO\")","v":""},{"$f":"IFERROR(IF(G116=\"\",\"\",SUMIFS(Inventário!$N$10:$N$150,Inventário!$D$10:$D$150,Estoque!H$10,Inventário!$E$10:$E$150,Estoque!$C116)),\"ERRO\")","v":""},{"$f":"IFERROR(IF(H116=\"\",\"\",SUMIFS(Inventário!$N$10:$N$150,Inventário!$D$10:$D$150,Estoque!I$10,Inventário!$E$10:$E$150,Estoque!$C116)),\"ERRO\")","v":""},{"$f":"IFERROR(IF(I116=\"\",\"\",SUMIFS(Inventário!$N$10:$N$150,Inventário!$D$10:$D$150,Estoque!J$10,Inventário!$E$10:$E$150,Estoque!$C116)),\"ERRO\")","v":""},{"$f":"IFERROR(IF(J116=\"\",\"\",SUMIFS(Inventário!$N$10:$N$150,Inventário!$D$10:$D$150,Estoque!K$10,Inventário!$E$10:$E$150,Estoque!$C116)),\"ERRO\")","v":""},{"$f":"IFERROR(IF(K116=\"\",\"\",SUMIFS(Inventário!$N$10:$N$150,Inventário!$D$10:$D$150,Estoque!L$10,Inventário!$E$10:$E$150,Estoque!$C116)),\"ERRO\")","v":""},{"$f":"IFERROR(IF(L116=\"\",\"\",SUMIFS(Inventário!$N$10:$N$150,Inventário!$D$10:$D$150,Estoque!M$10,Inventário!$E$10:$E$150,Estoque!$C116)),\"ERRO\")","v":""},{"$f":"IFERROR(IF(M116=\"\",\"\",SUMIFS(Inventário!$N$10:$N$150,Inventário!$D$10:$D$150,Estoque!N$10,Inventário!$E$10:$E$150,Estoque!$C116)),\"ERRO\")","v":""},{"$f":"IFERROR(IF(N116=\"\",\"\",SUMIFS(Inventário!$N$10:$N$150,Inventário!$D$10:$D$150,Estoque!O$10,Inventário!$E$10:$E$150,Estoque!$C116)),\"ERRO\")","v":""},null,null,null,{"$f":"Inventário!$E113","v":0}]
[null,105,{"$f":"IF('Cadastro de Produtos'!C109=\"\",\"\",VLOOKUP(B117,'Cadastro de Produtos'!$B$5:$C$204,2,0))","v":""},{"$f":"IFERROR(IF(C117=\"\",\"\",SUMIFS(Inventário!$N$10:$N$150,Inventário!$D$10:$D$150,Estoque!D$10,Inventário!$E$10:$E$150,Estoque!$C117)),\"ERRO\")","v":""},{"$f":"IFERROR(IF(D117=\"\",\"\",SUMIFS(Inventário!$N$10:$N$150,Inventário!$D$10:$D$150,Estoque!E$10,Inventário!$E$10:$E$150,Estoque!$C117)),\"ERRO\")","v":""},{"$f":"IFERROR(IF(E117=\"\",\"\",SUMIFS(Inventário!$N$10:$N$150,Inventário!$D$10:$D$150,Estoque!F$10,Inventário!$E$10:$E$150,Estoque!$C117)),\"ERRO\")","v":""},{"$f":"IFERROR(IF(F117=\"\",\"\",SUMIFS(Inventário!$N$10:$N$150,Inventário!$D$10:$D$150,Estoque!G$10,Inventário!$E$10:$E$150,Estoque!$C117)),\"ERRO\")","v":""},{"$f":"IFERROR(IF(G117=\"\",\"\",SUMIFS(Inventário!$N$10:$N$150,Inventário!$D$10:$D$150,Estoque!H$10,Inventário!$E$10:$E$150,Estoque!$C117)),\"ERRO\")","v":""},{"$f":"IFERROR(IF(H117=\"\",\"\",SUMIFS(Inventário!$N$10:$N$150,Inventário!$D$10:$D$150,Estoque!I$10,Inventário!$E$10:$E$150,Estoque!$C117)),\"ERRO\")","v":""},{"$f":"IFERROR(IF(I117=\"\",\"\",SUMIFS(Inventário!$N$10:$N$150,Inventário!$D$10:$D$150,Estoque!J$10,Inventário!$E$10:$E$150,Estoque!$C117)),\"ERRO\")","v":""},{"$f":"IFERROR(IF(J117=\"\",\"\",SUMIFS(Inventário!$N$10:$N$150,Inventário!$D$10:$D$150,Estoque!K$10,Inventário!$E$10:$E$150,Estoque!$C117)),\"ERRO\")","v":""},{"$f":"IFERROR(IF(K117=\"\",\"\",SUMIFS(Inventário!$N$10:$N$150,Inventário!$D$10:$D$150,Estoque!L$10,Inventário!$E$10:$E$150,Estoque!$C117)),\"ERRO\")","v":""},{"$f":"IFERROR(IF(L117=\"\",\"\",SUMIFS(Inventário!$N$10:$N$150,Inventário!$D$10:$D$150,Estoque!M$10,Inventário!$E$10:$E$150,Estoque!$C117)),\"ERRO\")","v":""},{"$f":"IFERROR(IF(M117=\"\",\"\",SUMIFS(Inventário!$N$10:$N$150,Inventário!$D$10:$D$150,Estoque!N$10,Inventário!$E$10:$E$150,Estoque!$C117)),\"ERRO\")","v":""},{"$f":"IFERROR(IF(N117=\"\",\"\",SUMIFS(Inventário!$N$10:$N$150,Inventário!$D$10:$D$150,Estoque!O$10,Inventário!$E$10:$E$150,Estoque!$C117)),\"ERRO\")","v":""},null,null,null,{"$f":"Inventário!$E114","v":0}]
[null,106,{"$f":"IF('Cadastro de Produtos'!C110=\"\",\"\",VLOOKUP(B118,'Cadastro de Produtos'!$B$5:$C$204,2,0))","v":""},{"$f":"IFERROR(IF(C118=\"\",\"\",SUMIFS(Inventário!$N$10:$N$150,Inventário!$D$10:$D$150,Estoque!D$10,Inventário!$E$10:$E$150,Estoque!$C118)),\"ERRO\")","v":""},{"$f":"IFERROR(IF(D118=\"\",\"\",SUMIFS(Inventário!$N$10:$N$150,Inventário!$D$10:$D$150,Estoque!E$10,Inventário!$E$10:$E$150,Estoque!$C118)),\"ERRO\")","v":""},{"$f":"IFERROR(IF(E118=\"\",\"\",SUMIFS(Inventário!$N$10:$N$150,Inventário!$D$10:$D$150,Estoque!F$10,Inventário!$E$10:$E$150,Estoque!$C118)),\"ERRO\")","v":""},{"$f":"IFERROR(IF(F118=\"\",\"\",SUMIFS(Inventário!$N$10:$N$150,Inventário!$D$10:$D$150,Estoque!G$10,Inventário!$E$10:$E$150,Estoque!$C118)),\"ERRO\")","v":""},{"$f":"IFERROR(IF(G118=\"\",\"\",SUMIFS(Inventário!$N$10:$N$150,Inventário!$D$10:$D$150,Estoque!H$10,Inventário!$E$10:$E$150,Estoque!$C118)),\"ERRO\")","v":""},{"$f":"IFERROR(IF(H118=\"\",\"\",SUMIFS(Inventário!$N$10:$N$150,Inventário!$D$10:$D$150,Estoque!I$10,Inventário!$E$10:$E$150,Estoque!$C118)),\"ERRO\")","v":""},{"$f":"IFERROR(IF(I118=\"\",\"\",SUMIFS(Inventário!$N$10:$N$150,Inventário!$D$10:$D$150,Estoque!J$10,Inventário!$E$10:$E$150,Estoque!$C118)),\"ERRO\")","v":""},{"$f":"IFERROR(IF(J118=\"\",\"\",SUMIFS(Inventário!$N$10:$N$150,Inventário!$D$10:$D$150,Estoque!K$10,Inventário!$E$10:$E$150,Estoque!$C118)),\"ERRO\")","v":""},{"$f":"IFERROR(IF(K118=\"\",\"\",SUMIFS(Inventário!$N$10:$N$150,Inventário!$D$10:$D$150,Estoque!L$10,Inventário!$E$10:$E$150,Estoque!$C118)),\"ERRO\")","v":""},{"$f":"IFERROR(IF(L118=\"\",\"\",SUMIFS(Inventário!$N$10:$N$150,Inventário!$D$10:$D$150,Estoque!M$10,Inventário!$E$10:$E$150,Estoque!$C118)),\"ERRO\")","v":""},{"$f":"IFERROR(IF(M118=\"\",\"\",SUMIFS(Inventário!$N$10:$N$150,Inventário!$D$10:$D$150,Estoque!N$10,Inventário!$E$10:$E$150,Estoque!$C118)),\"ERRO\")","v":""},{"$f":"IFERROR(IF(N118=\"\",\"\",SUMIFS(Inventário!$N$10:$N$150,Inventário!$D$10:$D$150,Estoque!O$10,Inventário!$E$10:$E$150,Estoque!$C118)),\"ERRO\")","v":""},null,null,null,{"$f":"Inventário!$E115","v":0}]
[null,107,{"$f":"IF('Cadastro de Produtos'!C111=\"\",\"\",VLOOKUP(B119,'Cadastro de Produtos'!$B$5:$C$204,2,0))","v":""},{"$f":"IFERROR(IF(C119=\"\",\"\",SUMIFS(Inventário!$N$10:$N$150,Inventário!$D$10:$D$150,Estoque!D$10,Inventário!$E$10:$E$150,Estoque!$C119)),\"ERRO\")","v":""},{"$f":"IFERROR(IF(D119=\"\",\"\",SUMIFS(Inventário!$N$10:$N$150,Inventário!$D$10:$D$150,Estoque!E$10,Inventário!$E$10:$E$150,Estoque!$C119)),\"ERRO\")","v":""},{"$f":"IFERROR(IF(E119=\"\",\"\",SUMIFS(Inventário!$N$10:$N$150,Inventário!$D$10:$D$150,Estoque!F$10,Inventário!$E$10:$E$150,Estoque!$C119)),\"ERRO\")","v":""},{"$f":"IFERROR(IF(F119=\"\",\"\",SUMIFS(Inventário!$N$10:$N$150,Inventário!$D$10:$D$150,Estoque!G$10,Inventário!$E$10:$E$150,Estoque!$C119)),\"ERRO\")","v":""},{"$f":"IFERROR(IF(G119=\"\",\"\",SUMIFS(Inventário!$N$10:$N$150,Inventário!$D$10:$D$150,Estoque!H$10,Inventário!$E$10:$E$150,Estoque!$C119)),\"ERRO\")","v":""},{"$f":"IFERROR(IF(H119=\"\",\"\",SUMIFS(Inventário!$N$10:$N$150,Inventário!$D$10:$D$150,Estoque!I$10,Inventário!$E$10:$E$150,Estoque!$C119)),\"ERRO\")","v":""},{"$f":"IFERROR(IF(I119=\"\",\"\",SUMIFS(Inventário!$N$10:$N$150,Inventário!$D$10:$D$150,Estoque!J$10,Inventário!$E$10:$E$150,Estoque!$C119)),\"ERRO\")","v":""},{"$f":"IFERROR(IF(J119=\"\",\"\",SUMIFS(Inventário!$N$10:$N$150,Inventário!$D$10:$D$150,Estoque!K$10,Inventário!$E$10:$E$150,Estoque!$C119)),\"ERRO\")","v":""},{"$f":"IFERROR(IF(K119=\"\",\"\",SUMIFS(Inventário!$N$10:$N$150,Inventário!$D$10:$D$150,Estoque!L$10,Inventário!$E$10:$E$150,Estoque!$C119)),\"ERRO\")","v":""},{"$f":"IFERROR(IF(L119=\"\",\"\",SUMIFS(Inventário!$N$10:$N$150,Inventário!$D$10:$D$150,Estoque!M$10,Inventário!$E$10:$E$150,Estoque!$C119)),\"ERRO\")","v":""},{"$f":"IFERROR(IF(M119=\"\",\"\",SUMIFS(Inventário!$N$10:$N$150,Inventário!$D$10:$D$150,Estoque!N$10,Inventário!$E$10:$E$150,Estoque!$C119)),\"ERRO\")","v":""},{"$f":"IFERROR(IF(N119=\"\",\"\",SUMIFS(Inventário!$N$10:$N$150,Inventário!$D$10:$D$150,Estoque!O$10,Inventário!$E$10:$E$150,Estoque!$C119)),\"ERRO\")","v":""},null,null,null,{"$f":"Inventário!$E116","v":0}]
[null,108,{"$f":"IF('Cadastro de Produtos'!C112=\"\",\"\",VLOOKUP(B120,'Cadastro de Produtos'!$B$5:$C$204,2,0))","v":""},{"$f":"IFERROR(IF(C120=\"\",\"\",SUMIFS(Inventário!$N$10:$N$150,Inventário!$D$10:$D$150,Estoque!D$10,Inventário!$E$10:$E$150,Estoque!$C120)),\"ERRO\")","v":""},{"$f":"IFERROR(IF(D120=\"\",\"\",SUMIFS(Inventário!$N$10:$N$150,Inventário!$D$10:$D$150,Estoque!E$10,Inventário!$E$10:$E$150,Estoque!$C120)),\"ERRO\")","v":""},{"$f":"IFERROR(IF(E120=\"\",\"\",SUMIFS(Inventário!$N$10:$N$150,Inventário!$D$10:$D$150,Estoque!F$10,Inventário!$E$10:$E$150,Estoque!$C120)),\"ERRO\")","v":""},{"$f":"IFERROR(IF(F120=\"\",\"\",SUMIFS(Inventário!$N$10:$N$150,Inventário!$D$10:$D$150,Estoque!G$10,Inventário!$E$10:$E$150,Estoque!$C120)),\"ERRO\")","v":""},{"$f":"IFERROR(IF(G120=\"\",\"\",SUMIFS(Inventário!$N$10:$N$150,Inventário!$D$10:$D$150,Estoque!H$10,Inventário!$E$10:$E$150,Estoque!$C120)),\"ERRO\")","v":""},{"$f":"IFERROR(IF(H120=\"\",\"\",SUMIFS(Inventário!$N$10:$N$150,Inventário!$D$10:$D$150,Estoque!I$10,Inventário!$E$10:$E$150,Estoque!$C120)),\"ERRO\")","v":""},{"$f":"IFERROR(IF(I120=\"\",\"\",SUMIFS(Inventário!$N$10:$N$150,Inventário!$D$10:$D$150,Estoque!J$10,Inventário!$E$10:$E$150,Estoque!$C120)),\"ERRO\")","v":""},{"$f":"IFERROR(IF(J120=\"\",\"\",SUMIFS(Inventário!$N$10:$N$150,Inventário!$D$10:$D$150,Estoque!K$10,Inventário!$E$10:$E$150,Estoque!$C120)),\"ERRO\")","v":""},{"$f":"IFERROR(IF(K120=\"\",\"\",SUMIFS(Inventário!$N$10:$N$150,Inventário!$D$10:$D$150,Estoque!L$10,Inventário!$E$10:$E$150,Estoque!$C120)),\"ERRO\")","v":""},{"$f":"IFERROR(IF(L120=\"\",\"\",SUMIFS(Inventário!$N$10:$N$150,Inventário!$D$10:$D$150,Estoque!M$10,Inventário!$E$10:$E$150,Estoque!$C120)),\"ERRO\")","v":""},{"$f":"IFERROR(IF(M120=\"\",\"\",SUMIFS(Inventário!$N$10:$N$150,Inventário!$D$10:$D$150,Estoque!N$10,Inventário!$E$10:$E$150,Estoque!$C120)),\"ERRO\")","v":""},{"$f":"IFERROR(IF(N120=\"\",\"\",SUMIFS(Inventário!$N$10:$N$150,Inventário!$D$10:$D$150,Estoque!O$10,Inventário!$E$10:$E$150,Estoque!$C120)),\"ERRO\")","v":""},null,null,null,{"$f":"Inventário!$E117","v":0}]
[null,109,{"$f":"IF('Cadastro de Produtos'!C113=\"\",\"\",VLOOKUP(B121,'Cadastro de Produtos'!$B$5:$C$204,2,0))","v":""},{"$f":"IFERROR(IF(C121=\"\",\"\",SUMIFS(Inventário!$N$10:$N$150,Inventário!$D$10:$D$150,Estoque!D$10,Inventário!$E$10:$E$150,Estoque!$C121)),\"ERRO\")","v":""},{"$f":"IFERROR(IF(D121=\"\",\"\",SUMIFS(Inventário!$N$10:$N$150,Inventário!$D$10:$D$150,Estoque!E$10,Inventário!$E$10:$E$150,Estoque!$C121)),\"ERRO\")","v":""},{"$f":"IFERROR(IF(E121=\"\",\"\",SUMIFS(Inventário!$N$10:$N$150,Inventário!$D$10:$D$150,Estoque!F$10,Inventário!$E$10:$E$150,Estoque!$C121)),\"ERRO\")","v":""},{"$f":"IFERROR(IF(F121=\"\",\"\",SUMIFS(Inventário!$N$10:$N$150,Inventário!$D$10:$D$150,Estoque!G$10,Inventário!$E$10:$E$150,Estoque!$C121)),\"ERRO\")","v":""},{"$f":"IFERROR(IF(G121=\"\",\"\",SUMIFS(Inventário!$N$10:$N$150,Inventário!$D$10:$D$150,Estoque!H$10,Inventário!$E$10:$E$150,Estoque!$C121)),\"ERRO\")","v":""},{"$f":"IFERROR(IF(H121=\"\",\"\",SUMIFS(Inventário!$N$10:$N$150,Inventário!$D$10:$D$150,Estoque!I$10,Inventário!$E$10:$E$150,Estoque!$C121)),\"ERRO\")","v":""},{"$f":"IFERROR(IF(I121=\"\",\"\",SUMIFS(Inventário!$N$10:$N$150,Inventário!$D$10:$D$150,Estoque!J$10,Inventário!$E$10:$E$150,Estoque!$C121)),\"ERRO\")","v":""},{"$f":"IFERROR(IF(J121=\"\",\"\",SUMIFS(Inventário!$N$10:$N$150,Inventário!$D$10:$D$150,Estoque!K$10,Inventário!$E$10:$E$150,Estoque!$C121)),\"ERRO\")","v":""},{"$f":"IFERROR(IF(K121=\"\",\"\",SUMIFS(Inventário!$N$10:$N$150,Inventário!$D$10:$D$150,Estoque!L$10,Inventário!$E$10:$E$150,Estoque!$C121)),\"ERRO\")","v":""},{"$f":"IFERROR(IF(L121=\"\",\"\",SUMIFS(Inventário!$N$10:$N$150,Inventário!$D$10:$D$150,Estoque!M$10,Inventário!$E$10:$E$150,Estoque!$C121)),\"ERRO\")","v":""},{"$f":"IFERROR(IF(M121=\"\",\"\",SUMIFS(Inventário!$N$10:$N$150,Inventário!$D$10:$D$150,Estoque!N$10,Inventário!$E$10:$E$150,Estoque!$C121)),\"ERRO\")","v":""},{"$f":"IFERROR(IF(N121=\"\",\"\",SUMIFS(Inventário!$N$10:$N$150,Inventário!$D$10:$D$150,Estoque!O$10,Inventário!$E$10:$E$150,Estoque!$C121)),\"ERRO\")","v":""},null,null,null,{"$f":"Inventário!$E118","v":0}]
[null,110,{"$f":"IF('Cadastro de Produtos'!C114=\"\",\"\",VLOOKUP(B122,'Cadastro de Produtos'!$B$5:$C$204,2,0))","v":""},{"$f":"IFERROR(IF(C122=\"\",\"\",SUMIFS(Inventário!$N$10:$N$150,Inventário!$D$10:$D$150,Estoque!D$10,Inventário!$E$10:$E$150,Estoque!$C122)),\"ERRO\")","v":""},{"$f":"IFERROR(IF(D122=\"\",\"\",SUMIFS(Inventário!$N$10:$N$150,Inventário!$D$10:$D$150,Estoque!E$10,Inventário!$E$10:$E$150,Estoque!$C122)),\"ERRO\")","v":""},{"$f":"IFERROR(IF(E122=\"\",\"\",SUMIFS(Inventário!$N$10:$N$150,Inventário!$D$10:$D$150,Estoque!F$10,Inventário!$E$10:$E$150,Estoque!$C122)),\"ERRO\")","v":""},{"$f":"IFERROR(IF(F122=\"\",\"\",SUMIFS(Inventário!$N$10:$N$150,Inventário!$D$10:$D$150,Estoque!G$10,Inventário!$E$10:$E$150,Estoque!$C122)),\"ERRO\")","v":""},{"$f":"IFERROR(IF(G122=\"\",\"\",SUMIFS(Inventário!$N$10:$N$150,Inventário!$D$10:$D$150,Estoque!H$10,Inventário!$E$10:$E$150,Estoque!$C122)),\"ERRO\")","v":""},{"$f":"IFERROR(IF(H122=\"\",\"\",SUMIFS(Inventário!$N$10:$N$150,Inventário!$D$10:$D$150,Estoque!I$10,Inventário!$E$10:$E$150,Estoque!$C122)),\"ERRO\")","v":""},{"$f":"IFERROR(IF(I122=\"\",\"\",SUMIFS(Inventário!$N$10:$N$150,Inventário!$D$10:$D$150,Estoque!J$10,Inventário!$E$10:$E$150,Estoque!$C122)),\"ERRO\")","v":""},{"$f":"IFERROR(IF(J122=\"\",\"\",SUMIFS(Inventário!$N$10:$N$150,Inventário!$D$10:$D$150,Estoque!K$10,Inventário!$E$10:$E$150,Estoque!$C122)),\"ERRO\")","v":""},{"$f":"IFERROR(IF(K122=\"\",\"\",SUMIFS(Inventário!$N$10:$N$150,Inventário!$D$10:$D$150,Estoque!L$10,Inventário!$E$10:$E$150,Estoque!$C122)),\"ERRO\")","v":""},{"$f":"IFERROR(IF(L122=\"\",\"\",SUMIFS(Inventário!$N$10:$N$150,Inventário!$D$10:$D$150,Estoque!M$10,Inventário!$E$10:$E$150,Estoque!$C122)),\"ERRO\")","v":""},{"$f":"IFERROR(IF(M122=\"\",\"\",SUMIFS(Inventário!$N$10:$N$150,Inventário!$D$10:$D$150,Estoque!N$10,Inventário!$E$10:$E$150,Estoque!$C122)),\"ERRO\")","v":""},{"$f":"IFERROR(IF(N122=\"\",\"\",SUMIFS(Inventário!$N$10:$N$150,Inventário!$D$10:$D$150,Estoque!O$10,Inventário!$E$10:$E$150,Estoque!$C122)),\"ERRO\")","v":""},null,null,null,{"$f":"Inventário!$E119","v":0}]
[null,111,{"$f":"IF('Cadastro de Produtos'!C115=\"\",\"\",VLOOKUP(B123,'Cadastro de Produtos'!$B$5:$C$204,2,0))","v":""},{"$f":"IFERROR(IF(C123=\"\",\"\",SUMIFS(Inventário!$N$10:$N$150,Inventário!$D$10:$D$150,Estoque!D$10,Inventário!$E$10:$E$150,Estoque!$C123)),\"ERRO\")","v":""},{"$f":"IFERROR(IF(D123=\"\",\"\",SUMIFS(Inventário!$N$10:$N$150,Inventário!$D$10:$D$150,Estoque!E$10,Inventário!$E$10:$E$150,Estoque!$C123)),\"ERRO\")","v":""},{"$f":"IFERROR(IF(E123=\"\",\"\",SUMIFS(Inventário!$N$10:$N$150,Inventário!$D$10:$D$150,Estoque!F$10,Inventário!$E$10:$E$150,Estoque!$C123)),\"ERRO\")","v":""},{"$f":"IFERROR(IF(F123=\"\",\"\",SUMIFS(Inventário!$N$10:$N$150,Inventário!$D$10:$D$150,Estoque!G$10,Inventário!$E$10:$E$150,Estoque!$C123)),\"ERRO\")","v":""},{"$f":"IFERROR(IF(G123=\"\",\"\",SUMIFS(Inventário!$N$10:$N$150,Inventário!$D$10:$D$150,Estoque!H$10,Inventário!$E$10:$E$150,Estoque!$C123)),\"ERRO\")","v":""},{"$f":"IFERROR(IF(H123=\"\",\"\",SUMIFS(Inventário!$N$10:$N$150,Inventário!$D$10:$D$150,Estoque!I$10,Inventário!$E$10:$E$150,Estoque!$C123)),\"ERRO\")","v":""},{"$f":"IFERROR(IF(I123=\"\",\"\",SUMIFS(Inventário!$N$10:$N$150,Inventário!$D$10:$D$150,Estoque!J$10,Inventário!$E$10:$E$150,Estoque!$C123)),\"ERRO\")","v":""},{"$f":"IFERROR(IF(J123=\"\",\"\",SUMIFS(Inventário!$N$10:$N$150,Inventário!$D$10:$D$150,Estoque!K$10,Inventário!$E$10:$E$150,Estoque!$C123)),\"ERRO\")","v":""},{"$f":"IFERROR(IF(K123=\"\",\"\",SUMIFS(Inventário!$N$10:$N$150,Inventário!$D$10:$D$150,Estoque!L$10,Inventário!$E$10:$E$150,Estoque!$C123)),\"ERRO\")","v":""},{"$f":"IFERROR(IF(L123=\"\",\"\",SUMIFS(Inventário!$N$10:$N$150,Inventário!$D$10:$D$150,Estoque!M$10,Inventário!$E$10:$E$150,Estoque!$C123)),\"ERRO\")","v":""},{"$f":"IFERROR(IF(M123=\"\",\"\",SUMIFS(Inventário!$N$10:$N$150,Inventário!$D$10:$D$150,Estoque!N$10,Inventário!$E$10:$E$150,Estoque!$C123)),\"ERRO\")","v":""},{"$f":"IFERROR(IF(N123=\"\",\"\",SUMIFS(Inventário!$N$10:$N$150,Inventário!$D$10:$D$150,Estoque!O$10,Inventário!$E$10:$E$150,Estoque!$C123)),\"ERRO\")","v":""},null,null,null,{"$f":"Inventário!$E120","v":0}]
[null,112,{"$f":"IF('Cadastro de Produtos'!C116=\"\",\"\",VLOOKUP(B124,'Cadastro de Produtos'!$B$5:$C$204,2,0))","v":""},{"$f":"IFERROR(IF(C124=\"\",\"\",SUMIFS(Inventário!$N$10:$N$150,Inventário!$D$10:$D$150,Estoque!D$10,Inventário!$E$10:$E$150,Estoque!$C124)),\"ERRO\")","v":""},{"$f":"IFERROR(IF(D124=\"\",\"\",SUMIFS(Inventário!$N$10:$N$150,Inventário!$D$10:$D$150,Estoque!E$10,Inventário!$E$10:$E$150,Estoque!$C124)),\"ERRO\")","v":""},{"$f":"IFERROR(IF(E124=\"\",\"\",SUMIFS(Inventário!$N$10:$N$150,Inventário!$D$10:$D$150,Estoque!F$10,Inventário!$E$10:$E$150,Estoque!$C124)),\"ERRO\")","v":""},{"$f":"IFERROR(IF(F124=\"\",\"\",SUMIFS(Inventário!$N$10:$N$150,Inventário!$D$10:$D$150,Estoque!G$10,Inventário!$E$10:$E$150,Estoque!$C124)),\"ERRO\")","v":""},{"$f":"IFERROR(IF(G124=\"\",\"\",SUMIFS(Inventário!$N$10:$N$150,Inventário!$D$10:$D$150,Estoque!H$10,Inventário!$E$10:$E$150,Estoque!$C124)),\"ERRO\")","v":""},{"$f":"IFERROR(IF(H124=\"\",\"\",SUMIFS(Inventário!$N$10:$N$150,Inventário!$D$10:$D$150,Estoque!I$10,Inventário!$E$10:$E$150,Estoque!$C124)),\"ERRO\")","v":""},{"$f":"IFERROR(IF(I124=\"\",\"\",SUMIFS(Inventário!$N$10:$N$150,Inventário!$D$10:$D$150,Estoque!J$10,Inventário!$E$10:$E$150,Estoque!$C124)),\"ERRO\")","v":""},{"$f":"IFERROR(IF(J124=\"\",\"\",SUMIFS(Inventário!$N$10:$N$150,Inventário!$D$10:$D$150,Estoque!K$10,Inventário!$E$10:$E$150,Estoque!$C124)),\"ERRO\")","v":""},{"$f":"IFERROR(IF(K124=\"\",\"\",SUMIFS(Inventário!$N$10:$N$150,Inventário!$D$10:$D$150,Estoque!L$10,Inventário!$E$10:$E$150,Estoque!$C124)),\"ERRO\")","v":""},{"$f":"IFERROR(IF(L124=\"\",\"\",SUMIFS(Inventário!$N$10:$N$150,Inventário!$D$10:$D$150,Estoque!M$10,Inventário!$E$10:$E$150,Estoque!$C124)),\"ERRO\")","v":""},{"$f":"IFERROR(IF(M124=\"\",\"\",SUMIFS(Inventário!$N$10:$N$150,Inventário!$D$10:$D$150,Estoque!N$10,Inventário!$E$10:$E$150,Estoque!$C124)),\"ERRO\")","v":""},{"$f":"IFERROR(IF(N124=\"\",\"\",SUMIFS(Inventário!$N$10:$N$150,Inventário!$D$10:$D$150,Estoque!O$10,Inventário!$E$10:$E$150,Estoque!$C124)),\"ERRO\")","v":""},null,null,null,{"$f":"Inventário!$E121","v":0}]
[null,113,{"$f":"IF('Cadastro de Produtos'!C117=\"\",\"\",VLOOKUP(B125,'Cadastro de Produtos'!$B$5:$C$204,2,0))","v":""},{"$f":"IFERROR(IF(C125=\"\",\"\",SUMIFS(Inventário!$N$10:$N$150,Inventário!$D$10:$D$150,Estoque!D$10,Inventário!$E$10:$E$150,Estoque!$C125)),\"ERRO\")","v":""},{"$f":"IFERROR(IF(D125=\"\",\"\",SUMIFS(Inventário!$N$10:$N$150,Inventário!$D$10:$D$150,Estoque!E$10,Inventário!$E$10:$E$150,Estoque!$C125)),\"ERRO\")","v":""},{"$f":"IFERROR(IF(E125=\"\",\"\",SUMIFS(Inventário!$N$10:$N$150,Inventário!$D$10:$D$150,Estoque!F$10,Inventário!$E$10:$E$150,Estoque!$C125)),\"ERRO\")","v":""},{"$f":"IFERROR(IF(F125=\"\",\"\",SUMIFS(Inventário!$N$10:$N$150,Inventário!$D$10:$D$150,Estoque!G$10,Inventário!$E$10:$E$150,Estoque!$C125)),\"ERRO\")","v":""},{"$f":"IFERROR(IF(G125=\"\",\"\",SUMIFS(Inventário!$N$10:$N$150,Inventário!$D$10:$D$150,Estoque!H$10,Inventário!$E$10:$E$150,Estoque!$C125)),\"ERRO\")","v":""},{"$f":"IFERROR(IF(H125=\"\",\"\",SUMIFS(Inventário!$N$10:$N$150,Inventário!$D$10:$D$150,Estoque!I$10,Inventário!$E$10:$E$150,Estoque!$C125)),\"ERRO\")","v":""},{"$f":"IFERROR(IF(I125=\"\",\"\",SUMIFS(Inventário!$N$10:$N$150,Inventário!$D$10:$D$150,Estoque!J$10,Inventário!$E$10:$E$150,Estoque!$C125)),\"ERRO\")","v":""},{"$f":"IFERROR(IF(J125=\"\",\"\",SUMIFS(Inventário!$N$10:$N$150,Inventário!$D$10:$D$150,Estoque!K$10,Inventário!$E$10:$E$150,Estoque!$C125)),\"ERRO\")","v":""},{"$f":"IFERROR(IF(K125=\"\",\"\",SUMIFS(Inventário!$N$10:$N$150,Inventário!$D$10:$D$150,Estoque!L$10,Inventário!$E$10:$E$150,Estoque!$C125)),\"ERRO\")","v":""},{"$f":"IFERROR(IF(L125=\"\",\"\",SUMIFS(Inventário!$N$10:$N$150,Inventário!$D$10:$D$150,Estoque!M$10,Inventário!$E$10:$E$150,Estoque!$C125)),\"ERRO\")","v":""},{"$f":"IFERROR(IF(M125=\"\",\"\",SUMIFS(Inventário!$N$10:$N$150,Inventário!$D$10:$D$150,Estoque!N$10,Inventário!$E$10:$E$150,Estoque!$C125)),\"ERRO\")","v":""},{"$f":"IFERROR(IF(N125=\"\",\"\",SUMIFS(Inventário!$N$10:$N$150,Inventário!$D$10:$D$150,Estoque!O$10,Inventário!$E$10:$E$150,Estoque!$C125)),\"ERRO\")","v":""},null,null,null,{"$f":"Inventário!$E122","v":0}]
[null,114,{"$f":"IF('Cadastro de Produtos'!C118=\"\",\"\",VLOOKUP(B126,'Cadastro de Produtos'!$B$5:$C$204,2,0))","v":""},{"$f":"IFERROR(IF(C126=\"\",\"\",SUMIFS(Inventário!$N$10:$N$150,Inventário!$D$10:$D$150,Estoque!D$10,Inventário!$E$10:$E$150,Estoque!$C126)),\"ERRO\")","v":""},{"$f":"IFERROR(IF(D126=\"\",\"\",SUMIFS(Inventário!$N$10:$N$150,Inventário!$D$10:$D$150,Estoque!E$10,Inventário!$E$10:$E$150,Estoque!$C126)),\"ERRO\")","v":""},{"$f":"IFERROR(IF(E126=\"\",\"\",SUMIFS(Inventário!$N$10:$N$150,Inventário!$D$10:$D$150,Estoque!F$10,Inventário!$E$10:$E$150,Estoque!$C126)),\"ERRO\")","v":""},{"$f":"IFERROR(IF(F126=\"\",\"\",SUMIFS(Inventário!$N$10:$N$150,Inventário!$D$10:$D$150,Estoque!G$10,Inventário!$E$10:$E$150,Estoque!$C126)),\"ERRO\")","v":""},{"$f":"IFERROR(IF(G126=\"\",\"\",SUMIFS(Inventário!$N$10:$N$150,Inventário!$D$10:$D$150,Estoque!H$10,Inventário!$E$10:$E$150,Estoque!$C126)),\"ERRO\")","v":""},{"$f":"IFERROR(IF(H126=\"\",\"\",SUMIFS(Inventário!$N$10:$N$150,Inventário!$D$10:$D$150,Estoque!I$10,Inventário!$E$10:$E$150,Estoque!$C126)),\"ERRO\")","v":""},{"$f":"IFERROR(IF(I126=\"\",\"\",SUMIFS(Inventário!$N$10:$N$150,Inventário!$D$10:$D$150,Estoque!J$10,Inventário!$E$10:$E$150,Estoque!$C126)),\"ERRO\")","v":""},{"$f":"IFERROR(IF(J126=\"\",\"\",SUMIFS(Inventário!$N$10:$N$150,Inventário!$D$10:$D$150,Estoque!K$10,Inventário!$E$10:$E$150,Estoque!$C126)),\"ERRO\")","v":""},{"$f":"IFERROR(IF(K126=\"\",\"\",SUMIFS(Inventário!$N$10:$N$150,Inventário!$D$10:$D$150,Estoque!L$10,Inventário!$E$10:$E$150,Estoque!$C126)),\"ERRO\")","v":""},{"$f":"IFERROR(IF(L126=\"\",\"\",SUMIFS(Inventário!$N$10:$N$150,Inventário!$D$10:$D$150,Estoque!M$10,Inventário!$E$10:$E$150,Estoque!$C126)),\"ERRO\")","v":""},{"$f":"IFERROR(IF(M126=\"\",\"\",SUMIFS(Inventário!$N$10:$N$150,Inventário!$D$10:$D$150,Estoque!N$10,Inventário!$E$10:$E$150,Estoque!$C126)),\"ERRO\")","v":""},{"$f":"IFERROR(IF(N126=\"\",\"\",SUMIFS(Inventário!$N$10:$N$150,Inventário!$D$10:$D$150,Estoque!O$10,Inventário!$E$10:$E$150,Estoque!$C126)),\"ERRO\")","v":""},null,null,null,{"$f":"Inventário!$E123","v":0}]
[null,115,{"$f":"IF('Cadastro de Produtos'!C119=\"\",\"\",VLOOKUP(B127,'Cadastro de Produtos'!$B$5:$C$204,2,0))","v":""},{"$f":"IFERROR(IF(C127=\"\",\"\",SUMIFS(Inventário!$N$10:$N$150,Inventário!$D$10:$D$150,Estoque!D$10,Inventário!$E$10:$E$150,Estoque!$C127)),\"ERRO\")","v":""},{"$f":"IFERROR(IF(D127=\"\",\"\",SUMIFS(Inventário!$N$10:$N$150,Inventário!$D$10:$D$150,Estoque!E$10,Inventário!$E$10:$E$150,Estoque!$C127)),\"ERRO\")","v":""},{"$f":"IFERROR(IF(E127=\"\",\"\",SUMIFS(Inventário!$N$10:$N$150,Inventário!$D$10:$D$150,Estoque!F$10,Inventário!$E$10:$E$150,Estoque!$C127)),\"ERRO\")","v":""},{"$f":"IFERROR(IF(F127=\"\",\"\",SUMIFS(Inventário!$N$10:$N$150,Inventário!$D$10:$D$150,Estoque!G$10,Inventário!$E$10:$E$150,Estoque!$C127)),\"ERRO\")","v":""},{"$f":"IFERROR(IF(G127=\"\",\"\",SUMIFS(Inventário!$N$10:$N$150,Inventário!$D$10:$D$150,Estoque!H$10,Inventário!$E$10:$E$150,Estoque!$C127)),\"ERRO\")","v":""},{"$f":"IFERROR(IF(H127=\"\",\"\",SUMIFS(Inventário!$N$10:$N$150,Inventário!$D$10:$D$150,Estoque!I$10,Inventário!$E$10:$E$150,Estoque!$C127)),\"ERRO\")","v":""},{"$f":"IFERROR(IF(I127=\"\",\"\",SUMIFS(Inventário!$N$10:$N$150,Inventário!$D$10:$D$150,Estoque!J$10,Inventário!$E$10:$E$150,Estoque!$C127)),\"ERRO\")","v":""},{"$f":"IFERROR(IF(J127=\"\",\"\",SUMIFS(Inventário!$N$10:$N$150,Inventário!$D$10:$D$150,Estoque!K$10,Inventário!$E$10:$E$150,Estoque!$C127)),\"ERRO\")","v":""},{"$f":"IFERROR(IF(K127=\"\",\"\",SUMIFS(Inventário!$N$10:$N$150,Inventário!$D$10:$D$150,Estoque!L$10,Inventário!$E$10:$E$150,Estoque!$C127)),\"ERRO\")","v":""},{"$f":"IFERROR(IF(L127=\"\",\"\",SUMIFS(Inventário!$N$10:$N$150,Inventário!$D$10:$D$150,Estoque!M$10,Inventário!$E$10:$E$150,Estoque!$C127)),\"ERRO\")","v":""},{"$f":"IFERROR(IF(M127=\"\",\"\",SUMIFS(Inventário!$N$10:$N$150,Inventário!$D$10:$D$150,Estoque!N$10,Inventário!$E$10:$E$150,Estoque!$C127)),\"ERRO\")","v":""},{"$f":"IFERROR(IF(N127=\"\",\"\",SUMIFS(Inventário!$N$10:$N$150,Inventário!$D$10:$D$150,Estoque!O$10,Inventário!$E$10:$E$150,Estoque!$C127)),\"ERRO\")","v":""},null,null,null,{"$f":"Inventário!$E124","v":0}]
[null,116,{"$f":"IF('Cadastro de Produtos'!C120=\"\",\"\",VLOOKUP(B128,'Cadastro de Produtos'!$B$5:$C$204,2,0))","v":""},{"$f":"IFERROR(IF(C128=\"\",\"\",SUMIFS(Inventário!$N$10:$N$150,Inventário!$D$10:$D$150,Estoque!D$10,Inventário!$E$10:$E$150,Estoque!$C128)),\"ERRO\")","v":""},{"$f":"IFERROR(IF(D128=\"\",\"\",SUMIFS(Inventário!$N$10:$N$150,Inventário!$D$10:$D$150,Estoque!E$10,Inventário!$E$10:$E$150,Estoque!$C128)),\"ERRO\")","v":""},{"$f":"IFERROR(IF(E128=\"\",\"\",SUMIFS(Inventário!$N$10:$N$150,Inventário!$D$10:$D$150,Estoque!F$10,Inventário!$E$10:$E$150,Estoque!$C128)),\"ERRO\")","v":""},{"$f":"IFERROR(IF(F128=\"\",\"\",SUMIFS(Inventário!$N$10:$N$150,Inventário!$D$10:$D$150,Estoque!G$10,Inventário!$E$10:$E$150,Estoque!$C128)),\"ERRO\")","v":""},{"$f":"IFERROR(IF(G128=\"\",\"\",SUMIFS(Inventário!$N$10:$N$150,Inventário!$D$10:$D$150,Estoque!H$10,Inventário!$E$10:$E$150,Estoque!$C128)),\"ERRO\")","v":""},{"$f":"IFERROR(IF(H128=\"\",\"\",SUMIFS(Inventário!$N$10:$N$150,Inventário!$D$10:$D$150,Estoque!I$10,Inventário!$E$10:$E$150,Estoque!$C128)),\"ERRO\")","v":""},{"$f":"IFERROR(IF(I128=\"\",\"\",SUMIFS(Inventário!$N$10:$N$150,Inventário!$D$10:$D$150,Estoque!J$10,Inventário!$E$10:$E$150,Estoque!$C128)),\"ERRO\")","v":""},{"$f":"IFERROR(IF(J128=\"\",\"\",SUMIFS(Inventário!$N$10:$N$150,Inventário!$D$10:$D$150,Estoque!K$10,Inventário!$E$10:$E$150,Estoque!$C128)),\"ERRO\")","v":""},{"$f":"IFERROR(IF(K128=\"\",\"\",SUMIFS(Inventário!$N$10:$N$150,Inventário!$D$10:$D$150,Estoque!L$10,Inventário!$E$10:$E$150,Estoque!$C128)),\"ERRO\")","v":""},{"$f":"IFERROR(IF(L128=\"\",\"\",SUMIFS(Inventário!$N$10:$N$150,Inventário!$D$10:$D$150,Estoque!M$10,Inventário!$E$10:$E$150,Estoque!$C128)),\"ERRO\")","v":""},{"$f":"IFERROR(IF(M128=\"\",\"\",SUMIFS(Inventário!$N$10:$N$150,Inventário!$D$10:$D$150,Estoque!N$10,Inventário!$E$10:$E$150,Estoque!$C128)),\"ERRO\")","v":""},{"$f":"IFERROR(IF(N128=\"\",\"\",SUMIFS(Inventário!$N$10:$N$150,Inventário!$D$10:$D$150,Estoque!O$10,Inventário!$E$10:$E$150,Estoque!$C128)),\"ERRO\")","v":""},null,null,null,{"$f":"Inventário!$E125","v":0}]
[null,117,{"$f":"IF('Cadastro de Produtos'!C121=\"\",\"\",VLOOKUP(B129,'Cadastro de Produtos'!$B$5:$C$204,2,0))","v":""},{"$f":"IFERROR(IF(C129=\"\",\"\",SUMIFS(Inventário!$N$10:$N$150,Inventário!$D$10:$D$150,Estoque!D$10,Inventário!$E$10:$E$150,Estoque!$C129)),\"ERRO\")","v":""},{"$f":"IFERROR(IF(D129=\"\",\"\",SUMIFS(Inventário!$N$10:$N$150,Inventário!$D$10:$D$150,Estoque!E$10,Inventário!$E$10:$E$150,Estoque!$C129)),\"ERRO\")","v":""},{"$f":"IFERROR(IF(E129=\"\",\"\",SUMIFS(Inventário!$N$10:$N$150,Inventário!$D$10:$D$150,Estoque!F$10,Inventário!$E$10:$E$150,Estoque!$C129)),\"ERRO\")","v":""},{"$f":"IFERROR(IF(F129=\"\",\"\",SUMIFS(Inventário!$N$10:$N$150,Inventário!$D$10:$D$150,Estoque!G$10,Inventário!$E$10:$E$150,Estoque!$C129)),\"ERRO\")","v":""},{"$f":"IFERROR(IF(G129=\"\",\"\",SUMIFS(Inventário!$N$10:$N$150,Inventário!$D$10:$D$150,Estoque!H$10,Inventário!$E$10:$E$150,Estoque!$C129)),\"ERRO\")","v":""},{"$f":"IFERROR(IF(H129=\"\",\"\",SUMIFS(Inventário!$N$10:$N$150,Inventário!$D$10:$D$150,Estoque!I$10,Inventário!$E$10:$E$150,Estoque!$C129)),\"ERRO\")","v":""},{"$f":"IFERROR(IF(I129=\"\",\"\",SUMIFS(Inventário!$N$10:$N$150,Inventário!$D$10:$D$150,Estoque!J$10,Inventário!$E$10:$E$150,Estoque!$C129)),\"ERRO\")","v":""},{"$f":"IFERROR(IF(J129=\"\",\"\",SUMIFS(Inventário!$N$10:$N$150,Inventário!$D$10:$D$150,Estoque!K$10,Inventário!$E$10:$E$150,Estoque!$C129)),\"ERRO\")","v":""},{"$f":"IFERROR(IF(K129=\"\",\"\",SUMIFS(Inventário!$N$10:$N$150,Inventário!$D$10:$D$150,Estoque!L$10,Inventário!$E$10:$E$150,Estoque!$C129)),\"ERRO\")","v":""},{"$f":"IFERROR(IF(L129=\"\",\"\",SUMIFS(Inventário!$N$10:$N$150,Inventário!$D$10:$D$150,Estoque!M$10,Inventário!$E$10:$E$150,Estoque!$C129)),\"ERRO\")","v":""},{"$f":"IFERROR(IF(M129=\"\",\"\",SUMIFS(Inventário!$N$10:$N$150,Inventário!$D$10:$D$150,Estoque!N$10,Inventário!$E$10:$E$150,Estoque!$C129)),\"ERRO\")","v":""},{"$f":"IFERROR(IF(N129=\"\",\"\",SUMIFS(Inventário!$N$10:$N$150,Inventário!$D$10:$D$150,Estoque!O$10,Inventário!$E$10:$E$150,Estoque!$C129)),\"ERRO\")","v":""},null,null,null,{"$f":"Inventário!$E126","v":0}]
[null,118,{"$f":"IF('Cadastro de Produtos'!C122=\"\",\"\",VLOOKUP(B130,'Cadastro de Produtos'!$B$5:$C$204,2,0))","v":""},{"$f":"IFERROR(IF(C130=\"\",\"\",SUMIFS(Inventário!$N$10:$N$150,Inventário!$D$10:$D$150,Estoque!D$10,Inventário!$E$10:$E$150,Estoque!$C130)),\"ERRO\")","v":""},{"$f":"IFERROR(IF(D130=\"\",\"\",SUMIFS(Inventário!$N$10:$N$150,Inventário!$D$10:$D$150,Estoque!E$10,Inventário!$E$10:$E$150,Estoque!$C130)),\"ERRO\")","v":""},{"$f":"IFERROR(IF(E130=\"\",\"\",SUMIFS(Inventário!$N$10:$N$150,Inventário!$D$10:$D$150,Estoque!F$10,Inventário!$E$10:$E$150,Estoque!$C130)),\"ERRO\")","v":""},{"$f":"IFERROR(IF(F130=\"\",\"\",SUMIFS(Inventário!$N$10:$N$150,Inventário!$D$10:$D$150,Estoque!G$10,Inventário!$E$10:$E$150,Estoque!$C130)),\"ERRO\")","v":""},{"$f":"IFERROR(IF(G130=\"\",\"\",SUMIFS(Inventário!$N$10:$N$150,Inventário!$D$10:$D$150,Estoque!H$10,Inventário!$E$10:$E$150,Estoque!$C130)),\"ERRO\")","v":""},{"$f":"IFERROR(IF(H130=\"\",\"\",SUMIFS(Inventário!$N$10:$N$150,Inventário!$D$10:$D$150,Estoque!I$10,Inventário!$E$10:$E$150,Estoque!$C130)),\"ERRO\")","v":""},{"$f":"IFERROR(IF(I130=\"\",\"\",SUMIFS(Inventário!$N$10:$N$150,Inventário!$D$10:$D$150,Estoque!J$10,Inventário!$E$10:$E$150,Estoque!$C130)),\"ERRO\")","v":""},{"$f":"IFERROR(IF(J130=\"\",\"\",SUMIFS(Inventário!$N$10:$N$150,Inventário!$D$10:$D$150,Estoque!K$10,Inventário!$E$10:$E$150,Estoque!$C130)),\"ERRO\")","v":""},{"$f":"IFERROR(IF(K130=\"\",\"\",SUMIFS(Inventário!$N$10:$N$150,Inventário!$D$10:$D$150,Estoque!L$10,Inventário!$E$10:$E$150,Estoque!$C130)),\"ERRO\")","v":""},{"$f":"IFERROR(IF(L130=\"\",\"\",SUMIFS(Inventário!$N$10:$N$150,Inventário!$D$10:$D$150,Estoque!M$10,Inventário!$E$10:$E$150,Estoque!$C130)),\"ERRO\")","v":""},{"$f":"IFERROR(IF(M130=\"\",\"\",SUMIFS(Inventário!$N$10:$N$150,Inventário!$D$10:$D$150,Estoque!N$10,Inventário!$E$10:$E$150,Estoque!$C130)),\"ERRO\")","v":""},{"$f":"IFERROR(IF(N130=\"\",\"\",SUMIFS(Inventário!$N$10:$N$150,Inventário!$D$10:$D$150,Estoque!O$10,Inventário!$E$10:$E$150,Estoque!$C130)),\"ERRO\")","v":""},null,null,null,{"$f":"Inventário!$E127","v":0}]
[null,119,{"$f":"IF('Cadastro de Produtos'!C123=\"\",\"\",VLOOKUP(B131,'Cadastro de Produtos'!$B$5:$C$204,2,0))","v":""},{"$f":"IFERROR(IF(C131=\"\",\"\",SUMIFS(Inventário!$N$10:$N$150,Inventário!$D$10:$D$150,Estoque!D$10,Inventário!$E$10:$E$150,Estoque!$C131)),\"ERRO\")","v":""},{"$f":"IFERROR(IF(D131=\"\",\"\",SUMIFS(Inventário!$N$10:$N$150,Inventário!$D$10:$D$150,Estoque!E$10,Inventário!$E$10:$E$150,Estoque!$C131)),\"ERRO\")","v":""},{"$f":"IFERROR(IF(E131=\"\",\"\",SUMIFS(Inventário!$N$10:$N$150,Inventário!$D$10:$D$150,Estoque!F$10,Inventário!$E$10:$E$150,Estoque!$C131)),\"ERRO\")","v":""},{"$f":"IFERROR(IF(F131=\"\",\"\",SUMIFS(Inventário!$N$10:$N$150,Inventário!$D$10:$D$150,Estoque!G$10,Inventário!$E$10:$E$150,Estoque!$C131)),\"ERRO\")","v":""},{"$f":"IFERROR(IF(G131=\"\",\"\",SUMIFS(Inventário!$N$10:$N$150,Inventário!$D$10:$D$150,Estoque!H$10,Inventário!$E$10:$E$150,Estoque!$C131)),\"ERRO\")","v":""},{"$f":"IFERROR(IF(H131=\"\",\"\",SUMIFS(Inventário!$N$10:$N$150,Inventário!$D$10:$D$150,Estoque!I$10,Inventário!$E$10:$E$150,Estoque!$C131)),\"ERRO\")","v":""},{"$f":"IFERROR(IF(I131=\"\",\"\",SUMIFS(Inventário!$N$10:$N$150,Inventário!$D$10:$D$150,Estoque!J$10,Inventário!$E$10:$E$150,Estoque!$C131)),\"ERRO\")","v":""},{"$f":"IFERROR(IF(J131=\"\",\"\",SUMIFS(Inventário!$N$10:$N$150,Inventário!$D$10:$D$150,Estoque!K$10,Inventário!$E$10:$E$150,Estoque!$C131)),\"ERRO\")","v":""},{"$f":"IFERROR(IF(K131=\"\",\"\",SUMIFS(Inventário!$N$10:$N$150,Inventário!$D$10:$D$150,Estoque!L$10,Inventário!$E$10:$E$150,Estoque!$C131)),\"ERRO\")","v":""},{"$f":"IFERROR(IF(L131=\"\",\"\",SUMIFS(Inventário!$N$10:$N$150,Inventário!$D$10:$D$150,Estoque!M$10,Inventário!$E$10:$E$150,Estoque!$C131)),\"ERRO\")","v":""},{"$f":"IFERROR(IF(M131=\"\",\"\",SUMIFS(Inventário!$N$10:$N$150,Inventário!$D$10:$D$150,Estoque!N$10,Inventário!$E$10:$E$150,Estoque!$C131)),\"ERRO\")","v":""},{"$f":"IFERROR(IF(N131=\"\",\"\",SUMIFS(Inventário!$N$10:$N$150,Inventário!$D$10:$D$150,Estoque!O$10,Inventário!$E$10:$E$150,Estoque!$C131)),\"ERRO\")","v":""},null,null,null,{"$f":"Inventário!$E128","v":0}]
[null,120,{"$f":"IF('Cadastro de Produtos'!C124=\"\",\"\",VLOOKUP(B132,'Cadastro de Produtos'!$B$5:$C$204,2,0))","v":""},{"$f":"IFERROR(IF(C132=\"\",\"\",SUMIFS(Inventário!$N$10:$N$150,Inventário!$D$10:$D$150,Estoque!D$10,Inventário!$E$10:$E$150,Estoque!$C132)),\"ERRO\")","v":""},{"$f":"IFERROR(IF(D132=\"\",\"\",SUMIFS(Inventário!$N$10:$N$150,Inventário!$D$10:$D$150,Estoque!E$10,Inventário!$E$10:$E$150,Estoque!$C132)),\"ERRO\")","v":""},{"$f":"IFERROR(IF(E132=\"\",\"\",SUMIFS(Inventário!$N$10:$N$150,Inventário!$D$10:$D$150,Estoque!F$10,Inventário!$E$10:$E$150,Estoque!$C132)),\"ERRO\")","v":""},{"$f":"IFERROR(IF(F132=\"\",\"\",SUMIFS(Inventário!$N$10:$N$150,Inventário!$D$10:$D$150,Estoque!G$10,Inventário!$E$10:$E$150,Estoque!$C132)),\"ERRO\")","v":""},{"$f":"IFERROR(IF(G132=\"\",\"\",SUMIFS(Inventário!$N$10:$N$150,Inventário!$D$10:$D$150,Estoque!H$10,Inventário!$E$10:$E$150,Estoque!$C132)),\"ERRO\")","v":""},{"$f":"IFERROR(IF(H132=\"\",\"\",SUMIFS(Inventário!$N$10:$N$150,Inventário!$D$10:$D$150,Estoque!I$10,Inventário!$E$10:$E$150,Estoque!$C132)),\"ERRO\")","v":""},{"$f":"IFERROR(IF(I132=\"\",\"\",SUMIFS(Inventário!$N$10:$N$150,Inventário!$D$10:$D$150,Estoque!J$10,Inventário!$E$10:$E$150,Estoque!$C132)),\"ERRO\")","v":""},{"$f":"IFERROR(IF(J132=\"\",\"\",SUMIFS(Inventário!$N$10:$N$150,Inventário!$D$10:$D$150,Estoque!K$10,Inventário!$E$10:$E$150,Estoque!$C132)),\"ERRO\")","v":""},{"$f":"IFERROR(IF(K132=\"\",\"\",SUMIFS(Inventário!$N$10:$N$150,Inventário!$D$10:$D$150,Estoque!L$10,Inventário!$E$10:$E$150,Estoque!$C132)),\"ERRO\")","v":""},{"$f":"IFERROR(IF(L132=\"\",\"\",SUMIFS(Inventário!$N$10:$N$150,Inventário!$D$10:$D$150,Estoque!M$10,Inventário!$E$10:$E$150,Estoque!$C132)),\"ERRO\")","v":""},{"$f":"IFERROR(IF(M132=\"\",\"\",SUMIFS(Inventário!$N$10:$N$150,Inventário!$D$10:$D$150,Estoque!N$10,Inventário!$E$10:$E$150,Estoque!$C132)),\"ERRO\")","v":""},{"$f":"IFERROR(IF(N132=\"\",\"\",SUMIFS(Inventário!$N$10:$N$150,Inventário!$D$10:$D$150,Estoque!O$10,Inventário!$E$10:$E$150,Estoque!$C132)),\"ERRO\")","v":""},null,null,null,{"$f":"Inventário!$E129","v":0}]
[null,121,{"$f":"IF('Cadastro de Produtos'!C125=\"\",\"\",VLOOKUP(B133,'Cadastro de Produtos'!$B$5:$C$204,2,0))","v":""},{"$f":"IFERROR(IF(C133=\"\",\"\",SUMIFS(Inventário!$N$10:$N$150,Inventário!$D$10:$D$150,Estoque!D$10,Inventário!$E$10:$E$150,Estoque!$C133)),\"ERRO\")","v":""},{"$f":"IFERROR(IF(D133=\"\",\"\",SUMIFS(Inventário!$N$10:$N$150,Inventário!$D$10:$D$150,Estoque!E$10,Inventário!$E$10:$E$150,Estoque!$C133)),\"ERRO\")","v":""},{"$f":"IFERROR(IF(E133=\"\",\"\",SUMIFS(Inventário!$N$10:$N$150,Inventário!$D$10:$D$150,Estoque!F$10,Inventário!$E$10:$E$150,Estoque!$C133)),\"ERRO\")","v":""},{"$f":"IFERROR(IF(F133=\"\",\"\",SUMIFS(Inventário!$N$10:$N$150,Inventário!$D$10:$D$150,Estoque!G$10,Inventário!$E$10:$E$150,Estoque!$C133)),\"ERRO\")","v":""},{"$f":"IFERROR(IF(G133=\"\",\"\",SUMIFS(Inventário!$N$10:$N$150,Inventário!$D$10:$D$150,Estoque!H$10,Inventário!$E$10:$E$150,Estoque!$C133)),\"ERRO\")","v":""},{"$f":"IFERROR(IF(H133=\"\",\"\",SUMIFS(Inventário!$N$10:$N$150,Inventário!$D$10:$D$150,Estoque!I$10,Inventário!$E$10:$E$150,Estoque!$C133)),\"ERRO\")","v":""},{"$f":"IFERROR(IF(I133=\"\",\"\",SUMIFS(Inventário!$N$10:$N$150,Inventário!$D$10:$D$150,Estoque!J$10,Inventário!$E$10:$E$150,Estoque!$C133)),\"ERRO\")","v":""},{"$f":"IFERROR(IF(J133=\"\",\"\",SUMIFS(Inventário!$N$10:$N$150,Inventário!$D$10:$D$150,Estoque!K$10,Inventário!$E$10:$E$150,Estoque!$C133)),\"ERRO\")","v":""},{"$f":"IFERROR(IF(K133=\"\",\"\",SUMIFS(Inventário!$N$10:$N$150,Inventário!$D$10:$D$150,Estoque!L$10,Inventário!$E$10:$E$150,Estoque!$C133)),\"ERRO\")","v":""},{"$f":"IFERROR(IF(L133=\"\",\"\",SUMIFS(Inventário!$N$10:$N$150,Inventário!$D$10:$D$150,Estoque!M$10,Inventário!$E$10:$E$150,Estoque!$C133)),\"ERRO\")","v":""},{"$f":"IFERROR(IF(M133=\"\",\"\",SUMIFS(Inventário!$N$10:$N$150,Inventário!$D$10:$D$150,Estoque!N$10,Inventário!$E$10:$E$150,Estoque!$C133)),\"ERRO\")","v":""},{"$f":"IFERROR(IF(N133=\"\",\"\",SUMIFS(Inventário!$N$10:$N$150,Inventário!$D$10:$D$150,Estoque!O$10,Inventário!$E$10:$E$150,Estoque!$C133)),\"ERRO\")","v":""},null,null,null,{"$f":"Inventário!$E130","v":0}]
[null,122,{"$f":"IF('Cadastro de Produtos'!C126=\"\",\"\",VLOOKUP(B134,'Cadastro de Produtos'!$B$5:$C$204,2,0))","v":""},{"$f":"IFERROR(IF(C134=\"\",\"\",SUMIFS(Inventário!$N$10:$N$150,Inventário!$D$10:$D$150,Estoque!D$10,Inventário!$E$10:$E$150,Estoque!$C134)),\"ERRO\")","v":""},{"$f":"IFERROR(IF(D134=\"\",\"\",SUMIFS(Inventário!$N$10:$N$150,Inventário!$D$10:$D$150,Estoque!E$10,Inventário!$E$10:$E$150,Estoque!$C134)),\"ERRO\")","v":""},{"$f":"IFERROR(IF(E134=\"\",\"\",SUMIFS(Inventário!$N$10:$N$150,Inventário!$D$10:$D$150,Estoque!F$10,Inventário!$E$10:$E$150,Estoque!$C134)),\"ERRO\")","v":""},{"$f":"IFERROR(IF(F134=\"\",\"\",SUMIFS(Inventário!$N$10:$N$150,Inventário!$D$10:$D$150,Estoque!G$10,Inventário!$E$10:$E$150,Estoque!$C134)),\"ERRO\")","v":""},{"$f":"IFERROR(IF(G134=\"\",\"\",SUMIFS(Inventário!$N$10:$N$150,Inventário!$D$10:$D$150,Estoque!H$10,Inventário!$E$10:$E$150,Estoque!$C134)),\"ERRO\")","v":""},{"$f":"IFERROR(IF(H134=\"\",\"\",SUMIFS(Inventário!$N$10:$N$150,Inventário!$D$10:$D$150,Estoque!I$10,Inventário!$E$10:$E$150,Estoque!$C134)),\"ERRO\")","v":""},{"$f":"IFERROR(IF(I134=\"\",\"\",SUMIFS(Inventário!$N$10:$N$150,Inventário!$D$10:$D$150,Estoque!J$10,Inventário!$E$10:$E$150,Estoque!$C134)),\"ERRO\")","v":""},{"$f":"IFERROR(IF(J134=\"\",\"\",SUMIFS(Inventário!$N$10:$N$150,Inventário!$D$10:$D$150,Estoque!K$10,Inventário!$E$10:$E$150,Estoque!$C134)),\"ERRO\")","v":""},{"$f":"IFERROR(IF(K134=\"\",\"\",SUMIFS(Inventário!$N$10:$N$150,Inventário!$D$10:$D$150,Estoque!L$10,Inventário!$E$10:$E$150,Estoque!$C134)),\"ERRO\")","v":""},{"$f":"IFERROR(IF(L134=\"\",\"\",SUMIFS(Inventário!$N$10:$N$150,Inventário!$D$10:$D$150,Estoque!M$10,Inventário!$E$10:$E$150,Estoque!$C134)),\"ERRO\")","v":""},{"$f":"IFERROR(IF(M134=\"\",\"\",SUMIFS(Inventário!$N$10:$N$150,Inventário!$D$10:$D$150,Estoque!N$10,Inventário!$E$10:$E$150,Estoque!$C134)),\"ERRO\")","v":""},{"$f":"IFERROR(IF(N134=\"\",\"\",SUMIFS(Inventário!$N$10:$N$150,Inventário!$D$10:$D$150,Estoque!O$10,Inventário!$E$10:$E$150,Estoque!$C134)),\"ERRO\")","v":""},null,null,null,{"$f":"Inventário!$E131","v":0}]
[null,123,{"$f":"IF('Cadastro de Produtos'!C127=\"\",\"\",VLOOKUP(B135,'Cadastro de Produtos'!$B$5:$C$204,2,0))","v":""},{"$f":"IFERROR(IF(C135=\"\",\"\",SUMIFS(Inventário!$N$10:$N$150,Inventário!$D$10:$D$150,Estoque!D$10,Inventário!$E$10:$E$150,Estoque!$C135)),\"ERRO\")","v":""},{"$f":"IFERROR(IF(D135=\"\",\"\",SUMIFS(Inventário!$N$10:$N$150,Inventário!$D$10:$D$150,Estoque!E$10,Inventário!$E$10:$E$150,Estoque!$C135)),\"ERRO\")","v":""},{"$f":"IFERROR(IF(E135=\"\",\"\",SUMIFS(Inventário!$N$10:$N$150,Inventário!$D$10:$D$150,Estoque!F$10,Inventário!$E$10:$E$150,Estoque!$C135)),\"ERRO\")","v":""},{"$f":"IFERROR(IF(F135=\"\",\"\",SUMIFS(Inventário!$N$10:$N$150,Inventário!$D$10:$D$150,Estoque!G$10,Inventário!$E$10:$E$150,Estoque!$C135)),\"ERRO\")","v":""},{"$f":"IFERROR(IF(G135=\"\",\"\",SUMIFS(Inventário!$N$10:$N$150,Inventário!$D$10:$D$150,Estoque!H$10,Inventário!$E$10:$E$150,Estoque!$C135)),\"ERRO\")","v":""},{"$f":"IFERROR(IF(H135=\"\",\"\",SUMIFS(Inventário!$N$10:$N$150,Inventário!$D$10:$D$150,Estoque!I$10,Inventário!$E$10:$E$150,Estoque!$C135)),\"ERRO\")","v":""},{"$f":"IFERROR(IF(I135=\"\",\"\",SUMIFS(Inventário!$N$10:$N$150,Inventário!$D$10:$D$150,Estoque!J$10,Inventário!$E$10:$E$150,Estoque!$C135)),\"ERRO\")","v":""},{"$f":"IFERROR(IF(J135=\"\",\"\",SUMIFS(Inventário!$N$10:$N$150,Inventário!$D$10:$D$150,Estoque!K$10,Inventário!$E$10:$E$150,Estoque!$C135)),\"ERRO\")","v":""},{"$f":"IFERROR(IF(K135=\"\",\"\",SUMIFS(Inventário!$N$10:$N$150,Inventário!$D$10:$D$150,Estoque!L$10,Inventário!$E$10:$E$150,Estoque!$C135)),\"ERRO\")","v":""},{"$f":"IFERROR(IF(L135=\"\",\"\",SUMIFS(Inventário!$N$10:$N$150,Inventário!$D$10:$D$150,Estoque!M$10,Inventário!$E$10:$E$150,Estoque!$C135)),\"ERRO\")","v":""},{"$f":"IFERROR(IF(M135=\"\",\"\",SUMIFS(Inventário!$N$10:$N$150,Inventário!$D$10:$D$150,Estoque!N$10,Inventário!$E$10:$E$150,Estoque!$C135)),\"ERRO\")","v":""},{"$f":"IFERROR(IF(N135=\"\",\"\",SUMIFS(Inventário!$N$10:$N$150,Inventário!$D$10:$D$150,Estoque!O$10,Inventário!$E$10:$E$150,Estoque!$C135)),\"ERRO\")","v":""},null,null,null,{"$f":"Inventário!$E132","v":0}]
[null,124,{"$f":"IF('Cadastro de Produtos'!C128=\"\",\"\",VLOOKUP(B136,'Cadastro de Produtos'!$B$5:$C$204,2,0))","v":""},{"$f":"IFERROR(IF(C136=\"\",\"\",SUMIFS(Inventário!$N$10:$N$150,Inventário!$D$10:$D$150,Estoque!D$10,Inventário!$E$10:$E$150,Estoque!$C136)),\"ERRO\")","v":""},{"$f":"IFERROR(IF(D136=\"\",\"\",SUMIFS(Inventário!$N$10:$N$150,Inventário!$D$10:$D$150,Estoque!E$10,Inventário!$E$10:$E$150,Estoque!$C136)),\"ERRO\")","v":""},{"$f":"IFERROR(IF(E136=\"\",\"\",SUMIFS(Inventário!$N$10:$N$150,Inventário!$D$10:$D$150,Estoque!F$10,Inventário!$E$10:$E$150,Estoque!$C136)),\"ERRO\")","v":""},{"$f":"IFERROR(IF(F136=\"\",\"\",SUMIFS(Inventário!$N$10:$N$150,Inventário!$D$10:$D$150,Estoque!G$10,Inventário!$E$10:$E$150,Estoque!$C136)),\"ERRO\")","v":""},{"$f":"IFERROR(IF(G136=\"\",\"\",SUMIFS(Inventário!$N$10:$N$150,Inventário!$D$10:$D$150,Estoque!H$10,Inventário!$E$10:$E$150,Estoque!$C136)),\"ERRO\")","v":""},{"$f":"IFERROR(IF(H136=\"\",\"\",SUMIFS(Inventário!$N$10:$N$150,Inventário!$D$10:$D$150,Estoque!I$10,Inventário!$E$10:$E$150,Estoque!$C136)),\"ERRO\")","v":""},{"$f":"IFERROR(IF(I136=\"\",\"\",SUMIFS(Inventário!$N$10:$N$150,Inventário!$D$10:$D$150,Estoque!J$10,Inventário!$E$10:$E$150,Estoque!$C136)),\"ERRO\")","v":""},{"$f":"IFERROR(IF(J136=\"\",\"\",SUMIFS(Inventário!$N$10:$N$150,Inventário!$D$10:$D$150,Estoque!K$10,Inventário!$E$10:$E$150,Estoque!$C136)),\"ERRO\")","v":""},{"$f":"IFERROR(IF(K136=\"\",\"\",SUMIFS(Inventário!$N$10:$N$150,Inventário!$D$10:$D$150,Estoque!L$10,Inventário!$E$10:$E$150,Estoque!$C136)),\"ERRO\")","v":""},{"$f":"IFERROR(IF(L136=\"\",\"\",SUMIFS(Inventário!$N$10:$N$150,Inventário!$D$10:$D$150,Estoque!M$10,Inventário!$E$10:$E$150,Estoque!$C136)),\"ERRO\")","v":""},{"$f":"IFERROR(IF(M136=\"\",\"\",SUMIFS(Inventário!$N$10:$N$150,Inventário!$D$10:$D$150,Estoque!N$10,Inventário!$E$10:$E$150,Estoque!$C136)),\"ERRO\")","v":""},{"$f":"IFERROR(IF(N136=\"\",\"\",SUMIFS(Inventário!$N$10:$N$150,Inventário!$D$10:$D$150,Estoque!O$10,Inventário!$E$10:$E$150,Estoque!$C136)),\"ERRO\")","v":""},null,null,null,{"$f":"Inventário!$E133","v":0}]
[null,125,{"$f":"IF('Cadastro de Produtos'!C129=\"\",\"\",VLOOKUP(B137,'Cadastro de Produtos'!$B$5:$C$204,2,0))","v":""},{"$f":"IFERROR(IF(C137=\"\",\"\",SUMIFS(Inventário!$N$10:$N$150,Inventário!$D$10:$D$150,Estoque!D$10,Inventário!$E$10:$E$150,Estoque!$C137)),\"ERRO\")","v":""},{"$f":"IFERROR(IF(D137=\"\",\"\",SUMIFS(Inventário!$N$10:$N$150,Inventário!$D$10:$D$150,Estoque!E$10,Inventário!$E$10:$E$150,Estoque!$C137)),\"ERRO\")","v":""},{"$f":"IFERROR(IF(E137=\"\",\"\",SUMIFS(Inventário!$N$10:$N$150,Inventário!$D$10:$D$150,Estoque!F$10,Inventário!$E$10:$E$150,Estoque!$C137)),\"ERRO\")","v":""},{"$f":"IFERROR(IF(F137=\"\",\"\",SUMIFS(Inventário!$N$10:$N$150,Inventário!$D$10:$D$150,Estoque!G$10,Inventário!$E$10:$E$150,Estoque!$C137)),\"ERRO\")","v":""},{"$f":"IFERROR(IF(G137=\"\",\"\",SUMIFS(Inventário!$N$10:$N$150,Inventário!$D$10:$D$150,Estoque!H$10,Inventário!$E$10:$E$150,Estoque!$C137)),\"ERRO\")","v":""},{"$f":"IFERROR(IF(H137=\"\",\"\",SUMIFS(Inventário!$N$10:$N$150,Inventário!$D$10:$D$150,Estoque!I$10,Inventário!$E$10:$E$150,Estoque!$C137)),\"ERRO\")","v":""},{"$f":"IFERROR(IF(I137=\"\",\"\",SUMIFS(Inventário!$N$10:$N$150,Inventário!$D$10:$D$150,Estoque!J$10,Inventário!$E$10:$E$150,Estoque!$C137)),\"ERRO\")","v":""},{"$f":"IFERROR(IF(J137=\"\",\"\",SUMIFS(Inventário!$N$10:$N$150,Inventário!$D$10:$D$150,Estoque!K$10,Inventário!$E$10:$E$150,Estoque!$C137)),\"ERRO\")","v":""},{"$f":"IFERROR(IF(K137=\"\",\"\",SUMIFS(Inventário!$N$10:$N$150,Inventário!$D$10:$D$150,Estoque!L$10,Inventário!$E$10:$E$150,Estoque!$C137)),\"ERRO\")","v":""},{"$f":"IFERROR(IF(L137=\"\",\"\",SUMIFS(Inventário!$N$10:$N$150,Inventário!$D$10:$D$150,Estoque!M$10,Inventário!$E$10:$E$150,Estoque!$C137)),\"ERRO\")","v":""},{"$f":"IFERROR(IF(M137=\"\",\"\",SUMIFS(Inventário!$N$10:$N$150,Inventário!$D$10:$D$150,Estoque!N$10,Inventário!$E$10:$E$150,Estoque!$C137)),\"ERRO\")","v":""},{"$f":"IFERROR(IF(N137=\"\",\"\",SUMIFS(Inventário!$N$10:$N$150,Inventário!$D$10:$D$150,Estoque!O$10,Inventário!$E$10:$E$150,Estoque!$C137)),\"ERRO\")","v":""},null,null,null,{"$f":"Inventário!$E134","v":0}]
[null,126,{"$f":"IF('Cadastro de Produtos'!C130=\"\",\"\",VLOOKUP(B138,'Cadastro de Produtos'!$B$5:$C$204,2,0))","v":""},{"$f":"IFERROR(IF(C138=\"\",\"\",SUMIFS(Inventário!$N$10:$N$150,Inventário!$D$10:$D$150,Estoque!D$10,Inventário!$E$10:$E$150,Estoque!$C138)),\"ERRO\")","v":""},{"$f":"IFERROR(IF(D138=\"\",\"\",SUMIFS(Inventário!$N$10:$N$150,Inventário!$D$10:$D$150,Estoque!E$10,Inventário!$E$10:$E$150,Estoque!$C138)),\"ERRO\")","v":""},{"$f":"IFERROR(IF(E138=\"\",\"\",SUMIFS(Inventário!$N$10:$N$150,Inventário!$D$10:$D$150,Estoque!F$10,Inventário!$E$10:$E$150,Estoque!$C138)),\"ERRO\")","v":""},{"$f":"IFERROR(IF(F138=\"\",\"\",SUMIFS(Inventário!$N$10:$N$150,Inventário!$D$10:$D$150,Estoque!G$10,Inventário!$E$10:$E$150,Estoque!$C138)),\"ERRO\")","v":""},{"$f":"IFERROR(IF(G138=\"\",\"\",SUMIFS(Inventário!$N$10:$N$150,Inventário!$D$10:$D$150,Estoque!H$10,Inventário!$E$10:$E$150,Estoque!$C138)),\"ERRO\")","v":""},{"$f":"IFERROR(IF(H138=\"\",\"\",SUMIFS(Inventário!$N$10:$N$150,Inventário!$D$10:$D$150,Estoque!I$10,Inventário!$E$10:$E$150,Estoque!$C138)),\"ERRO\")","v":""},{"$f":"IFERROR(IF(I138=\"\",\"\",SUMIFS(Inventário!$N$10:$N$150,Inventário!$D$10:$D$150,Estoque!J$10,Inventário!$E$10:$E$150,Estoque!$C138)),\"ERRO\")","v":""},{"$f":"IFERROR(IF(J138=\"\",\"\",SUMIFS(Inventário!$N$10:$N$150,Inventário!$D$10:$D$150,Estoque!K$10,Inventário!$E$10:$E$150,Estoque!$C138)),\"ERRO\")","v":""},{"$f":"IFERROR(IF(K138=\"\",\"\",SUMIFS(Inventário!$N$10:$N$150,Inventário!$D$10:$D$150,Estoque!L$10,Inventário!$E$10:$E$150,Estoque!$C138)),\"ERRO\")","v":""},{"$f":"IFERROR(IF(L138=\"\",\"\",SUMIFS(Inventário!$N$10:$N$150,Inventário!$D$10:$D$150,Estoque!M$10,Inventário!$E$10:$E$150,Estoque!$C138)),\"ERRO\")","v":""},{"$f":"IFERROR(IF(M138=\"\",\"\",SUMIFS(Inventário!$N$10:$N$150,Inventário!$D$10:$D$150,Estoque!N$10,Inventário!$E$10:$E$150,Estoque!$C138)),\"ERRO\")","v":""},{"$f":"IFERROR(IF(N138=\"\",\"\",SUMIFS(Inventário!$N$10:$N$150,Inventário!$D$10:$D$150,Estoque!O$10,Inventário!$E$10:$E$150,Estoque!$C138)),\"ERRO\")","v":""},null,null,null,{"$f":"Inventário!$E135","v":0}]
[null,127,{"$f":"IF('Cadastro de Produtos'!C131=\"\",\"\",VLOOKUP(B139,'Cadastro de Produtos'!$B$5:$C$204,2,0))","v":""},{"$f":"IFERROR(IF(C139=\"\",\"\",SUMIFS(Inventário!$N$10:$N$150,Inventário!$D$10:$D$150,Estoque!D$10,Inventário!$E$10:$E$150,Estoque!$C139)),\"ERRO\")","v":""},{"$f":"IFERROR(IF(D139=\"\",\"\",SUMIFS(Inventário!$N$10:$N$150,Inventário!$D$10:$D$150,Estoque!E$10,Inventário!$E$10:$E$150,Estoque!$C139)),\"ERRO\")","v":""},{"$f":"IFERROR(IF(E139=\"\",\"\",SUMIFS(Inventário!$N$10:$N$150,Inventário!$D$10:$D$150,Estoque!F$10,Inventário!$E$10:$E$150,Estoque!$C139)),\"ERRO\")","v":""},{"$f":"IFERROR(IF(F139=\"\",\"\",SUMIFS(Inventário!$N$10:$N$150,Inventário!$D$10:$D$150,Estoque!G$10,Inventário!$E$10:$E$150,Estoque!$C139)),\"ERRO\")","v":""},{"$f":"IFERROR(IF(G139=\"\",\"\",SUMIFS(Inventário!$N$10:$N$150,Inventário!$D$10:$D$150,Estoque!H$10,Inventário!$E$10:$E$150,Estoque!$C139)),\"ERRO\")","v":""},{"$f":"IFERROR(IF(H139=\"\",\"\",SUMIFS(Inventário!$N$10:$N$150,Inventário!$D$10:$D$150,Estoque!I$10,Inventário!$E$10:$E$150,Estoque!$C139)),\"ERRO\")","v":""},{"$f":"IFERROR(IF(I139=\"\",\"\",SUMIFS(Inventário!$N$10:$N$150,Inventário!$D$10:$D$150,Estoque!J$10,Inventário!$E$10:$E$150,Estoque!$C139)),\"ERRO\")","v":""},{"$f":"IFERROR(IF(J139=\"\",\"\",SUMIFS(Inventário!$N$10:$N$150,Inventário!$D$10:$D$150,Estoque!K$10,Inventário!$E$10:$E$150,Estoque!$C139)),\"ERRO\")","v":""},{"$f":"IFERROR(IF(K139=\"\",\"\",SUMIFS(Inventário!$N$10:$N$150,Inventário!$D$10:$D$150,Estoque!L$10,Inventário!$E$10:$E$150,Estoque!$C139)),\"ERRO\")","v":""},{"$f":"IFERROR(IF(L139=\"\",\"\",SUMIFS(Inventário!$N$10:$N$150,Inventário!$D$10:$D$150,Estoque!M$10,Inventário!$E$10:$E$150,Estoque!$C139)),\"ERRO\")","v":""},{"$f":"IFERROR(IF(M139=\"\",\"\",SUMIFS(Inventário!$N$10:$N$150,Inventário!$D$10:$D$150,Estoque!N$10,Inventário!$E$10:$E$150,Estoque!$C139)),\"ERRO\")","v":""},{"$f":"IFERROR(IF(N139=\"\",\"\",SUMIFS(Inventário!$N$10:$N$150,Inventário!$D$10:$D$150,Estoque!O$10,Inventário!$E$10:$E$150,Estoque!$C139)),\"ERRO\")","v":""},null,null,null,{"$f":"Inventário!$E136","v":0}]
[null,128,{"$f":"IF('Cadastro de Produtos'!C132=\"\",\"\",VLOOKUP(B140,'Cadastro de Produtos'!$B$5:$C$204,2,0))","v":""},{"$f":"IFERROR(IF(C140=\"\",\"\",SUMIFS(Inventário!$N$10:$N$150,Inventário!$D$10:$D$150,Estoque!D$10,Inventário!$E$10:$E$150,Estoque!$C140)),\"ERRO\")","v":""},{"$f":"IFERROR(IF(D140=\"\",\"\",SUMIFS(Inventário!$N$10:$N$150,Inventário!$D$10:$D$150,Estoque!E$10,Inventário!$E$10:$E$150,Estoque!$C140)),\"ERRO\")","v":""},{"$f":"IFERROR(IF(E140=\"\",\"\",SUMIFS(Inventário!$N$10:$N$150,Inventário!$D$10:$D$150,Estoque!F$10,Inventário!$E$10:$E$150,Estoque!$C140)),\"ERRO\")","v":""},{"$f":"IFERROR(IF(F140=\"\",\"\",SUMIFS(Inventário!$N$10:$N$150,Inventário!$D$10:$D$150,Estoque!G$10,Inventário!$E$10:$E$150,Estoque!$C140)),\"ERRO\")","v":""},{"$f":"IFERROR(IF(G140=\"\",\"\",SUMIFS(Inventário!$N$10:$N$150,Inventário!$D$10:$D$150,Estoque!H$10,Inventário!$E$10:$E$150,Estoque!$C140)),\"ERRO\")","v":""},{"$f":"IFERROR(IF(H140=\"\",\"\",SUMIFS(Inventário!$N$10:$N$150,Inventário!$D$10:$D$150,Estoque!I$10,Inventário!$E$10:$E$150,Estoque!$C140)),\"ERRO\")","v":""},{"$f":"IFERROR(IF(I140=\"\",\"\",SUMIFS(Inventário!$N$10:$N$150,Inventário!$D$10:$D$150,Estoque!J$10,Inventário!$E$10:$E$150,Estoque!$C140)),\"ERRO\")","v":""},{"$f":"IFERROR(IF(J140=\"\",\"\",SUMIFS(Inventário!$N$10:$N$150,Inventário!$D$10:$D$150,Estoque!K$10,Inventário!$E$10:$E$150,Estoque!$C140)),\"ERRO\")","v":""},{"$f":"IFERROR(IF(K140=\"\",\"\",SUMIFS(Inventário!$N$10:$N$150,Inventário!$D$10:$D$150,Estoque!L$10,Inventário!$E$10:$E$150,Estoque!$C140)),\"ERRO\")","v":""},{"$f":"IFERROR(IF(L140=\"\",\"\",SUMIFS(Inventário!$N$10:$N$150,Inventário!$D$10:$D$150,Estoque!M$10,Inventário!$E$10:$E$150,Estoque!$C140)),\"ERRO\")","v":""},{"$f":"IFERROR(IF(M140=\"\",\"\",SUMIFS(Inventário!$N$10:$N$150,Inventário!$D$10:$D$150,Estoque!N$10,Inventário!$E$10:$E$150,Estoque!$C140)),\"ERRO\")","v":""},{"$f":"IFERROR(IF(N140=\"\",\"\",SUMIFS(Inventário!$N$10:$N$150,Inventário!$D$10:$D$150,Estoque!O$10,Inventário!$E$10:$E$150,Estoque!$C140)),\"ERRO\")","v":""},null,null,null,{"$f":"Inventário!$E137","v":0}]
[null,129,{"$f":"IF('Cadastro de Produtos'!C133=\"\",\"\",VLOOKUP(B141,'Cadastro de Produtos'!$B$5:$C$204,2,0))","v":""},{"$f":"IFERROR(IF(C141=\"\",\"\",SUMIFS(Inventário!$N$10:$N$150,Inventário!$D$10:$D$150,Estoque!D$10,Inventário!$E$10:$E$150,Estoque!$C141)),\"ERRO\")","v":""},{"$f":"IFERROR(IF(D141=\"\",\"\",SUMIFS(Inventário!$N$10:$N$150,Inventário!$D$10:$D$150,Estoque!E$10,Inventário!$E$10:$E$150,Estoque!$C141)),\"ERRO\")","v":""},{"$f":"IFERROR(IF(E141=\"\",\"\",SUMIFS(Inventário!$N$10:$N$150,Inventário!$D$10:$D$150,Estoque!F$10,Inventário!$E$10:$E$150,Estoque!$C141)),\"ERRO\")","v":""},{"$f":"IFERROR(IF(F141=\"\",\"\",SUMIFS(Inventário!$N$10:$N$150,Inventário!$D$10:$D$150,Estoque!G$10,Inventário!$E$10:$E$150,Estoque!$C141)),\"ERRO\")","v":""},{"$f":"IFERROR(IF(G141=\"\",\"\",SUMIFS(Inventário!$N$10:$N$150,Inventário!$D$10:$D$150,Estoque!H$10,Inventário!$E$10:$E$150,Estoque!$C141)),\"ERRO\")","v":""},{"$f":"IFERROR(IF(H141=\"\",\"\",SUMIFS(Inventário!$N$10:$N$150,Inventário!$D$10:$D$150,Estoque!I$10,Inventário!$E$10:$E$150,Estoque!$C141)),\"ERRO\")","v":""},{"$f":"IFERROR(IF(I141=\"\",\"\",SUMIFS(Inventário!$N$10:$N$150,Inventário!$D$10:$D$150,Estoque!J$10,Inventário!$E$10:$E$150,Estoque!$C141)),\"ERRO\")","v":""},{"$f":"IFERROR(IF(J141=\"\",\"\",SUMIFS(Inventário!$N$10:$N$150,Inventário!$D$10:$D$150,Estoque!K$10,Inventário!$E$10:$E$150,Estoque!$C141)),\"ERRO\")","v":""},{"$f":"IFERROR(IF(K141=\"\",\"\",SUMIFS(Inventário!$N$10:$N$150,Inventário!$D$10:$D$150,Estoque!L$10,Inventário!$E$10:$E$150,Estoque!$C141)),\"ERRO\")","v":""},{"$f":"IFERROR(IF(L141=\"\",\"\",SUMIFS(Inventário!$N$10:$N$150,Inventário!$D$10:$D$150,Estoque!M$10,Inventário!$E$10:$E$150,Estoque!$C141)),\"ERRO\")","v":""},{"$f":"IFERROR(IF(M141=\"\",\"\",SUMIFS(Inventário!$N$10:$N$150,Inventário!$D$10:$D$150,Estoque!N$10,Inventário!$E$10:$E$150,Estoque!$C141)),\"ERRO\")","v":""},{"$f":"IFERROR(IF(N141=\"\",\"\",SUMIFS(Inventário!$N$10:$N$150,Inventário!$D$10:$D$150,Estoque!O$10,Inventário!$E$10:$E$150,Estoque!$C141)),\"ERRO\")","v":""},null,null,null,{"$f":"Inventário!$E138","v":0}]
[null,130,{"$f":"IF('Cadastro de Produtos'!C134=\"\",\"\",VLOOKUP(B142,'Cadastro de Produtos'!$B$5:$C$204,2,0))","v":""},{"$f":"IFERROR(IF(C142=\"\",\"\",SUMIFS(Inventário!$N$10:$N$150,Inventário!$D$10:$D$150,Estoque!D$10,Inventário!$E$10:$E$150,Estoque!$C142)),\"ERRO\")","v":""},{"$f":"IFERROR(IF(D142=\"\",\"\",SUMIFS(Inventário!$N$10:$N$150,Inventário!$D$10:$D$150,Estoque!E$10,Inventário!$E$10:$E$150,Estoque!$C142)),\"ERRO\")","v":""},{"$f":"IFERROR(IF(E142=\"\",\"\",SUMIFS(Inventário!$N$10:$N$150,Inventário!$D$10:$D$150,Estoque!F$10,Inventário!$E$10:$E$150,Estoque!$C142)),\"ERRO\")","v":""},{"$f":"IFERROR(IF(F142=\"\",\"\",SUMIFS(Inventário!$N$10:$N$150,Inventário!$D$10:$D$150,Estoque!G$10,Inventário!$E$10:$E$150,Estoque!$C142)),\"ERRO\")","v":""},{"$f":"IFERROR(IF(G142=\"\",\"\",SUMIFS(Inventário!$N$10:$N$150,Inventário!$D$10:$D$150,Estoque!H$10,Inventário!$E$10:$E$150,Estoque!$C142)),\"ERRO\")","v":""},{"$f":"IFERROR(IF(H142=\"\",\"\",SUMIFS(Inventário!$N$10:$N$150,Inventário!$D$10:$D$150,Estoque!I$10,Inventário!$E$10:$E$150,Estoque!$C142)),\"ERRO\")","v":""},{"$f":"IFERROR(IF(I142=\"\",\"\",SUMIFS(Inventário!$N$10:$N$150,Inventário!$D$10:$D$150,Estoque!J$10,Inventário!$E$10:$E$150,Estoque!$C142)),\"ERRO\")","v":""},{"$f":"IFERROR(IF(J142=\"\",\"\",SUMIFS(Inventário!$N$10:$N$150,Inventário!$D$10:$D$150,Estoque!K$10,Inventário!$E$10:$E$150,Estoque!$C142)),\"ERRO\")","v":""},{"$f":"IFERROR(IF(K142=\"\",\"\",SUMIFS(Inventário!$N$10:$N$150,Inventário!$D$10:$D$150,Estoque!L$10,Inventário!$E$10:$E$150,Estoque!$C142)),\"ERRO\")","v":""},{"$f":"IFERROR(IF(L142=\"\",\"\",SUMIFS(Inventário!$N$10:$N$150,Inventário!$D$10:$D$150,Estoque!M$10,Inventário!$E$10:$E$150,Estoque!$C142)),\"ERRO\")","v":""},{"$f":"IFERROR(IF(M142=\"\",\"\",SUMIFS(Inventário!$N$10:$N$150,Inventário!$D$10:$D$150,Estoque!N$10,Inventário!$E$10:$E$150,Estoque!$C142)),\"ERRO\")","v":""},{"$f":"IFERROR(IF(N142=\"\",\"\",SUMIFS(Inventário!$N$10:$N$150,Inventário!$D$10:$D$150,Estoque!O$10,Inventário!$E$10:$E$150,Estoque!$C142)),\"ERRO\")","v":""},null,null,null,{"$f":"Inventário!$E139","v":0}]
[null,131,{"$f":"IF('Cadastro de Produtos'!C135=\"\",\"\",VLOOKUP(B143,'Cadastro de Produtos'!$B$5:$C$204,2,0))","v":""},{"$f":"IFERROR(IF(C143=\"\",\"\",SUMIFS(Inventário!$N$10:$N$150,Inventário!$D$10:$D$150,Estoque!D$10,Inventário!$E$10:$E$150,Estoque!$C143)),\"ERRO\")","v":""},{"$f":"IFERROR(IF(D143=\"\",\"\",SUMIFS(Inventário!$N$10:$N$150,Inventário!$D$10:$D$150,Estoque!E$10,Inventário!$E$10:$E$150,Estoque!$C143)),\"ERRO\")","v":""},{"$f":"IFERROR(IF(E143=\"\",\"\",SUMIFS(Inventário!$N$10:$N$150,Inventário!$D$10:$D$150,Estoque!F$10,Inventário!$E$10:$E$150,Estoque!$C143)),\"ERRO\")","v":""},{"$f":"IFERROR(IF(F143=\"\",\"\",SUMIFS(Inventário!$N$10:$N$150,Inventário!$D$10:$D$150,Estoque!G$10,Inventário!$E$10:$E$150,Estoque!$C143)),\"ERRO\")","v":""},{"$f":"IFERROR(IF(G143=\"\",\"\",SUMIFS(Inventário!$N$10:$N$150,Inventário!$D$10:$D$150,Estoque!H$10,Inventário!$E$10:$E$150,Estoque!$C143)),\"ERRO\")","v":""},{"$f":"IFERROR(IF(H143=\"\",\"\",SUMIFS(Inventário!$N$10:$N$150,Inventário!$D$10:$D$150,Estoque!I$10,Inventário!$E$10:$E$150,Estoque!$C143)),\"ERRO\")","v":""},{"$f":"IFERROR(IF(I143=\"\",\"\",SUMIFS(Inventário!$N$10:$N$150,Inventário!$D$10:$D$150,Estoque!J$10,Inventário!$E$10:$E$150,Estoque!$C143)),\"ERRO\")","v":""},{"$f":"IFERROR(IF(J143=\"\",\"\",SUMIFS(Inventário!$N$10:$N$150,Inventário!$D$10:$D$150,Estoque!K$10,Inventário!$E$10:$E$150,Estoque!$C143)),\"ERRO\")","v":""},{"$f":"IFERROR(IF(K143=\"\",\"\",SUMIFS(Inventário!$N$10:$N$150,Inventário!$D$10:$D$150,Estoque!L$10,Inventário!$E$10:$E$150,Estoque!$C143)),\"ERRO\")","v":""},{"$f":"IFERROR(IF(L143=\"\",\"\",SUMIFS(Inventário!$N$10:$N$150,Inventário!$D$10:$D$150,Estoque!M$10,Inventário!$E$10:$E$150,Estoque!$C143)),\"ERRO\")","v":""},{"$f":"IFERROR(IF(M143=\"\",\"\",SUMIFS(Inventário!$N$10:$N$150,Inventário!$D$10:$D$150,Estoque!N$10,Inventário!$E$10:$E$150,Estoque!$C143)),\"ERRO\")","v":""},{"$f":"IFERROR(IF(N143=\"\",\"\",SUMIFS(Inventário!$N$10:$N$150,Inventário!$D$10:$D$150,Estoque!O$10,Inventário!$E$10:$E$150,Estoque!$C143)),\"ERRO\")","v":""},null,null,null,{"$f":"Inventário!$E140","v":0}]
[null,132,{"$f":"IF('Cadastro de Produtos'!C136=\"\",\"\",VLOOKUP(B144,'Cadastro de Produtos'!$B$5:$C$204,2,0))","v":""},{"$f":"IFERROR(IF(C144=\"\",\"\",SUMIFS(Inventário!$N$10:$N$150,Inventário!$D$10:$D$150,Estoque!D$10,Inventário!$E$10:$E$150,Estoque!$C144)),\"ERRO\")","v":""},{"$f":"IFERROR(IF(D144=\"\",\"\",SUMIFS(Inventário!$N$10:$N$150,Inventário!$D$10:$D$150,Estoque!E$10,Inventário!$E$10:$E$150,Estoque!$C144)),\"ERRO\")","v":""},{"$f":"IFERROR(IF(E144=\"\",\"\",SUMIFS(Inventário!$N$10:$N$150,Inventário!$D$10:$D$150,Estoque!F$10,Inventário!$E$10:$E$150,Estoque!$C144)),\"ERRO\")","v":""},{"$f":"IFERROR(IF(F144=\"\",\"\",SUMIFS(Inventário!$N$10:$N$150,Inventário!$D$10:$D$150,Estoque!G$10,Inventário!$E$10:$E$150,Estoque!$C144)),\"ERRO\")","v":""},{"$f":"IFERROR(IF(G144=\"\",\"\",SUMIFS(Inventário!$N$10:$N$150,Inventário!$D$10:$D$150,Estoque!H$10,Inventário!$E$10:$E$150,Estoque!$C144)),\"ERRO\")","v":""},{"$f":"IFERROR(IF(H144=\"\",\"\",SUMIFS(Inventário!$N$10:$N$150,Inventário!$D$10:$D$150,Estoque!I$10,Inventário!$E$10:$E$150,Estoque!$C144)),\"ERRO\")","v":""},{"$f":"IFERROR(IF(I144=\"\",\"\",SUMIFS(Inventário!$N$10:$N$150,Inventário!$D$10:$D$150,Estoque!J$10,Inventário!$E$10:$E$150,Estoque!$C144)),\"ERRO\")","v":""},{"$f":"IFERROR(IF(J144=\"\",\"\",SUMIFS(Inventário!$N$10:$N$150,Inventário!$D$10:$D$150,Estoque!K$10,Inventário!$E$10:$E$150,Estoque!$C144)),\"ERRO\")","v":""},{"$f":"IFERROR(IF(K144=\"\",\"\",SUMIFS(Inventário!$N$10:$N$150,Inventário!$D$10:$D$150,Estoque!L$10,Inventário!$E$10:$E$150,Estoque!$C144)),\"ERRO\")","v":""},{"$f":"IFERROR(IF(L144=\"\",\"\",SUMIFS(Inventário!$N$10:$N$150,Inventário!$D$10:$D$150,Estoque!M$10,Inventário!$E$10:$E$150,Estoque!$C144)),\"ERRO\")","v":""},{"$f":"IFERROR(IF(M144=\"\",\"\",SUMIFS(Inventário!$N$10:$N$150,Inventário!$D$10:$D$150,Estoque!N$10,Inventário!$E$10:$E$150,Estoque!$C144)),\"ERRO\")","v":""},{"$f":"IFERROR(IF(N144=\"\",\"\",SUMIFS(Inventário!$N$10:$N$150,Inventário!$D$10:$D$150,Estoque!O$10,Inventário!$E$10:$E$150,Estoque!$C144)),\"ERRO\")","v":""},null,null,null,{"$f":"Inventário!$E141","v":0}]
[null,133,{"$f":"IF('Cadastro de Produtos'!C137=\"\",\"\",VLOOKUP(B145,'Cadastro de Produtos'!$B$5:$C$204,2,0))","v":""},{"$f":"IFERROR(IF(C145=\"\",\"\",SUMIFS(Inventário!$N$10:$N$150,Inventário!$D$10:$D$150,Estoque!D$10,Inventário!$E$10:$E$150,Estoque!$C145)),\"ERRO\")","v":""},{"$f":"IFERROR(IF(D145=\"\",\"\",SUMIFS(Inventário!$N$10:$N$150,Inventário!$D$10:$D$150,Estoque!E$10,Inventário!$E$10:$E$150,Estoque!$C145)),\"ERRO\")","v":""},{"$f":"IFERROR(IF(E145=\"\",\"\",SUMIFS(Inventário!$N$10:$N$150,Inventário!$D$10:$D$150,Estoque!F$10,Inventário!$E$10:$E$150,Estoque!$C145)),\"ERRO\")","v":""},{"$f":"IFERROR(IF(F145=\"\",\"\",SUMIFS(Inventário!$N$10:$N$150,Inventário!$D$10:$D$150,Estoque!G$10,Inventário!$E$10:$E$150,Estoque!$C145)),\"ERRO\")","v":""},{"$f":"IFERROR(IF(G145=\"\",\"\",SUMIFS(Inventário!$N$10:$N$150,Inventário!$D$10:$D$150,Estoque!H$10,Inventário!$E$10:$E$150,Estoque!$C145)),\"ERRO\")","v":""},{"$f":"IFERROR(IF(H145=\"\",\"\",SUMIFS(Inventário!$N$10:$N$150,Inventário!$D$10:$D$150,Estoque!I$10,Inventário!$E$10:$E$150,Estoque!$C145)),\"ERRO\")","v":""},{"$f":"IFERROR(IF(I145=\"\",\"\",SUMIFS(Inventário!$N$10:$N$150,Inventário!$D$10:$D$150,Estoque!J$10,Inventário!$E$10:$E$150,Estoque!$C145)),\"ERRO\")","v":""},{"$f":"IFERROR(IF(J145=\"\",\"\",SUMIFS(Inventário!$N$10:$N$150,Inventário!$D$10:$D$150,Estoque!K$10,Inventário!$E$10:$E$150,Estoque!$C145)),\"ERRO\")","v":""},{"$f":"IFERROR(IF(K145=\"\",\"\",SUMIFS(Inventário!$N$10:$N$150,Inventário!$D$10:$D$150,Estoque!L$10,Inventário!$E$10:$E$150,Estoque!$C145)),\"ERRO\")","v":""},{"$f":"IFERROR(IF(L145=\"\",\"\",SUMIFS(Inventário!$N$10:$N$150,Inventário!$D$10:$D$150,Estoque!M$10,Inventário!$E$10:$E$150,Estoque!$C145)),\"ERRO\")","v":""},{"$f":"IFERROR(IF(M145=\"\",\"\",SUMIFS(Inventário!$N$10:$N$150,Inventário!$D$10:$D$150,Estoque!N$10,Inventário!$E$10:$E$150,Estoque!$C145)),\"ERRO\")","v":""},{"$f":"IFERROR(IF(N145=\"\",\"\",SUMIFS(Inventário!$N$10:$N$150,Inventário!$D$10:$D$150,Estoque!O$10,Inventário!$E$10:$E$150,Estoque!$C145)),\"ERRO\")","v":""},null,null,null,{"$f":"Inventário!$E142","v":0}]
[null,134,{"$f":"IF('Cadastro de Produtos'!C138=\"\",\"\",VLOOKUP(B146,'Cadastro de Produtos'!$B$5:$C$204,2,0))","v":""},{"$f":"IFERROR(IF(C146=\"\",\"\",SUMIFS(Inventário!$N$10:$N$150,Inventário!$D$10:$D$150,Estoque!D$10,Inventário!$E$10:$E$150,Estoque!$C146)),\"ERRO\")","v":""},{"$f":"IFERROR(IF(D146=\"\",\"\",SUMIFS(Inventário!$N$10:$N$150,Inventário!$D$10:$D$150,Estoque!E$10,Inventário!$E$10:$E$150,Estoque!$C146)),\"ERRO\")","v":""},{"$f":"IFERROR(IF(E146=\"\",\"\",SUMIFS(Inventário!$N$10:$N$150,Inventário!$D$10:$D$150,Estoque!F$10,Inventário!$E$10:$E$150,Estoque!$C146)),\"ERRO\")","v":""},{"$f":"IFERROR(IF(F146=\"\",\"\",SUMIFS(Inventário!$N$10:$N$150,Inventário!$D$10:$D$150,Estoque!G$10,Inventário!$E$10:$E$150,Estoque!$C146)),\"ERRO\")","v":""},{"$f":"IFERROR(IF(G146=\"\",\"\",SUMIFS(Inventário!$N$10:$N$150,Inventário!$D$10:$D$150,Estoque!H$10,Inventário!$E$10:$E$150,Estoque!$C146)),\"ERRO\")","v":""},{"$f":"IFERROR(IF(H146=\"\",\"\",SUMIFS(Inventário!$N$10:$N$150,Inventário!$D$10:$D$150,Estoque!I$10,Inventário!$E$10:$E$150,Estoque!$C146)),\"ERRO\")","v":""},{"$f":"IFERROR(IF(I146=\"\",\"\",SUMIFS(Inventário!$N$10:$N$150,Inventário!$D$10:$D$150,Estoque!J$10,Inventário!$E$10:$E$150,Estoque!$C146)),\"ERRO\")","v":""},{"$f":"IFERROR(IF(J146=\"\",\"\",SUMIFS(Inventário!$N$10:$N$150,Inventário!$D$10:$D$150,Estoque!K$10,Inventário!$E$10:$E$150,Estoque!$C146)),\"ERRO\")","v":""},{"$f":"IFERROR(IF(K146=\"\",\"\",SUMIFS(Inventário!$N$10:$N$150,Inventário!$D$10:$D$150,Estoque!L$10,Inventário!$E$10:$E$150,Estoque!$C146)),\"ERRO\")","v":""},{"$f":"IFERROR(IF(L146=\"\",\"\",SUMIFS(Inventário!$N$10:$N$150,Inventário!$D$10:$D$150,Estoque!M$10,Inventário!$E$10:$E$150,Estoque!$C146)),\"ERRO\")","v":""},{"$f":"IFERROR(IF(M146=\"\",\"\",SUMIFS(Inventário!$N$10:$N$150,Inventário!$D$10:$D$150,Estoque!N$10,Inventário!$E$10:$E$150,Estoque!$C146)),\"ERRO\")","v":""},{"$f":"IFERROR(IF(N146=\"\",\"\",SUMIFS(Inventário!$N$10:$N$150,Inventário!$D$10:$D$150,Estoque!O$10,Inventário!$E$10:$E$150,Estoque!$C146)),\"ERRO\")","v":""},null,null,null,{"$f":"Inventário!$E143","v":0}]
[null,135,{"$f":"IF('Cadastro de Produtos'!C139=\"\",\"\",VLOOKUP(B147,'Cadastro de Produtos'!$B$5:$C$204,2,0))","v":""},{"$f":"IFERROR(IF(C147=\"\",\"\",SUMIFS(Inventário!$N$10:$N$150,Inventário!$D$10:$D$150,Estoque!D$10,Inventário!$E$10:$E$150,Estoque!$C147)),\"ERRO\")","v":""},{"$f":"IFERROR(IF(D147=\"\",\"\",SUMIFS(Inventário!$N$10:$N$150,Inventário!$D$10:$D$150,Estoque!E$10,Inventário!$E$10:$E$150,Estoque!$C147)),\"ERRO\")","v":""},{"$f":"IFERROR(IF(E147=\"\",\"\",SUMIFS(Inventário!$N$10:$N$150,Inventário!$D$10:$D$150,Estoque!F$10,Inventário!$E$10:$E$150,Estoque!$C147)),\"ERRO\")","v":""},{"$f":"IFERROR(IF(F147=\"\",\"\",SUMIFS(Inventário!$N$10:$N$150,Inventário!$D$10:$D$150,Estoque!G$10,Inventário!$E$10:$E$150,Estoque!$C147)),\"ERRO\")","v":""},{"$f":"IFERROR(IF(G147=\"\",\"\",SUMIFS(Inventário!$N$10:$N$150,Inventário!$D$10:$D$150,Estoque!H$10,Inventário!$E$10:$E$150,Estoque!$C147)),\"ERRO\")","v":""},{"$f":"IFERROR(IF(H147=\"\",\"\",SUMIFS(Inventário!$N$10:$N$150,Inventário!$D$10:$D$150,Estoque!I$10,Inventário!$E$10:$E$150,Estoque!$C147)),\"ERRO\")","v":""},{"$f":"IFERROR(IF(I147=\"\",\"\",SUMIFS(Inventário!$N$10:$N$150,Inventário!$D$10:$D$150,Estoque!J$10,Inventário!$E$10:$E$150,Estoque!$C147)),\"ERRO\")","v":""},{"$f":"IFERROR(IF(J147=\"\",\"\",SUMIFS(Inventário!$N$10:$N$150,Inventário!$D$10:$D$150,Estoque!K$10,Inventário!$E$10:$E$150,Estoque!$C147)),\"ERRO\")","v":""},{"$f":"IFERROR(IF(K147=\"\",\"\",SUMIFS(Inventário!$N$10:$N$150,Inventário!$D$10:$D$150,Estoque!L$10,Inventário!$E$10:$E$150,Estoque!$C147)),\"ERRO\")","v":""},{"$f":"IFERROR(IF(L147=\"\",\"\",SUMIFS(Inventário!$N$10:$N$150,Inventário!$D$10:$D$150,Estoque!M$10,Inventário!$E$10:$E$150,Estoque!$C147)),\"ERRO\")","v":""},{"$f":"IFERROR(IF(M147=\"\",\"\",SUMIFS(Inventário!$N$10:$N$150,Inventário!$D$10:$D$150,Estoque!N$10,Inventário!$E$10:$E$150,Estoque!$C147)),\"ERRO\")","v":""},{"$f":"IFERROR(IF(N147=\"\",\"\",SUMIFS(Inventário!$N$10:$N$150,Inventário!$D$10:$D$150,Estoque!O$10,Inventário!$E$10:$E$150,Estoque!$C147)),\"ERRO\")","v":""},null,null,null,{"$f":"Inventário!$E144","v":0}]
[null,136,{"$f":"IF('Cadastro de Produtos'!C140=\"\",\"\",VLOOKUP(B148,'Cadastro de Produtos'!$B$5:$C$204,2,0))","v":""},{"$f":"IFERROR(IF(C148=\"\",\"\",SUMIFS(Inventário!$N$10:$N$150,Inventário!$D$10:$D$150,Estoque!D$10,Inventário!$E$10:$E$150,Estoque!$C148)),\"ERRO\")","v":""},{"$f":"IFERROR(IF(D148=\"\",\"\",SUMIFS(Inventário!$N$10:$N$150,Inventário!$D$10:$D$150,Estoque!E$10,Inventário!$E$10:$E$150,Estoque!$C148)),\"ERRO\")","v":""},{"$f":"IFERROR(IF(E148=\"\",\"\",SUMIFS(Inventário!$N$10:$N$150,Inventário!$D$10:$D$150,Estoque!F$10,Inventário!$E$10:$E$150,Estoque!$C148)),\"ERRO\")","v":""},{"$f":"IFERROR(IF(F148=\"\",\"\",SUMIFS(Inventário!$N$10:$N$150,Inventário!$D$10:$D$150,Estoque!G$10,Inventário!$E$10:$E$150,Estoque!$C148)),\"ERRO\")","v":""},{"$f":"IFERROR(IF(G148=\"\",\"\",SUMIFS(Inventário!$N$10:$N$150,Inventário!$D$10:$D$150,Estoque!H$10,Inventário!$E$10:$E$150,Estoque!$C148)),\"ERRO\")","v":""},{"$f":"IFERROR(IF(H148=\"\",\"\",SUMIFS(Inventário!$N$10:$N$150,Inventário!$D$10:$D$150,Estoque!I$10,Inventário!$E$10:$E$150,Estoque!$C148)),\"ERRO\")","v":""},{"$f":"IFERROR(IF(I148=\"\",\"\",SUMIFS(Inventário!$N$10:$N$150,Inventário!$D$10:$D$150,Estoque!J$10,Inventário!$E$10:$E$150,Estoque!$C148)),\"ERRO\")","v":""},{"$f":"IFERROR(IF(J148=\"\",\"\",SUMIFS(Inventário!$N$10:$N$150,Inventário!$D$10:$D$150,Estoque!K$10,Inventário!$E$10:$E$150,Estoque!$C148)),\"ERRO\")","v":""},{"$f":"IFERROR(IF(K148=\"\",\"\",SUMIFS(Inventário!$N$10:$N$150,Inventário!$D$10:$D$150,Estoque!L$10,Inventário!$E$10:$E$150,Estoque!$C148)),\"ERRO\")","v":""},{"$f":"IFERROR(IF(L148=\"\",\"\",SUMIFS(Inventário!$N$10:$N$150,Inventário!$D$10:$D$150,Estoque!M$10,Inventário!$E$10:$E$150,Estoque!$C148)),\"ERRO\")","v":""},{"$f":"IFERROR(IF(M148=\"\",\"\",SUMIFS(Inventário!$N$10:$N$150,Inventário!$D$10:$D$150,Estoque!N$10,Inventário!$E$10:$E$150,Estoque!$C148)),\"ERRO\")","v":""},{"$f":"IFERROR(IF(N148=\"\",\"\",SUMIFS(Inventário!$N$10:$N$150,Inventário!$D$10:$D$150,Estoque!O$10,Inventário!$E$10:$E$150,Estoque!$C148)),\"ERRO\")","v":""},null,null,null,{"$f":"Inventário!$E145","v":0}]
[null,137,{"$f":"IF('Cadastro de Produtos'!C141=\"\",\"\",VLOOKUP(B149,'Cadastro de Produtos'!$B$5:$C$204,2,0))","v":""},{"$f":"IFERROR(IF(C149=\"\",\"\",SUMIFS(Inventário!$N$10:$N$150,Inventário!$D$10:$D$150,Estoque!D$10,Inventário!$E$10:$E$150,Estoque!$C149)),\"ERRO\")","v":""},{"$f":"IFERROR(IF(D149=\"\",\"\",SUMIFS(Inventário!$N$10:$N$150,Inventário!$D$10:$D$150,Estoque!E$10,Inventário!$E$10:$E$150,Estoque!$C149)),\"ERRO\")","v":""},{"$f":"IFERROR(IF(E149=\"\",\"\",SUMIFS(Inventário!$N$10:$N$150,Inventário!$D$10:$D$150,Estoque!F$10,Inventário!$E$10:$E$150,Estoque!$C149)),\"ERRO\")","v":""},{"$f":"IFERROR(IF(F149=\"\",\"\",SUMIFS(Inventário!$N$10:$N$150,Inventário!$D$10:$D$150,Estoque!G$10,Inventário!$E$10:$E$150,Estoque!$C149)),\"ERRO\")","v":""},{"$f":"IFERROR(IF(G149=\"\",\"\",SUMIFS(Inventário!$N$10:$N$150,Inventário!$D$10:$D$150,Estoque!H$10,Inventário!$E$10:$E$150,Estoque!$C149)),\"ERRO\")","v":""},{"$f":"IFERROR(IF(H149=\"\",\"\",SUMIFS(Inventário!$N$10:$N$150,Inventário!$D$10:$D$150,Estoque!I$10,Inventário!$E$10:$E$150,Estoque!$C149)),\"ERRO\")","v":""},{"$f":"IFERROR(IF(I149=\"\",\"\",SUMIFS(Inventário!$N$10:$N$150,Inventário!$D$10:$D$150,Estoque!J$10,Inventário!$E$10:$E$150,Estoque!$C149)),\"ERRO\")","v":""},{"$f":"IFERROR(IF(J149=\"\",\"\",SUMIFS(Inventário!$N$10:$N$150,Inventário!$D$10:$D$150,Estoque!K$10,Inventário!$E$10:$E$150,Estoque!$C149)),\"ERRO\")","v":""},{"$f":"IFERROR(IF(K149=\"\",\"\",SUMIFS(Inventário!$N$10:$N$150,Inventário!$D$10:$D$150,Estoque!L$10,Inventário!$E$10:$E$150,Estoque!$C149)),\"ERRO\")","v":""},{"$f":"IFERROR(IF(L149=\"\",\"\",SUMIFS(Inventário!$N$10:$N$150,Inventário!$D$10:$D$150,Estoque!M$10,Inventário!$E$10:$E$150,Estoque!$C149)),\"ERRO\")","v":""},{"$f":"IFERROR(IF(M149=\"\",\"\",SUMIFS(Inventário!$N$10:$N$150,Inventário!$D$10:$D$150,Estoque!N$10,Inventário!$E$10:$E$150,Estoque!$C149)),\"ERRO\")","v":""},{"$f":"IFERROR(IF(N149=\"\",\"\",SUMIFS(Inventário!$N$10:$N$150,Inventário!$D$10:$D$150,Estoque!O$10,Inventário!$E$10:$E$150,Estoque!$C149)),\"ERRO\")","v":""},null,null,null,{"$f":"Inventário!$E146","v":0}]
[null,138,{"$f":"IF('Cadastro de Produtos'!C142=\"\",\"\",VLOOKUP(B150,'Cadastro de Produtos'!$B$5:$C$204,2,0))","v":""},{"$f":"IFERROR(IF(C150=\"\",\"\",SUMIFS(Inventário!$N$10:$N$150,Inventário!$D$10:$D$150,Estoque!D$10,Inventário!$E$10:$E$150,Estoque!$C150)),\"ERRO\")","v":""},{"$f":"IFERROR(IF(D150=\"\",\"\",SUMIFS(Inventário!$N$10:$N$150,Inventário!$D$10:$D$150,Estoque!E$10,Inventário!$E$10:$E$150,Estoque!$C150)),\"ERRO\")","v":""},{"$f":"IFERROR(IF(E150=\"\",\"\",SUMIFS(Inventário!$N$10:$N$150,Inventário!$D$10:$D$150,Estoque!F$10,Inventário!$E$10:$E$150,Estoque!$C150)),\"ERRO\")","v":""},{"$f":"IFERROR(IF(F150=\"\",\"\",SUMIFS(Inventário!$N$10:$N$150,Inventário!$D$10:$D$150,Estoque!G$10,Inventário!$E$10:$E$150,Estoque!$C150)),\"ERRO\")","v":""},{"$f":"IFERROR(IF(G150=\"\",\"\",SUMIFS(Inventário!$N$10:$N$150,Inventário!$D$10:$D$150,Estoque!H$10,Inventário!$E$10:$E$150,Estoque!$C150)),\"ERRO\")","v":""},{"$f":"IFERROR(IF(H150=\"\",\"\",SUMIFS(Inventário!$N$10:$N$150,Inventário!$D$10:$D$150,Estoque!I$10,Inventário!$E$10:$E$150,Estoque!$C150)),\"ERRO\")","v":""},{"$f":"IFERROR(IF(I150=\"\",\"\",SUMIFS(Inventário!$N$10:$N$150,Inventário!$D$10:$D$150,Estoque!J$10,Inventário!$E$10:$E$150,Estoque!$C150)),\"ERRO\")","v":""},{"$f":"IFERROR(IF(J150=\"\",\"\",SUMIFS(Inventário!$N$10:$N$150,Inventário!$D$10:$D$150,Estoque!K$10,Inventário!$E$10:$E$150,Estoque!$C150)),\"ERRO\")","v":""},{"$f":"IFERROR(IF(K150=\"\",\"\",SUMIFS(Inventário!$N$10:$N$150,Inventário!$D$10:$D$150,Estoque!L$10,Inventário!$E$10:$E$150,Estoque!$C150)),\"ERRO\")","v":""},{"$f":"IFERROR(IF(L150=\"\",\"\",SUMIFS(Inventário!$N$10:$N$150,Inventário!$D$10:$D$150,Estoque!M$10,Inventário!$E$10:$E$150,Estoque!$C150)),\"ERRO\")","v":""},{"$f":"IFERROR(IF(M150=\"\",\"\",SUMIFS(Inventário!$N$10:$N$150,Inventário!$D$10:$D$150,Estoque!N$10,Inventário!$E$10:$E$150,Estoque!$C150)),\"ERRO\")","v":""},{"$f":"IFERROR(IF(N150=\"\",\"\",SUMIFS(Inventário!$N$10:$N$150,Inventário!$D$10:$D$150,Estoque!O$10,Inventário!$E$10:$E$150,Estoque!$C150)),\"ERRO\")","v":""},null,null,null,{"$f":"Inventário!$E147","v":0}]
[null,139,{"$f":"IF('Cadastro de Produtos'!C143=\"\",\"\",VLOOKUP(B151,'Cadastro de Produtos'!$B$5:$C$204,2,0))","v":""},{"$f":"IFERROR(IF(C151=\"\",\"\",SUMIFS(Inventário!$N$10:$N$150,Inventário!$D$10:$D$150,Estoque!D$10,Inventário!$E$10:$E$150,Estoque!$C151)),\"ERRO\")","v":""},{"$f":"IFERROR(IF(D151=\"\",\"\",SUMIFS(Inventário!$N$10:$N$150,Inventário!$D$10:$D$150,Estoque!E$10,Inventário!$E$10:$E$150,Estoque!$C151)),\"ERRO\")","v":""},{"$f":"IFERROR(IF(E151=\"\",\"\",SUMIFS(Inventário!$N$10:$N$150,Inventário!$D$10:$D$150,Estoque!F$10,Inventário!$E$10:$E$150,Estoque!$C151)),\"ERRO\")","v":""},{"$f":"IFERROR(IF(F151=\"\",\"\",SUMIFS(Inventário!$N$10:$N$150,Inventário!$D$10:$D$150,Estoque!G$10,Inventário!$E$10:$E$150,Estoque!$C151)),\"ERRO\")","v":""},{"$f":"IFERROR(IF(G151=\"\",\"\",SUMIFS(Inventário!$N$10:$N$150,Inventário!$D$10:$D$150,Estoque!H$10,Inventário!$E$10:$E$150,Estoque!$C151)),\"ERRO\")","v":""},{"$f":"IFERROR(IF(H151=\"\",\"\",SUMIFS(Inventário!$N$10:$N$150,Inventário!$D$10:$D$150,Estoque!I$10,Inventário!$E$10:$E$150,Estoque!$C151)),\"ERRO\")","v":""},{"$f":"IFERROR(IF(I151=\"\",\"\",SUMIFS(Inventário!$N$10:$N$150,Inventário!$D$10:$D$150,Estoque!J$10,Inventário!$E$10:$E$150,Estoque!$C151)),\"ERRO\")","v":""},{"$f":"IFERROR(IF(J151=\"\",\"\",SUMIFS(Inventário!$N$10:$N$150,Inventário!$D$10:$D$150,Estoque!K$10,Inventário!$E$10:$E$150,Estoque!$C151)),\"ERRO\")","v":""},{"$f":"IFERROR(IF(K151=\"\",\"\",SUMIFS(Inventário!$N$10:$N$150,Inventário!$D$10:$D$150,Estoque!L$10,Inventário!$E$10:$E$150,Estoque!$C151)),\"ERRO\")","v":""},{"$f":"IFERROR(IF(L151=\"\",\"\",SUMIFS(Inventário!$N$10:$N$150,Inventário!$D$10:$D$150,Estoque!M$10,Inventário!$E$10:$E$150,Estoque!$C151)),\"ERRO\")","v":""},{"$f":"IFERROR(IF(M151=\"\",\"\",SUMIFS(Inventário!$N$10:$N$150,Inventário!$D$10:$D$150,Estoque!N$10,Inventário!$E$10:$E$150,Estoque!$C151)),\"ERRO\")","v":""},{"$f":"IFERROR(IF(N151=\"\",\"\",SUMIFS(Inventário!$N$10:$N$150,Inventário!$D$10:$D$150,Estoque!O$10,Inventário!$E$10:$E$150,Estoque!$C151)),\"ERRO\")","v":""},null,null,null,{"$f":"Inventário!$E148","v":0}]
[null,140,{"$f":"IF('Cadastro de Produtos'!C144=\"\",\"\",VLOOKUP(B152,'Cadastro de Produtos'!$B$5:$C$204,2,0))","v":""},{"$f":"IFERROR(IF(C152=\"\",\"\",SUMIFS(Inventário!$N$10:$N$150,Inventário!$D$10:$D$150,Estoque!D$10,Inventário!$E$10:$E$150,Estoque!$C152)),\"ERRO\")","v":""},{"$f":"IFERROR(IF(D152=\"\",\"\",SUMIFS(Inventário!$N$10:$N$150,Inventário!$D$10:$D$150,Estoque!E$10,Inventário!$E$10:$E$150,Estoque!$C152)),\"ERRO\")","v":""},{"$f":"IFERROR(IF(E152=\"\",\"\",SUMIFS(Inventário!$N$10:$N$150,Inventário!$D$10:$D$150,Estoque!F$10,Inventário!$E$10:$E$150,Estoque!$C152)),\"ERRO\")","v":""},{"$f":"IFERROR(IF(F152=\"\",\"\",SUMIFS(Inventário!$N$10:$N$150,Inventário!$D$10:$D$150,Estoque!G$10,Inventário!$E$10:$E$150,Estoque!$C152)),\"ERRO\")","v":""},{"$f":"IFERROR(IF(G152=\"\",\"\",SUMIFS(Inventário!$N$10:$N$150,Inventário!$D$10:$D$150,Estoque!H$10,Inventário!$E$10:$E$150,Estoque!$C152)),\"ERRO\")","v":""},{"$f":"IFERROR(IF(H152=\"\",\"\",SUMIFS(Inventário!$N$10:$N$150,Inventário!$D$10:$D$150,Estoque!I$10,Inventário!$E$10:$E$150,Estoque!$C152)),\"ERRO\")","v":""},{"$f":"IFERROR(IF(I152=\"\",\"\",SUMIFS(Inventário!$N$10:$N$150,Inventário!$D$10:$D$150,Estoque!J$10,Inventário!$E$10:$E$150,Estoque!$C152)),\"ERRO\")","v":""},{"$f":"IFERROR(IF(J152=\"\",\"\",SUMIFS(Inventário!$N$10:$N$150,Inventário!$D$10:$D$150,Estoque!K$10,Inventário!$E$10:$E$150,Estoque!$C152)),\"ERRO\")","v":""},{"$f":"IFERROR(IF(K152=\"\",\"\",SUMIFS(Inventário!$N$10:$N$150,Inventário!$D$10:$D$150,Estoque!L$10,Inventário!$E$10:$E$150,Estoque!$C152)),\"ERRO\")","v":""},{"$f":"IFERROR(IF(L152=\"\",\"\",SUMIFS(Inventário!$N$10:$N$150,Inventário!$D$10:$D$150,Estoque!M$10,Inventário!$E$10:$E$150,Estoque!$C152)),\"ERRO\")","v":""},{"$f":"IFERROR(IF(M152=\"\",\"\",SUMIFS(Inventário!$N$10:$N$150,Inventário!$D$10:$D$150,Estoque!N$10,Inventário!$E$10:$E$150,Estoque!$C152)),\"ERRO\")","v":""},{"$f":"IFERROR(IF(N152=\"\",\"\",SUMIFS(Inventário!$N$10:$N$150,Inventário!$D$10:$D$150,Estoque!O$10,Inventário!$E$10:$E$150,Estoque!$C152)),\"ERRO\")","v":""},null,null,null,{"$f":"Inventário!$E149","v":0}]
[null,141,{"$f":"IF('Cadastro de Produtos'!C145=\"\",\"\",VLOOKUP(B153,'Cadastro de Produtos'!$B$5:$C$204,2,0))","v":""},{"$f":"IFERROR(IF(C153=\"\",\"\",SUMIFS(Inventário!$N$10:$N$150,Inventário!$D$10:$D$150,Estoque!D$10,Inventário!$E$10:$E$150,Estoque!$C153)),\"ERRO\")","v":""},{"$f":"IFERROR(IF(D153=\"\",\"\",SUMIFS(Inventário!$N$10:$N$150,Inventário!$D$10:$D$150,Estoque!E$10,Inventário!$E$10:$E$150,Estoque!$C153)),\"ERRO\")","v":""},{"$f":"IFERROR(IF(E153=\"\",\"\",SUMIFS(Inventário!$N$10:$N$150,Inventário!$D$10:$D$150,Estoque!F$10,Inventário!$E$10:$E$150,Estoque!$C153)),\"ERRO\")","v":""},{"$f":"IFERROR(IF(F153=\"\",\"\",SUMIFS(Inventário!$N$10:$N$150,Inventário!$D$10:$D$150,Estoque!G$10,Inventário!$E$10:$E$150,Estoque!$C153)),\"ERRO\")","v":""},{"$f":"IFERROR(IF(G153=\"\",\"\",SUMIFS(Inventário!$N$10:$N$150,Inventário!$D$10:$D$150,Estoque!H$10,Inventário!$E$10:$E$150,Estoque!$C153)),\"ERRO\")","v":""},{"$f":"IFERROR(IF(H153=\"\",\"\",SUMIFS(Inventário!$N$10:$N$150,Inventário!$D$10:$D$150,Estoque!I$10,Inventário!$E$10:$E$150,Estoque!$C153)),\"ERRO\")","v":""},{"$f":"IFERROR(IF(I153=\"\",\"\",SUMIFS(Inventário!$N$10:$N$150,Inventário!$D$10:$D$150,Estoque!J$10,Inventário!$E$10:$E$150,Estoque!$C153)),\"ERRO\")","v":""},{"$f":"IFERROR(IF(J153=\"\",\"\",SUMIFS(Inventário!$N$10:$N$150,Inventário!$D$10:$D$150,Estoque!K$10,Inventário!$E$10:$E$150,Estoque!$C153)),\"ERRO\")","v":""},{"$f":"IFERROR(IF(K153=\"\",\"\",SUMIFS(Inventário!$N$10:$N$150,Inventário!$D$10:$D$150,Estoque!L$10,Inventário!$E$10:$E$150,Estoque!$C153)),\"ERRO\")","v":""},{"$f":"IFERROR(IF(L153=\"\",\"\",SUMIFS(Inventário!$N$10:$N$150,Inventário!$D$10:$D$150,Estoque!M$10,Inventário!$E$10:$E$150,Estoque!$C153)),\"ERRO\")","v":""},{"$f":"IFERROR(IF(M153=\"\",\"\",SUMIFS(Inventário!$N$10:$N$150,Inventário!$D$10:$D$150,Estoque!N$10,Inventário!$E$10:$E$150,Estoque!$C153)),\"ERRO\")","v":""},{"$f":"IFERROR(IF(N153=\"\",\"\",SUMIFS(Inventário!$N$10:$N$150,Inventário!$D$10:$D$150,Estoque!O$10,Inventário!$E$10:$E$150,Estoque!$C153)),\"ERRO\")","v":""}]
[null,142,{"$f":"IF('Cadastro de Produtos'!C146=\"\",\"\",VLOOKUP(B154,'Cadastro de Produtos'!$B$5:$C$204,2,0))","v":""},{"$f":"IFERROR(IF(C154=\"\",\"\",SUMIFS(Inventário!$N$10:$N$150,Inventário!$D$10:$D$150,Estoque!D$10,Inventário!$E$10:$E$150,Estoque!$C154)),\"ERRO\")","v":""},{"$f":"IFERROR(IF(D154=\"\",\"\",SUMIFS(Inventário!$N$10:$N$150,Inventário!$D$10:$D$150,Estoque!E$10,Inventário!$E$10:$E$150,Estoque!$C154)),\"ERRO\")","v":""},{"$f":"IFERROR(IF(E154=\"\",\"\",SUMIFS(Inventário!$N$10:$N$150,Inventário!$D$10:$D$150,Estoque!F$10,Inventário!$E$10:$E$150,Estoque!$C154)),\"ERRO\")","v":""},{"$f":"IFERROR(IF(F154=\"\",\"\",SUMIFS(Inventário!$N$10:$N$150,Inventário!$D$10:$D$150,Estoque!G$10,Inventário!$E$10:$E$150,Estoque!$C154)),\"ERRO\")","v":""},{"$f":"IFERROR(IF(G154=\"\",\"\",SUMIFS(Inventário!$N$10:$N$150,Inventário!$D$10:$D$150,Estoque!H$10,Inventário!$E$10:$E$150,Estoque!$C154)),\"ERRO\")","v":""},{"$f":"IFERROR(IF(H154=\"\",\"\",SUMIFS(Inventário!$N$10:$N$150,Inventário!$D$10:$D$150,Estoque!I$10,Inventário!$E$10:$E$150,Estoque!$C154)),\"ERRO\")","v":""},{"$f":"IFERROR(IF(I154=\"\",\"\",SUMIFS(Inventário!$N$10:$N$150,Inventário!$D$10:$D$150,Estoque!J$10,Inventário!$E$10:$E$150,Estoque!$C154)),\"ERRO\")","v":""},{"$f":"IFERROR(IF(J154=\"\",\"\",SUMIFS(Inventário!$N$10:$N$150,Inventário!$D$10:$D$150,Estoque!K$10,Inventário!$E$10:$E$150,Estoque!$C154)),\"ERRO\")","v":""},{"$f":"IFERROR(IF(K154=\"\",\"\",SUMIFS(Inventário!$N$10:$N$150,Inventário!$D$10:$D$150,Estoque!L$10,Inventário!$E$10:$E$150,Estoque!$C154)),\"ERRO\")","v":""},{"$f":"IFERROR(IF(L154=\"\",\"\",SUMIFS(Inventário!$N$10:$N$150,Inventário!$D$10:$D$150,Estoque!M$10,Inventário!$E$10:$E$150,Estoque!$C154)),\"ERRO\")","v":""},{"$f":"IFERROR(IF(M154=\"\",\"\",SUMIFS(Inventário!$N$10:$N$150,Inventário!$D$10:$D$150,Estoque!N$10,Inventário!$E$10:$E$150,Estoque!$C154)),\"ERRO\")","v":""},{"$f":"IFERROR(IF(N154=\"\",\"\",SUMIFS(Inventário!$N$10:$N$150,Inventário!$D$10:$D$150,Estoque!O$10,Inventário!$E$10:$E$150,Estoque!$C154)),\"ERRO\")","v":""}]
[null,143,{"$f":"IF('Cadastro de Produtos'!C147=\"\",\"\",VLOOKUP(B155,'Cadastro de Produtos'!$B$5:$C$204,2,0))","v":""},{"$f":"IFERROR(IF(C155=\"\",\"\",SUMIFS(Inventário!$N$10:$N$150,Inventário!$D$10:$D$150,Estoque!D$10,Inventário!$E$10:$E$150,Estoque!$C155)),\"ERRO\")","v":""},{"$f":"IFERROR(IF(D155=\"\",\"\",SUMIFS(Inventário!$N$10:$N$150,Inventário!$D$10:$D$150,Estoque!E$10,Inventário!$E$10:$E$150,Estoque!$C155)),\"ERRO\")","v":""},{"$f":"IFERROR(IF(E155=\"\",\"\",SUMIFS(Inventário!$N$10:$N$150,Inventário!$D$10:$D$150,Estoque!F$10,Inventário!$E$10:$E$150,Estoque!$C155)),\"ERRO\")","v":""},{"$f":"IFERROR(IF(F155=\"\",\"\",SUMIFS(Inventário!$N$10:$N$150,Inventário!$D$10:$D$150,Estoque!G$10,Inventário!$E$10:$E$150,Estoque!$C155)),\"ERRO\")","v":""},{"$f":"IFERROR(IF(G155=\"\",\"\",SUMIFS(Inventário!$N$10:$N$150,Inventário!$D$10:$D$150,Estoque!H$10,Inventário!$E$10:$E$150,Estoque!$C155)),\"ERRO\")","v":""},{"$f":"IFERROR(IF(H155=\"\",\"\",SUMIFS(Inventário!$N$10:$N$150,Inventário!$D$10:$D$150,Estoque!I$10,Inventário!$E$10:$E$150,Estoque!$C155)),\"ERRO\")","v":""},{"$f":"IFERROR(IF(I155=\"\",\"\",SUMIFS(Inventário!$N$10:$N$150,Inventário!$D$10:$D$150,Estoque!J$10,Inventário!$E$10:$E$150,Estoque!$C155)),\"ERRO\")","v":""},{"$f":"IFERROR(IF(J155=\"\",\"\",SUMIFS(Inventário!$N$10:$N$150,Inventário!$D$10:$D$150,Estoque!K$10,Inventário!$E$10:$E$150,Estoque!$C155)),\"ERRO\")","v":""},{"$f":"IFERROR(IF(K155=\"\",\"\",SUMIFS(Inventário!$N$10:$N$150,Inventário!$D$10:$D$150,Estoque!L$10,Inventário!$E$10:$E$150,Estoque!$C155)),\"ERRO\")","v":""},{"$f":"IFERROR(IF(L155=\"\",\"\",SUMIFS(Inventário!$N$10:$N$150,Inventário!$D$10:$D$150,Estoque!M$10,Inventário!$E$10:$E$150,Estoque!$C155)),\"ERRO\")","v":""},{"$f":"IFERROR(IF(M155=\"\",\"\",SUMIFS(Inventário!$N$10:$N$150,Inventário!$D$10:$D$150,Estoque!N$10,Inventário!$E$10:$E$150,Estoque!$C155)),\"ERRO\")","v":""},{"$f":"IFERROR(IF(N155=\"\",\"\",SUMIFS(Inventário!$N$10:$N$150,Inventário!$D$10:$D$150,Estoque!O$10,Inventário!$E$10:$E$150,Estoque!$C155)),\"ERRO\")","v":""}]
[null,144,{"$f":"IF('Cadastro de Produtos'!C148=\"\",\"\",VLOOKUP(B156,'Cadastro de Produtos'!$B$5:$C$204,2,0))","v":""},{"$f":"IFERROR(IF(C156=\"\",\"\",SUMIFS(Inventário!$N$10:$N$150,Inventário!$D$10:$D$150,Estoque!D$10,Inventário!$E$10:$E$150,Estoque!$C156)),\"ERRO\")","v":""},{"$f":"IFERROR(IF(D156=\"\",\"\",SUMIFS(Inventário!$N$10:$N$150,Inventário!$D$10:$D$150,Estoque!E$10,Inventário!$E$10:$E$150,Estoque!$C156)),\"ERRO\")","v":""},{"$f":"IFERROR(IF(E156=\"\",\"\",SUMIFS(Inventário!$N$10:$N$150,Inventário!$D$10:$D$150,Estoque!F$10,Inventário!$E$10:$E$150,Estoque!$C156)),\"ERRO\")","v":""},{"$f":"IFERROR(IF(F156=\"\",\"\",SUMIFS(Inventário!$N$10:$N$150,Inventário!$D$10:$D$150,Estoque!G$10,Inventário!$E$10:$E$150,Estoque!$C156)),\"ERRO\")","v":""},{"$f":"IFERROR(IF(G156=\"\",\"\",SUMIFS(Inventário!$N$10:$N$150,Inventário!$D$10:$D$150,Estoque!H$10,Inventário!$E$10:$E$150,Estoque!$C156)),\"ERRO\")","v":""},{"$f":"IFERROR(IF(H156=\"\",\"\",SUMIFS(Inventário!$N$10:$N$150,Inventário!$D$10:$D$150,Estoque!I$10,Inventário!$E$10:$E$150,Estoque!$C156)),\"ERRO\")","v":""},{"$f":"IFERROR(IF(I156=\"\",\"\",SUMIFS(Inventário!$N$10:$N$150,Inventário!$D$10:$D$150,Estoque!J$10,Inventário!$E$10:$E$150,Estoque!$C156)),\"ERRO\")","v":""},{"$f":"IFERROR(IF(J156=\"\",\"\",SUMIFS(Inventário!$N$10:$N$150,Inventário!$D$10:$D$150,Estoque!K$10,Inventário!$E$10:$E$150,Estoque!$C156)),\"ERRO\")","v":""},{"$f":"IFERROR(IF(K156=\"\",\"\",SUMIFS(Inventário!$N$10:$N$150,Inventário!$D$10:$D$150,Estoque!L$10,Inventário!$E$10:$E$150,Estoque!$C156)),\"ERRO\")","v":""},{"$f":"IFERROR(IF(L156=\"\",\"\",SUMIFS(Inventário!$N$10:$N$150,Inventário!$D$10:$D$150,Estoque!M$10,Inventário!$E$10:$E$150,Estoque!$C156)),\"ERRO\")","v":""},{"$f":"IFERROR(IF(M156=\"\",\"\",SUMIFS(Inventário!$N$10:$N$150,Inventário!$D$10:$D$150,Estoque!N$10,Inventário!$E$10:$E$150,Estoque!$C156)),\"ERRO\")","v":""},{"$f":"IFERROR(IF(N156=\"\",\"\",SUMIFS(Inventário!$N$10:$N$150,Inventário!$D$10:$D$150,Estoque!O$10,Inventário!$E$10:$E$150,Estoque!$C156)),\"ERRO\")","v":""}]
[null,145,{"$f":"IF('Cadastro de Produtos'!C149=\"\",\"\",VLOOKUP(B157,'Cadastro de Produtos'!$B$5:$C$204,2,0))","v":""},{"$f":"IFERROR(IF(C157=\"\",\"\",SUMIFS(Inventário!$N$10:$N$150,Inventário!$D$10:$D$150,Estoque!D$10,Inventário!$E$10:$E$150,Estoque!$C157)),\"ERRO\")","v":""},{"$f":"IFERROR(IF(D157=\"\",\"\",SUMIFS(Inventário!$N$10:$N$150,Inventário!$D$10:$D$150,Estoque!E$10,Inventário!$E$10:$E$150,Estoque!$C157)),\"ERRO\")","v":""},{"$f":"IFERROR(IF(E157=\"\",\"\",SUMIFS(Inventário!$N$10:$N$150,Inventário!$D$10:$D$150,Estoque!F$10,Inventário!$E$10:$E$150,Estoque!$C157)),\"ERRO\")","v":""},{"$f":"IFERROR(IF(F157=\"\",\"\",SUMIFS(Inventário!$N$10:$N$150,Inventário!$D$10:$D$150,Estoque!G$10,Inventário!$E$10:$E$150,Estoque!$C157)),\"ERRO\")","v":""},{"$f":"IFERROR(IF(G157=\"\",\"\",SUMIFS(Inventário!$N$10:$N$150,Inventário!$D$10:$D$150,Estoque!H$10,Inventário!$E$10:$E$150,Estoque!$C157)),\"ERRO\")","v":""},{"$f":"IFERROR(IF(H157=\"\",\"\",SUMIFS(Inventário!$N$10:$N$150,Inventário!$D$10:$D$150,Estoque!I$10,Inventário!$E$10:$E$150,Estoque!$C157)),\"ERRO\")","v":""},{"$f":"IFERROR(IF(I157=\"\",\"\",SUMIFS(Inventário!$N$10:$N$150,Inventário!$D$10:$D$150,Estoque!J$10,Inventário!$E$10:$E$150,Estoque!$C157)),\"ERRO\")","v":""},{"$f":"IFERROR(IF(J157=\"\",\"\",SUMIFS(Inventário!$N$10:$N$150,Inventário!$D$10:$D$150,Estoque!K$10,Inventário!$E$10:$E$150,Estoque!$C157)),\"ERRO\")","v":""},{"$f":"IFERROR(IF(K157=\"\",\"\",SUMIFS(Inventário!$N$10:$N$150,Inventário!$D$10:$D$150,Estoque!L$10,Inventário!$E$10:$E$150,Estoque!$C157)),\"ERRO\")","v":""},{"$f":"IFERROR(IF(L157=\"\",\"\",SUMIFS(Inventário!$N$10:$N$150,Inventário!$D$10:$D$150,Estoque!M$10,Inventário!$E$10:$E$150,Estoque!$C157)),\"ERRO\")","v":""},{"$f":"IFERROR(IF(M157=\"\",\"\",SUMIFS(Inventário!$N$10:$N$150,Inventário!$D$10:$D$150,Estoque!N$10,Inventário!$E$10:$E$150,Estoque!$C157)),\"ERRO\")","v":""},{"$f":"IFERROR(IF(N157=\"\",\"\",SUMIFS(Inventário!$N$10:$N$150,Inventário!$D$10:$D$150,Estoque!O$10,Inventário!$E$10:$E$150,Estoque!$C157)),\"ERRO\")","v":""}]
[null,146,{"$f":"IF('Cadastro de Produtos'!C150=\"\",\"\",VLOOKUP(B158,'Cadastro de Produtos'!$B$5:$C$204,2,0))","v":""},{"$f":"IFERROR(IF(C158=\"\",\"\",SUMIFS(Inventário!$N$10:$N$150,Inventário!$D$10:$D$150,Estoque!D$10,Inventário!$E$10:$E$150,Estoque!$C158)),\"ERRO\")","v":""},{"$f":"IFERROR(IF(D158=\"\",\"\",SUMIFS(Inventário!$N$10:$N$150,Inventário!$D$10:$D$150,Estoque!E$10,Inventário!$E$10:$E$150,Estoque!$C158)),\"ERRO\")","v":""},{"$f":"IFERROR(IF(E158=\"\",\"\",SUMIFS(Inventário!$N$10:$N$150,Inventário!$D$10:$D$150,Estoque!F$10,Inventário!$E$10:$E$150,Estoque!$C158)),\"ERRO\")","v":""},{"$f":"IFERROR(IF(F158=\"\",\"\",SUMIFS(Inventário!$N$10:$N$150,Inventário!$D$10:$D$150,Estoque!G$10,Inventário!$E$10:$E$150,Estoque!$C158)),\"ERRO\")","v":""},{"$f":"IFERROR(IF(G158=\"\",\"\",SUMIFS(Inventário!$N$10:$N$150,Inventário!$D$10:$D$150,Estoque!H$10,Inventário!$E$10:$E$150,Estoque!$C158)),\"ERRO\")","v":""},{"$f":"IFERROR(IF(H158=\"\",\"\",SUMIFS(Inventário!$N$10:$N$150,Inventário!$D$10:$D$150,Estoque!I$10,Inventário!$E$10:$E$150,Estoque!$C158)),\"ERRO\")","v":""},{"$f":"IFERROR(IF(I158=\"\",\"\",SUMIFS(Inventário!$N$10:$N$150,Inventário!$D$10:$D$150,Estoque!J$10,Inventário!$E$10:$E$150,Estoque!$C158)),\"ERRO\")","v":""},{"$f":"IFERROR(IF(J158=\"\",\"\",SUMIFS(Inventário!$N$10:$N$150,Inventário!$D$10:$D$150,Estoque!K$10,Inventário!$E$10:$E$150,Estoque!$C158)),\"ERRO\")","v":""},{"$f":"IFERROR(IF(K158=\"\",\"\",SUMIFS(Inventário!$N$10:$N$150,Inventário!$D$10:$D$150,Estoque!L$10,Inventário!$E$10:$E$150,Estoque!$C158)),\"ERRO\")","v":""},{"$f":"IFERROR(IF(L158=\"\",\"\",SUMIFS(Inventário!$N$10:$N$150,Inventário!$D$10:$D$150,Estoque!M$10,Inventário!$E$10:$E$150,Estoque!$C158)),\"ERRO\")","v":""},{"$f":"IFERROR(IF(M158=\"\",\"\",SUMIFS(Inventário!$N$10:$N$150,Inventário!$D$10:$D$150,Estoque!N$10,Inventário!$E$10:$E$150,Estoque!$C158)),\"ERRO\")","v":""},{"$f":"IFERROR(IF(N158=\"\",\"\",SUMIFS(Inventário!$N$10:$N$150,Inventário!$D$10:$D$150,Estoque!O$10,Inventário!$E$10:$E$150,Estoque!$C158)),\"ERRO\")","v":""}]
[null,147,{"$f":"IF('Cadastro de Produtos'!C151=\"\",\"\",VLOOKUP(B159,'Cadastro de Produtos'!$B$5:$C$204,2,0))","v":""},{"$f":"IFERROR(IF(C159=\"\",\"\",SUMIFS(Inventário!$N$10:$N$150,Inventário!$D$10:$D$150,Estoque!D$10,Inventário!$E$10:$E$150,Estoque!$C159)),\"ERRO\")","v":""},{"$f":"IFERROR(IF(D159=\"\",\"\",SUMIFS(Inventário!$N$10:$N$150,Inventário!$D$10:$D$150,Estoque!E$10,Inventário!$E$10:$E$150,Estoque!$C159)),\"ERRO\")","v":""},{"$f":"IFERROR(IF(E159=\"\",\"\",SUMIFS(Inventário!$N$10:$N$150,Inventário!$D$10:$D$150,Estoque!F$10,Inventário!$E$10:$E$150,Estoque!$C159)),\"ERRO\")","v":""},{"$f":"IFERROR(IF(F159=\"\",\"\",SUMIFS(Inventário!$N$10:$N$150,Inventário!$D$10:$D$150,Estoque!G$10,Inventário!$E$10:$E$150,Estoque!$C159)),\"ERRO\")","v":""},{"$f":"IFERROR(IF(G159=\"\",\"\",SUMIFS(Inventário!$N$10:$N$150,Inventário!$D$10:$D$150,Estoque!H$10,Inventário!$E$10:$E$150,Estoque!$C159)),\"ERRO\")","v":""},{"$f":"IFERROR(IF(H159=\"\",\"\",SUMIFS(Inventário!$N$10:$N$150,Inventário!$D$10:$D$150,Estoque!I$10,Inventário!$E$10:$E$150,Estoque!$C159)),\"ERRO\")","v":""},{"$f":"IFERROR(IF(I159=\"\",\"\",SUMIFS(Inventário!$N$10:$N$150,Inventário!$D$10:$D$150,Estoque!J$10,Inventário!$E$10:$E$150,Estoque!$C159)),\"ERRO\")","v":""},{"$f":"IFERROR(IF(J159=\"\",\"\",SUMIFS(Inventário!$N$10:$N$150,Inventário!$D$10:$D$150,Estoque!K$10,Inventário!$E$10:$E$150,Estoque!$C159)),\"ERRO\")","v":""},{"$f":"IFERROR(IF(K159=\"\",\"\",SUMIFS(Inventário!$N$10:$N$150,Inventário!$D$10:$D$150,Estoque!L$10,Inventário!$E$10:$E$150,Estoque!$C159)),\"ERRO\")","v":""},{"$f":"IFERROR(IF(L159=\"\",\"\",SUMIFS(Inventário!$N$10:$N$150,Inventário!$D$10:$D$150,Estoque!M$10,Inventário!$E$10:$E$150,Estoque!$C159)),\"ERRO\")","v":""},{"$f":"IFERROR(IF(M159=\"\",\"\",SUMIFS(Inventário!$N$10:$N$150,Inventário!$D$10:$D$150,Estoque!N$10,Inventário!$E$10:$E$150,Estoque!$C159)),\"ERRO\")","v":""},{"$f":"IFERROR(IF(N159=\"\",\"\",SUMIFS(Inventário!$N$10:$N$150,Inventário!$D$10:$D$150,Estoque!O$10,Inventário!$E$10:$E$150,Estoque!$C159)),\"ERRO\")","v":""}]
[null,148,{"$f":"IF('Cadastro de Produtos'!C152=\"\",\"\",VLOOKUP(B160,'Cadastro de Produtos'!$B$5:$C$204,2,0))","v":""},{"$f":"IFERROR(IF(C160=\"\",\"\",SUMIFS(Inventário!$N$10:$N$150,Inventário!$D$10:$D$150,Estoque!D$10,Inventário!$E$10:$E$150,Estoque!$C160)),\"ERRO\")","v":""},{"$f":"IFERROR(IF(D160=\"\",\"\",SUMIFS(Inventário!$N$10:$N$150,Inventário!$D$10:$D$150,Estoque!E$10,Inventário!$E$10:$E$150,Estoque!$C160)),\"ERRO\")","v":""},{"$f":"IFERROR(IF(E160=\"\",\"\",SUMIFS(Inventário!$N$10:$N$150,Inventário!$D$10:$D$150,Estoque!F$10,Inventário!$E$10:$E$150,Estoque!$C160)),\"ERRO\")","v":""},{"$f":"IFERROR(IF(F160=\"\",\"\",SUMIFS(Inventário!$N$10:$N$150,Inventário!$D$10:$D$150,Estoque!G$10,Inventário!$E$10:$E$150,Estoque!$C160)),\"ERRO\")","v":""},{"$f":"IFERROR(IF(G160=\"\",\"\",SUMIFS(Inventário!$N$10:$N$150,Inventário!$D$10:$D$150,Estoque!H$10,Inventário!$E$10:$E$150,Estoque!$C160)),\"ERRO\")","v":""},{"$f":"IFERROR(IF(H160=\"\",\"\",SUMIFS(Inventário!$N$10:$N$150,Inventário!$D$10:$D$150,Estoque!I$10,Inventário!$E$10:$E$150,Estoque!$C160)),\"ERRO\")","v":""},{"$f":"IFERROR(IF(I160=\"\",\"\",SUMIFS(Inventário!$N$10:$N$150,Inventário!$D$10:$D$150,Estoque!J$10,Inventário!$E$10:$E$150,Estoque!$C160)),\"ERRO\")","v":""},{"$f":"IFERROR(IF(J160=\"\",\"\",SUMIFS(Inventário!$N$10:$N$150,Inventário!$D$10:$D$150,Estoque!K$10,Inventário!$E$10:$E$150,Estoque!$C160)),\"ERRO\")","v":""},{"$f":"IFERROR(IF(K160=\"\",\"\",SUMIFS(Inventário!$N$10:$N$150,Inventário!$D$10:$D$150,Estoque!L$10,Inventário!$E$10:$E$150,Estoque!$C160)),\"ERRO\")","v":""},{"$f":"IFERROR(IF(L160=\"\",\"\",SUMIFS(Inventário!$N$10:$N$150,Inventário!$D$10:$D$150,Estoque!M$10,Inventário!$E$10:$E$150,Estoque!$C160)),\"ERRO\")","v":""},{"$f":"IFERROR(IF(M160=\"\",\"\",SUMIFS(Inventário!$N$10:$N$150,Inventário!$D$10:$D$150,Estoque!N$10,Inventário!$E$10:$E$150,Estoque!$C160)),\"ERRO\")","v":""},{"$f":"IFERROR(IF(N160=\"\",\"\",SUMIFS(Inventário!$N$10:$N$150,Inventário!$D$10:$D$150,Estoque!O$10,Inventário!$E$10:$E$150,Estoque!$C160)),\"ERRO\")","v":""}]
[null,149,{"$f":"IF('Cadastro de Produtos'!C153=\"\",\"\",VLOOKUP(B161,'Cadastro de Produtos'!$B$5:$C$204,2,0))","v":""},{"$f":"IFERROR(IF(C161=\"\",\"\",SUMIFS(Inventário!$N$10:$N$150,Inventário!$D$10:$D$150,Estoque!D$10,Inventário!$E$10:$E$150,Estoque!$C161)),\"ERRO\")","v":""},{"$f":"IFERROR(IF(D161=\"\",\"\",SUMIFS(Inventário!$N$10:$N$150,Inventário!$D$10:$D$150,Estoque!E$10,Inventário!$E$10:$E$150,Estoque!$C161)),\"ERRO\")","v":""},{"$f":"IFERROR(IF(E161=\"\",\"\",SUMIFS(Inventário!$N$10:$N$150,Inventário!$D$10:$D$150,Estoque!F$10,Inventário!$E$10:$E$150,Estoque!$C161)),\"ERRO\")","v":""},{"$f":"IFERROR(IF(F161=\"\",\"\",SUMIFS(Inventário!$N$10:$N$150,Inventário!$D$10:$D$150,Estoque!G$10,Inventário!$E$10:$E$150,Estoque!$C161)),\"ERRO\")","v":""},{"$f":"IFERROR(IF(G161=\"\",\"\",SUMIFS(Inventário!$N$10:$N$150,Inventário!$D$10:$D$150,Estoque!H$10,Inventário!$E$10:$E$150,Estoque!$C161)),\"ERRO\")","v":""},{"$f":"IFERROR(IF(H161=\"\",\"\",SUMIFS(Inventário!$N$10:$N$150,Inventário!$D$10:$D$150,Estoque!I$10,Inventário!$E$10:$E$150,Estoque!$C161)),\"ERRO\")","v":""},{"$f":"IFERROR(IF(I161=\"\",\"\",SUMIFS(Inventário!$N$10:$N$150,Inventário!$D$10:$D$150,Estoque!J$10,Inventário!$E$10:$E$150,Estoque!$C161)),\"ERRO\")","v":""},{"$f":"IFERROR(IF(J161=\"\",\"\",SUMIFS(Inventário!$N$10:$N$150,Inventário!$D$10:$D$150,Estoque!K$10,Inventário!$E$10:$E$150,Estoque!$C161)),\"ERRO\")","v":""},{"$f":"IFERROR(IF(K161=\"\",\"\",SUMIFS(Inventário!$N$10:$N$150,Inventário!$D$10:$D$150,Estoque!L$10,Inventário!$E$10:$E$150,Estoque!$C161)),\"ERRO\")","v":""},{"$f":"IFERROR(IF(L161=\"\",\"\",SUMIFS(Inventário!$N$10:$N$150,Inventário!$D$10:$D$150,Estoque!M$10,Inventário!$E$10:$E$150,Estoque!$C161)),\"ERRO\")","v":""},{"$f":"IFERROR(IF(M161=\"\",\"\",SUMIFS(Inventário!$N$10:$N$150,Inventário!$D$10:$D$150,Estoque!N$10,Inventário!$E$10:$E$150,Estoque!$C161)),\"ERRO\")","v":""},{"$f":"IFERROR(IF(N161=\"\",\"\",SUMIFS(Inventário!$N$10:$N$150,Inventário!$D$10:$D$150,Estoque!O$10,Inventário!$E$10:$E$150,Estoque!$C161)),\"ERRO\")","v":""}]
[null,150,{"$f":"IF('Cadastro de Produtos'!C154=\"\",\"\",VLOOKUP(B162,'Cadastro de Produtos'!$B$5:$C$204,2,0))","v":""},{"$f":"IFERROR(IF(C162=\"\",\"\",SUMIFS(Inventário!$N$10:$N$150,Inventário!$D$10:$D$150,Estoque!D$10,Inventário!$E$10:$E$150,Estoque!$C162)),\"ERRO\")","v":""},{"$f":"IFERROR(IF(D162=\"\",\"\",SUMIFS(Inventário!$N$10:$N$150,Inventário!$D$10:$D$150,Estoque!E$10,Inventário!$E$10:$E$150,Estoque!$C162)),\"ERRO\")","v":""},{"$f":"IFERROR(IF(E162=\"\",\"\",SUMIFS(Inventário!$N$10:$N$150,Inventário!$D$10:$D$150,Estoque!F$10,Inventário!$E$10:$E$150,Estoque!$C162)),\"ERRO\")","v":""},{"$f":"IFERROR(IF(F162=\"\",\"\",SUMIFS(Inventário!$N$10:$N$150,Inventário!$D$10:$D$150,Estoque!G$10,Inventário!$E$10:$E$150,Estoque!$C162)),\"ERRO\")","v":""},{"$f":"IFERROR(IF(G162=\"\",\"\",SUMIFS(Inventário!$N$10:$N$150,Inventário!$D$10:$D$150,Estoque!H$10,Inventário!$E$10:$E$150,Estoque!$C162)),\"ERRO\")","v":""},{"$f":"IFERROR(IF(H162=\"\",\"\",SUMIFS(Inventário!$N$10:$N$150,Inventário!$D$10:$D$150,Estoque!I$10,Inventário!$E$10:$E$150,Estoque!$C162)),\"ERRO\")","v":""},{"$f":"IFERROR(IF(I162=\"\",\"\",SUMIFS(Inventário!$N$10:$N$150,Inventário!$D$10:$D$150,Estoque!J$10,Inventário!$E$10:$E$150,Estoque!$C162)),\"ERRO\")","v":""},{"$f":"IFERROR(IF(J162=\"\",\"\",SUMIFS(Inventário!$N$10:$N$150,Inventário!$D$10:$D$150,Estoque!K$10,Inventário!$E$10:$E$150,Estoque!$C162)),\"ERRO\")","v":""},{"$f":"IFERROR(IF(K162=\"\",\"\",SUMIFS(Inventário!$N$10:$N$150,Inventário!$D$10:$D$150,Estoque!L$10,Inventário!$E$10:$E$150,Estoque!$C162)),\"ERRO\")","v":""},{"$f":"IFERROR(IF(L162=\"\",\"\",SUMIFS(Inventário!$N$10:$N$150,Inventário!$D$10:$D$150,Estoque!M$10,Inventário!$E$10:$E$150,Estoque!$C162)),\"ERRO\")","v":""},{"$f":"IFERROR(IF(M162=\"\",\"\",SUMIFS(Inventário!$N$10:$N$150,Inventário!$D$10:$D$150,Estoque!N$10,Inventário!$E$10:$E$150,Estoque!$C162)),\"ERRO\")","v":""},{"$f":"IFERROR(IF(N162=\"\",\"\",SUMIFS(Inventário!$N$10:$N$150,Inventário!$D$10:$D$150,Estoque!O$10,Inventário!$E$10:$E$150,Estoque!$C162)),\"ERRO\")","v":""}]
[null,151,{"$f":"IF('Cadastro de Produtos'!C155=\"\",\"\",VLOOKUP(B163,'Cadastro de Produtos'!$B$5:$C$204,2,0))","v":""},{"$f":"IFERROR(IF(C163=\"\",\"\",SUMIFS(Inventário!$N$10:$N$150,Inventário!$D$10:$D$150,Estoque!D$10,Inventário!$E$10:$E$150,Estoque!$C163)),\"ERRO\")","v":""},{"$f":"IFERROR(IF(D163=\"\",\"\",SUMIFS(Inventário!$N$10:$N$150,Inventário!$D$10:$D$150,Estoque!E$10,Inventário!$E$10:$E$150,Estoque!$C163)),\"ERRO\")","v":""},{"$f":"IFERROR(IF(E163=\"\",\"\",SUMIFS(Inventário!$N$10:$N$150,Inventário!$D$10:$D$150,Estoque!F$10,Inventário!$E$10:$E$150,Estoque!$C163)),\"ERRO\")","v":""},{"$f":"IFERROR(IF(F163=\"\",\"\",SUMIFS(Inventário!$N$10:$N$150,Inventário!$D$10:$D$150,Estoque!G$10,Inventário!$E$10:$E$150,Estoque!$C163)),\"ERRO\")","v":""},{"$f":"IFERROR(IF(G163=\"\",\"\",SUMIFS(Inventário!$N$10:$N$150,Inventário!$D$10:$D$150,Estoque!H$10,Inventário!$E$10:$E$150,Estoque!$C163)),\"ERRO\")","v":""},{"$f":"IFERROR(IF(H163=\"\",\"\",SUMIFS(Inventário!$N$10:$N$150,Inventário!$D$10:$D$150,Estoque!I$10,Inventário!$E$10:$E$150,Estoque!$C163)),\"ERRO\")","v":""},{"$f":"IFERROR(IF(I163=\"\",\"\",SUMIFS(Inventário!$N$10:$N$150,Inventário!$D$10:$D$150,Estoque!J$10,Inventário!$E$10:$E$150,Estoque!$C163)),\"ERRO\")","v":""},{"$f":"IFERROR(IF(J163=\"\",\"\",SUMIFS(Inventário!$N$10:$N$150,Inventário!$D$10:$D$150,Estoque!K$10,Inventário!$E$10:$E$150,Estoque!$C163)),\"ERRO\")","v":""},{"$f":"IFERROR(IF(K163=\"\",\"\",SUMIFS(Inventário!$N$10:$N$150,Inventário!$D$10:$D$150,Estoque!L$10,Inventário!$E$10:$E$150,Estoque!$C163)),\"ERRO\")","v":""},{"$f":"IFERROR(IF(L163=\"\",\"\",SUMIFS(Inventário!$N$10:$N$150,Inventário!$D$10:$D$150,Estoque!M$10,Inventário!$E$10:$E$150,Estoque!$C163)),\"ERRO\")","v":""},{"$f":"IFERROR(IF(M163=\"\",\"\",SUMIFS(Inventário!$N$10:$N$150,Inventário!$D$10:$D$150,Estoque!N$10,Inventário!$E$10:$E$150,Estoque!$C163)),\"ERRO\")","v":""},{"$f":"IFERROR(IF(N163=\"\",\"\",SUMIFS(Inventário!$N$10:$N$150,Inventário!$D$10:$D$150,Estoque!O$10,Inventário!$E$10:$E$150,Estoque!$C163)),\"ERRO\")","v":""}]
[null,152,{"$f":"IF('Cadastro de Produtos'!C156=\"\",\"\",VLOOKUP(B164,'Cadastro de Produtos'!$B$5:$C$204,2,0))","v":""},{"$f":"IFERROR(IF(C164=\"\",\"\",SUMIFS(Inventário!$N$10:$N$150,Inventário!$D$10:$D$150,Estoque!D$10,Inventário!$E$10:$E$150,Estoque!$C164)),\"ERRO\")","v":""},{"$f":"IFERROR(IF(D164=\"\",\"\",SUMIFS(Inventário!$N$10:$N$150,Inventário!$D$10:$D$150,Estoque!E$10,Inventário!$E$10:$E$150,Estoque!$C164)),\"ERRO\")","v":""},{"$f":"IFERROR(IF(E164=\"\",\"\",SUMIFS(Inventário!$N$10:$N$150,Inventário!$D$10:$D$150,Estoque!F$10,Inventário!$E$10:$E$150,Estoque!$C164)),\"ERRO\")","v":""},{"$f":"IFERROR(IF(F164=\"\",\"\",SUMIFS(Inventário!$N$10:$N$150,Inventário!$D$10:$D$150,Estoque!G$10,Inventário!$E$10:$E$150,Estoque!$C164)),\"ERRO\")","v":""},{"$f":"IFERROR(IF(G164=\"\",\"\",SUMIFS(Inventário!$N$10:$N$150,Inventário!$D$10:$D$150,Estoque!H$10,Inventário!$E$10:$E$150,Estoque!$C164)),\"ERRO\")","v":""},{"$f":"IFERROR(IF(H164=\"\",\"\",SUMIFS(Inventário!$N$10:$N$150,Inventário!$D$10:$D$150,Estoque!I$10,Inventário!$E$10:$E$150,Estoque!$C164)),\"ERRO\")","v":""},{"$f":"IFERROR(IF(I164=\"\",\"\",SUMIFS(Inventário!$N$10:$N$150,Inventário!$D$10:$D$150,Estoque!J$10,Inventário!$E$10:$E$150,Estoque!$C164)),\"ERRO\")","v":""},{"$f":"IFERROR(IF(J164=\"\",\"\",SUMIFS(Inventário!$N$10:$N$150,Inventário!$D$10:$D$150,Estoque!K$10,Inventário!$E$10:$E$150,Estoque!$C164)),\"ERRO\")","v":""},{"$f":"IFERROR(IF(K164=\"\",\"\",SUMIFS(Inventário!$N$10:$N$150,Inventário!$D$10:$D$150,Estoque!L$10,Inventário!$E$10:$E$150,Estoque!$C164)),\"ERRO\")","v":""},{"$f":"IFERROR(IF(L164=\"\",\"\",SUMIFS(Inventário!$N$10:$N$150,Inventário!$D$10:$D$150,Estoque!M$10,Inventário!$E$10:$E$150,Estoque!$C164)),\"ERRO\")","v":""},{"$f":"IFERROR(IF(M164=\"\",\"\",SUMIFS(Inventário!$N$10:$N$150,Inventário!$D$10:$D$150,Estoque!N$10,Inventário!$E$10:$E$150,Estoque!$C164)),\"ERRO\")","v":""},{"$f":"IFERROR(IF(N164=\"\",\"\",SUMIFS(Inventário!$N$10:$N$150,Inventário!$D$10:$D$150,Estoque!O$10,Inventário!$E$10:$E$150,Estoque!$C164)),\"ERRO\")","v":""}]
[null,153,{"$f":"IF('Cadastro de Produtos'!C157=\"\",\"\",VLOOKUP(B165,'Cadastro de Produtos'!$B$5:$C$204,2,0))","v":""},{"$f":"IFERROR(IF(C165=\"\",\"\",SUMIFS(Inventário!$N$10:$N$150,Inventário!$D$10:$D$150,Estoque!D$10,Inventário!$E$10:$E$150,Estoque!$C165)),\"ERRO\")","v":""},{"$f":"IFERROR(IF(D165=\"\",\"\",SUMIFS(Inventário!$N$10:$N$150,Inventário!$D$10:$D$150,Estoque!E$10,Inventário!$E$10:$E$150,Estoque!$C165)),\"ERRO\")","v":""},{"$f":"IFERROR(IF(E165=\"\",\"\",SUMIFS(Inventário!$N$10:$N$150,Inventário!$D$10:$D$150,Estoque!F$10,Inventário!$E$10:$E$150,Estoque!$C165)),\"ERRO\")","v":""},{"$f":"IFERROR(IF(F165=\"\",\"\",SUMIFS(Inventário!$N$10:$N$150,Inventário!$D$10:$D$150,Estoque!G$10,Inventário!$E$10:$E$150,Estoque!$C165)),\"ERRO\")","v":""},{"$f":"IFERROR(IF(G165=\"\",\"\",SUMIFS(Inventário!$N$10:$N$150,Inventário!$D$10:$D$150,Estoque!H$10,Inventário!$E$10:$E$150,Estoque!$C165)),\"ERRO\")","v":""},{"$f":"IFERROR(IF(H165=\"\",\"\",SUMIFS(Inventário!$N$10:$N$150,Inventário!$D$10:$D$150,Estoque!I$10,Inventário!$E$10:$E$150,Estoque!$C165)),\"ERRO\")","v":""},{"$f":"IFERROR(IF(I165=\"\",\"\",SUMIFS(Inventário!$N$10:$N$150,Inventário!$D$10:$D$150,Estoque!J$10,Inventário!$E$10:$E$150,Estoque!$C165)),\"ERRO\")","v":""},{"$f":"IFERROR(IF(J165=\"\",\"\",SUMIFS(Inventário!$N$10:$N$150,Inventário!$D$10:$D$150,Estoque!K$10,Inventário!$E$10:$E$150,Estoque!$C165)),\"ERRO\")","v":""},{"$f":"IFERROR(IF(K165=\"\",\"\",SUMIFS(Inventário!$N$10:$N$150,Inventário!$D$10:$D$150,Estoque!L$10,Inventário!$E$10:$E$150,Estoque!$C165)),\"ERRO\")","v":""},{"$f":"IFERROR(IF(L165=\"\",\"\",SUMIFS(Inventário!$N$10:$N$150,Inventário!$D$10:$D$150,Estoque!M$10,Inventário!$E$10:$E$150,Estoque!$C165)),\"ERRO\")","v":""},{"$f":"IFERROR(IF(M165=\"\",\"\",SUMIFS(Inventário!$N$10:$N$150,Inventário!$D$10:$D$150,Estoque!N$10,Inventário!$E$10:$E$150,Estoque!$C165)),\"ERRO\")","v":""},{"$f":"IFERROR(IF(N165=\"\",\"\",SUMIFS(Inventário!$N$10:$N$150,Inventário!$D$10:$D$150,Estoque!O$10,Inventário!$E$10:$E$150,Estoque!$C165)),\"ERRO\")","v":""}]
[null,154,{"$f":"IF('Cadastro de Produtos'!C158=\"\",\"\",VLOOKUP(B166,'Cadastro de Produtos'!$B$5:$C$204,2,0))","v":""},{"$f":"IFERROR(IF(C166=\"\",\"\",SUMIFS(Inventário!$N$10:$N$150,Inventário!$D$10:$D$150,Estoque!D$10,Inventário!$E$10:$E$150,Estoque!$C166)),\"ERRO\")","v":""},{"$f":"IFERROR(IF(D166=\"\",\"\",SUMIFS(Inventário!$N$10:$N$150,Inventário!$D$10:$D$150,Estoque!E$10,Inventário!$E$10:$E$150,Estoque!$C166)),\"ERRO\")","v":""},{"$f":"IFERROR(IF(E166=\"\",\"\",SUMIFS(Inventário!$N$10:$N$150,Inventário!$D$10:$D$150,Estoque!F$10,Inventário!$E$10:$E$150,Estoque!$C166)),\"ERRO\")","v":""},{"$f":"IFERROR(IF(F166=\"\",\"\",SUMIFS(Inventário!$N$10:$N$150,Inventário!$D$10:$D$150,Estoque!G$10,Inventário!$E$10:$E$150,Estoque!$C166)),\"ERRO\")","v":""},{"$f":"IFERROR(IF(G166=\"\",\"\",SUMIFS(Inventário!$N$10:$N$150,Inventário!$D$10:$D$150,Estoque!H$10,Inventário!$E$10:$E$150,Estoque!$C166)),\"ERRO\")","v":""},{"$f":"IFERROR(IF(H166=\"\",\"\",SUMIFS(Inventário!$N$10:$N$150,Inventário!$D$10:$D$150,Estoque!I$10,Inventário!$E$10:$E$150,Estoque!$C166)),\"ERRO\")","v":""},{"$f":"IFERROR(IF(I166=\"\",\"\",SUMIFS(Inventário!$N$10:$N$150,Inventário!$D$10:$D$150,Estoque!J$10,Inventário!$E$10:$E$150,Estoque!$C166)),\"ERRO\")","v":""},{"$f":"IFERROR(IF(J166=\"\",\"\",SUMIFS(Inventário!$N$10:$N$150,Inventário!$D$10:$D$150,Estoque!K$10,Inventário!$E$10:$E$150,Estoque!$C166)),\"ERRO\")","v":""},{"$f":"IFERROR(IF(K166=\"\",\"\",SUMIFS(Inventário!$N$10:$N$150,Inventário!$D$10:$D$150,Estoque!L$10,Inventário!$E$10:$E$150,Estoque!$C166)),\"ERRO\")","v":""},{"$f":"IFERROR(IF(L166=\"\",\"\",SUMIFS(Inventário!$N$10:$N$150,Inventário!$D$10:$D$150,Estoque!M$10,Inventário!$E$10:$E$150,Estoque!$C166)),\"ERRO\")","v":""},{"$f":"IFERROR(IF(M166=\"\",\"\",SUMIFS(Inventário!$N$10:$N$150,Inventário!$D$10:$D$150,Estoque!N$10,Inventário!$E$10:$E$150,Estoque!$C166)),\"ERRO\")","v":""},{"$f":"IFERROR(IF(N166=\"\",\"\",SUMIFS(Inventário!$N$10:$N$150,Inventário!$D$10:$D$150,Estoque!O$10,Inventário!$E$10:$E$150,Estoque!$C166)),\"ERRO\")","v":""}]
[null,155,{"$f":"IF('Cadastro de Produtos'!C159=\"\",\"\",VLOOKUP(B167,'Cadastro de Produtos'!$B$5:$C$204,2,0))","v":""},{"$f":"IFERROR(IF(C167=\"\",\"\",SUMIFS(Inventário!$N$10:$N$150,Inventário!$D$10:$D$150,Estoque!D$10,Inventário!$E$10:$E$150,Estoque!$C167)),\"ERRO\")","v":""},{"$f":"IFERROR(IF(D167=\"\",\"\",SUMIFS(Inventário!$N$10:$N$150,Inventário!$D$10:$D$150,Estoque!E$10,Inventário!$E$10:$E$150,Estoque!$C167)),\"ERRO\")","v":""},{"$f":"IFERROR(IF(E167=\"\",\"\",SUMIFS(Inventário!$N$10:$N$150,Inventário!$D$10:$D$150,Estoque!F$10,Inventário!$E$10:$E$150,Estoque!$C167)),\"ERRO\")","v":""},{"$f":"IFERROR(IF(F167=\"\",\"\",SUMIFS(Inventário!$N$10:$N$150,Inventário!$D$10:$D$150,Estoque!G$10,Inventário!$E$10:$E$150,Estoque!$C167)),\"ERRO\")","v":""},{"$f":"IFERROR(IF(G167=\"\",\"\",SUMIFS(Inventário!$N$10:$N$150,Inventário!$D$10:$D$150,Estoque!H$10,Inventário!$E$10:$E$150,Estoque!$C167)),\"ERRO\")","v":""},{"$f":"IFERROR(IF(H167=\"\",\"\",SUMIFS(Inventário!$N$10:$N$150,Inventário!$D$10:$D$150,Estoque!I$10,Inventário!$E$10:$E$150,Estoque!$C167)),\"ERRO\")","v":""},{"$f":"IFERROR(IF(I167=\"\",\"\",SUMIFS(Inventário!$N$10:$N$150,Inventário!$D$10:$D$150,Estoque!J$10,Inventário!$E$10:$E$150,Estoque!$C167)),\"ERRO\")","v":""},{"$f":"IFERROR(IF(J167=\"\",\"\",SUMIFS(Inventário!$N$10:$N$150,Inventário!$D$10:$D$150,Estoque!K$10,Inventário!$E$10:$E$150,Estoque!$C167)),\"ERRO\")","v":""},{"$f":"IFERROR(IF(K167=\"\",\"\",SUMIFS(Inventário!$N$10:$N$150,Inventário!$D$10:$D$150,Estoque!L$10,Inventário!$E$10:$E$150,Estoque!$C167)),\"ERRO\")","v":""},{"$f":"IFERROR(IF(L167=\"\",\"\",SUMIFS(Inventário!$N$10:$N$150,Inventário!$D$10:$D$150,Estoque!M$10,Inventário!$E$10:$E$150,Estoque!$C167)),\"ERRO\")","v":""},{"$f":"IFERROR(IF(M167=\"\",\"\",SUMIFS(Inventário!$N$10:$N$150,Inventário!$D$10:$D$150,Estoque!N$10,Inventário!$E$10:$E$150,Estoque!$C167)),\"ERRO\")","v":""},{"$f":"IFERROR(IF(N167=\"\",\"\",SUMIFS(Inventário!$N$10:$N$150,Inventário!$D$10:$D$150,Estoque!O$10,Inventário!$E$10:$E$150,Estoque!$C167)),\"ERRO\")","v":""}]
[null,156,{"$f":"IF('Cadastro de Produtos'!C160=\"\",\"\",VLOOKUP(B168,'Cadastro de Produtos'!$B$5:$C$204,2,0))","v":""},{"$f":"IFERROR(IF(C168=\"\",\"\",SUMIFS(Inventário!$N$10:$N$150,Inventário!$D$10:$D$150,Estoque!D$10,Inventário!$E$10:$E$150,Estoque!$C168)),\"ERRO\")","v":""},{"$f":"IFERROR(IF(D168=\"\",\"\",SUMIFS(Inventário!$N$10:$N$150,Inventário!$D$10:$D$150,Estoque!E$10,Inventário!$E$10:$E$150,Estoque!$C168)),\"ERRO\")","v":""},{"$f":"IFERROR(IF(E168=\"\",\"\",SUMIFS(Inventário!$N$10:$N$150,Inventário!$D$10:$D$150,Estoque!F$10,Inventário!$E$10:$E$150,Estoque!$C168)),\"ERRO\")","v":""},{"$f":"IFERROR(IF(F168=\"\",\"\",SUMIFS(Inventário!$N$10:$N$150,Inventário!$D$10:$D$150,Estoque!G$10,Inventário!$E$10:$E$150,Estoque!$C168)),\"ERRO\")","v":""},{"$f":"IFERROR(IF(G168=\"\",\"\",SUMIFS(Inventário!$N$10:$N$150,Inventário!$D$10:$D$150,Estoque!H$10,Inventário!$E$10:$E$150,Estoque!$C168)),\"ERRO\")","v":""},{"$f":"IFERROR(IF(H168=\"\",\"\",SUMIFS(Inventário!$N$10:$N$150,Inventário!$D$10:$D$150,Estoque!I$10,Inventário!$E$10:$E$150,Estoque!$C168)),\"ERRO\")","v":""},{"$f":"IFERROR(IF(I168=\"\",\"\",SUMIFS(Inventário!$N$10:$N$150,Inventário!$D$10:$D$150,Estoque!J$10,Inventário!$E$10:$E$150,Estoque!$C168)),\"ERRO\")","v":""},{"$f":"IFERROR(IF(J168=\"\",\"\",SUMIFS(Inventário!$N$10:$N$150,Inventário!$D$10:$D$150,Estoque!K$10,Inventário!$E$10:$E$150,Estoque!$C168)),\"ERRO\")","v":""},{"$f":"IFERROR(IF(K168=\"\",\"\",SUMIFS(Inventário!$N$10:$N$150,Inventário!$D$10:$D$150,Estoque!L$10,Inventário!$E$10:$E$150,Estoque!$C168)),\"ERRO\")","v":""},{"$f":"IFERROR(IF(L168=\"\",\"\",SUMIFS(Inventário!$N$10:$N$150,Inventário!$D$10:$D$150,Estoque!M$10,Inventário!$E$10:$E$150,Estoque!$C168)),\"ERRO\")","v":""},{"$f":"IFERROR(IF(M168=\"\",\"\",SUMIFS(Inventário!$N$10:$N$150,Inventário!$D$10:$D$150,Estoque!N$10,Inventário!$E$10:$E$150,Estoque!$C168)),\"ERRO\")","v":""},{"$f":"IFERROR(IF(N168=\"\",\"\",SUMIFS(Inventário!$N$10:$N$150,Inventário!$D$10:$D$150,Estoque!O$10,Inventário!$E$10:$E$150,Estoque!$C168)),\"ERRO\")","v":""}]
[null,157,{"$f":"IF('Cadastro de Produtos'!C161=\"\",\"\",VLOOKUP(B169,'Cadastro de Produtos'!$B$5:$C$204,2,0))","v":""},{"$f":"IFERROR(IF(C169=\"\",\"\",SUMIFS(Inventário!$N$10:$N$150,Inventário!$D$10:$D$150,Estoque!D$10,Inventário!$E$10:$E$150,Estoque!$C169)),\"ERRO\")","v":""},{"$f":"IFERROR(IF(D169=\"\",\"\",SUMIFS(Inventário!$N$10:$N$150,Inventário!$D$10:$D$150,Estoque!E$10,Inventário!$E$10:$E$150,Estoque!$C169)),\"ERRO\")","v":""},{"$f":"IFERROR(IF(E169=\"\",\"\",SUMIFS(Inventário!$N$10:$N$150,Inventário!$D$10:$D$150,Estoque!F$10,Inventário!$E$10:$E$150,Estoque!$C169)),\"ERRO\")","v":""},{"$f":"IFERROR(IF(F169=\"\",\"\",SUMIFS(Inventário!$N$10:$N$150,Inventário!$D$10:$D$150,Estoque!G$10,Inventário!$E$10:$E$150,Estoque!$C169)),\"ERRO\")","v":""},{"$f":"IFERROR(IF(G169=\"\",\"\",SUMIFS(Inventário!$N$10:$N$150,Inventário!$D$10:$D$150,Estoque!H$10,Inventário!$E$10:$E$150,Estoque!$C169)),\"ERRO\")","v":""},{"$f":"IFERROR(IF(H169=\"\",\"\",SUMIFS(Inventário!$N$10:$N$150,Inventário!$D$10:$D$150,Estoque!I$10,Inventário!$E$10:$E$150,Estoque!$C169)),\"ERRO\")","v":""},{"$f":"IFERROR(IF(I169=\"\",\"\",SUMIFS(Inventário!$N$10:$N$150,Inventário!$D$10:$D$150,Estoque!J$10,Inventário!$E$10:$E$150,Estoque!$C169)),\"ERRO\")","v":""},{"$f":"IFERROR(IF(J169=\"\",\"\",SUMIFS(Inventário!$N$10:$N$150,Inventário!$D$10:$D$150,Estoque!K$10,Inventário!$E$10:$E$150,Estoque!$C169)),\"ERRO\")","v":""},{"$f":"IFERROR(IF(K169=\"\",\"\",SUMIFS(Inventário!$N$10:$N$150,Inventário!$D$10:$D$150,Estoque!L$10,Inventário!$E$10:$E$150,Estoque!$C169)),\"ERRO\")","v":""},{"$f":"IFERROR(IF(L169=\"\",\"\",SUMIFS(Inventário!$N$10:$N$150,Inventário!$D$10:$D$150,Estoque!M$10,Inventário!$E$10:$E$150,Estoque!$C169)),\"ERRO\")","v":""},{"$f":"IFERROR(IF(M169=\"\",\"\",SUMIFS(Inventário!$N$10:$N$150,Inventário!$D$10:$D$150,Estoque!N$10,Inventário!$E$10:$E$150,Estoque!$C169)),\"ERRO\")","v":""},{"$f":"IFERROR(IF(N169=\"\",\"\",SUMIFS(Inventário!$N$10:$N$150,Inventário!$D$10:$D$150,Estoque!O$10,Inventário!$E$10:$E$150,Estoque!$C169)),\"ERRO\")","v":""}]
[null,158,{"$f":"IF('Cadastro de Produtos'!C162=\"\",\"\",VLOOKUP(B170,'Cadastro de Produtos'!$B$5:$C$204,2,0))","v":""},{"$f":"IFERROR(IF(C170=\"\",\"\",SUMIFS(Inventário!$N$10:$N$150,Inventário!$D$10:$D$150,Estoque!D$10,Inventário!$E$10:$E$150,Estoque!$C170)),\"ERRO\")","v":""},{"$f":"IFERROR(IF(D170=\"\",\"\",SUMIFS(Inventário!$N$10:$N$150,Inventário!$D$10:$D$150,Estoque!E$10,Inventário!$E$10:$E$150,Estoque!$C170)),\"ERRO\")","v":""},{"$f":"IFERROR(IF(E170=\"\",\"\",SUMIFS(Inventário!$N$10:$N$150,Inventário!$D$10:$D$150,Estoque!F$10,Inventário!$E$10:$E$150,Estoque!$C170)),\"ERRO\")","v":""},{"$f":"IFERROR(IF(F170=\"\",\"\",SUMIFS(Inventário!$N$10:$N$150,Inventário!$D$10:$D$150,Estoque!G$10,Inventário!$E$10:$E$150,Estoque!$C170)),\"ERRO\")","v":""},{"$f":"IFERROR(IF(G170=\"\",\"\",SUMIFS(Inventário!$N$10:$N$150,Inventário!$D$10:$D$150,Estoque!H$10,Inventário!$E$10:$E$150,Estoque!$C170)),\"ERRO\")","v":""},{"$f":"IFERROR(IF(H170=\"\",\"\",SUMIFS(Inventário!$N$10:$N$150,Inventário!$D$10:$D$150,Estoque!I$10,Inventário!$E$10:$E$150,Estoque!$C170)),\"ERRO\")","v":""},{"$f":"IFERROR(IF(I170=\"\",\"\",SUMIFS(Inventário!$N$10:$N$150,Inventário!$D$10:$D$150,Estoque!J$10,Inventário!$E$10:$E$150,Estoque!$C170)),\"ERRO\")","v":""},{"$f":"IFERROR(IF(J170=\"\",\"\",SUMIFS(Inventário!$N$10:$N$150,Inventário!$D$10:$D$150,Estoque!K$10,Inventário!$E$10:$E$150,Estoque!$C170)),\"ERRO\")","v":""},{"$f":"IFERROR(IF(K170=\"\",\"\",SUMIFS(Inventário!$N$10:$N$150,Inventário!$D$10:$D$150,Estoque!L$10,Inventário!$E$10:$E$150,Estoque!$C170)),\"ERRO\")","v":""},{"$f":"IFERROR(IF(L170=\"\",\"\",SUMIFS(Inventário!$N$10:$N$150,Inventário!$D$10:$D$150,Estoque!M$10,Inventário!$E$10:$E$150,Estoque!$C170)),\"ERRO\")","v":""},{"$f":"IFERROR(IF(M170=\"\",\"\",SUMIFS(Inventário!$N$10:$N$150,Inventário!$D$10:$D$150,Estoque!N$10,Inventário!$E$10:$E$150,Estoque!$C170)),\"ERRO\")","v":""},{"$f":"IFERROR(IF(N170=\"\",\"\",SUMIFS(Inventário!$N$10:$N$150,Inventário!$D$10:$D$150,Estoque!O$10,Inventário!$E$10:$E$150,Estoque!$C170)),\"ERRO\")","v":""}]
[null,159,{"$f":"IF('Cadastro de Produtos'!C163=\"\",\"\",VLOOKUP(B171,'Cadastro de Produtos'!$B$5:$C$204,2,0))","v":""},{"$f":"IFERROR(IF(C171=\"\",\"\",SUMIFS(Inventário!$N$10:$N$150,Inventário!$D$10:$D$150,Estoque!D$10,Inventário!$E$10:$E$150,Estoque!$C171)),\"ERRO\")","v":""},{"$f":"IFERROR(IF(D171=\"\",\"\",SUMIFS(Inventário!$N$10:$N$150,Inventário!$D$10:$D$150,Estoque!E$10,Inventário!$E$10:$E$150,Estoque!$C171)),\"ERRO\")","v":""},{"$f":"IFERROR(IF(E171=\"\",\"\",SUMIFS(Inventário!$N$10:$N$150,Inventário!$D$10:$D$150,Estoque!F$10,Inventário!$E$10:$E$150,Estoque!$C171)),\"ERRO\")","v":""},{"$f":"IFERROR(IF(F171=\"\",\"\",SUMIFS(Inventário!$N$10:$N$150,Inventário!$D$10:$D$150,Estoque!G$10,Inventário!$E$10:$E$150,Estoque!$C171)),\"ERRO\")","v":""},{"$f":"IFERROR(IF(G171=\"\",\"\",SUMIFS(Inventário!$N$10:$N$150,Inventário!$D$10:$D$150,Estoque!H$10,Inventário!$E$10:$E$150,Estoque!$C171)),\"ERRO\")","v":""},{"$f":"IFERROR(IF(H171=\"\",\"\",SUMIFS(Inventário!$N$10:$N$150,Inventário!$D$10:$D$150,Estoque!I$10,Inventário!$E$10:$E$150,Estoque!$C171)),\"ERRO\")","v":""},{"$f":"IFERROR(IF(I171=\"\",\"\",SUMIFS(Inventário!$N$10:$N$150,Inventário!$D$10:$D$150,Estoque!J$10,Inventário!$E$10:$E$150,Estoque!$C171)),\"ERRO\")","v":""},{"$f":"IFERROR(IF(J171=\"\",\"\",SUMIFS(Inventário!$N$10:$N$150,Inventário!$D$10:$D$150,Estoque!K$10,Inventário!$E$10:$E$150,Estoque!$C171)),\"ERRO\")","v":""},{"$f":"IFERROR(IF(K171=\"\",\"\",SUMIFS(Inventário!$N$10:$N$150,Inventário!$D$10:$D$150,Estoque!L$10,Inventário!$E$10:$E$150,Estoque!$C171)),\"ERRO\")","v":""},{"$f":"IFERROR(IF(L171=\"\",\"\",SUMIFS(Inventário!$N$10:$N$150,Inventário!$D$10:$D$150,Estoque!M$10,Inventário!$E$10:$E$150,Estoque!$C171)),\"ERRO\")","v":""},{"$f":"IFERROR(IF(M171=\"\",\"\",SUMIFS(Inventário!$N$10:$N$150,Inventário!$D$10:$D$150,Estoque!N$10,Inventário!$E$10:$E$150,Estoque!$C171)),\"ERRO\")","v":""},{"$f":"IFERROR(IF(N171=\"\",\"\",SUMIFS(Inventário!$N$10:$N$150,Inventário!$D$10:$D$150,Estoque!O$10,Inventário!$E$10:$E$150,Estoque!$C171)),\"ERRO\")","v":""}]
[null,160,{"$f":"IF('Cadastro de Produtos'!C164=\"\",\"\",VLOOKUP(B172,'Cadastro de Produtos'!$B$5:$C$204,2,0))","v":""},{"$f":"IFERROR(IF(C172=\"\",\"\",SUMIFS(Inventário!$N$10:$N$150,Inventário!$D$10:$D$150,Estoque!D$10,Inventário!$E$10:$E$150,Estoque!$C172)),\"ERRO\")","v":""},{"$f":"IFERROR(IF(D172=\"\",\"\",SUMIFS(Inventário!$N$10:$N$150,Inventário!$D$10:$D$150,Estoque!E$10,Inventário!$E$10:$E$150,Estoque!$C172)),\"ERRO\")","v":""},{"$f":"IFERROR(IF(E172=\"\",\"\",SUMIFS(Inventário!$N$10:$N$150,Inventário!$D$10:$D$150,Estoque!F$10,Inventário!$E$10:$E$150,Estoque!$C172)),\"ERRO\")","v":""},{"$f":"IFERROR(IF(F172=\"\",\"\",SUMIFS(Inventário!$N$10:$N$150,Inventário!$D$10:$D$150,Estoque!G$10,Inventário!$E$10:$E$150,Estoque!$C172)),\"ERRO\")","v":""},{"$f":"IFERROR(IF(G172=\"\",\"\",SUMIFS(Inventário!$N$10:$N$150,Inventário!$D$10:$D$150,Estoque!H$10,Inventário!$E$10:$E$150,Estoque!$C172)),\"ERRO\")","v":""},{"$f":"IFERROR(IF(H172=\"\",\"\",SUMIFS(Inventário!$N$10:$N$150,Inventário!$D$10:$D$150,Estoque!I$10,Inventário!$E$10:$E$150,Estoque!$C172)),\"ERRO\")","v":""},{"$f":"IFERROR(IF(I172=\"\",\"\",SUMIFS(Inventário!$N$10:$N$150,Inventário!$D$10:$D$150,Estoque!J$10,Inventário!$E$10:$E$150,Estoque!$C172)),\"ERRO\")","v":""},{"$f":"IFERROR(IF(J172=\"\",\"\",SUMIFS(Inventário!$N$10:$N$150,Inventário!$D$10:$D$150,Estoque!K$10,Inventário!$E$10:$E$150,Estoque!$C172)),\"ERRO\")","v":""},{"$f":"IFERROR(IF(K172=\"\",\"\",SUMIFS(Inventário!$N$10:$N$150,Inventário!$D$10:$D$150,Estoque!L$10,Inventário!$E$10:$E$150,Estoque!$C172)),\"ERRO\")","v":""},{"$f":"IFERROR(IF(L172=\"\",\"\",SUMIFS(Inventário!$N$10:$N$150,Inventário!$D$10:$D$150,Estoque!M$10,Inventário!$E$10:$E$150,Estoque!$C172)),\"ERRO\")","v":""},{"$f":"IFERROR(IF(M172=\"\",\"\",SUMIFS(Inventário!$N$10:$N$150,Inventário!$D$10:$D$150,Estoque!N$10,Inventário!$E$10:$E$150,Estoque!$C172)),\"ERRO\")","v":""},{"$f":"IFERROR(IF(N172=\"\",\"\",SUMIFS(Inventário!$N$10:$N$150,Inventário!$D$10:$D$150,Estoque!O$10,Inventário!$E$10:$E$150,Estoque!$C172)),\"ERRO\")","v":""}]
[null,161,{"$f":"IF('Cadastro de Produtos'!C165=\"\",\"\",VLOOKUP(B173,'Cadastro de Produtos'!$B$5:$C$204,2,0))","v":""},{"$f":"IFERROR(IF(C173=\"\",\"\",SUMIFS(Inventário!$N$10:$N$150,Inventário!$D$10:$D$150,Estoque!D$10,Inventário!$E$10:$E$150,Estoque!$C173)),\"ERRO\")","v":""},{"$f":"IFERROR(IF(D173=\"\",\"\",SUMIFS(Inventário!$N$10:$N$150,Inventário!$D$10:$D$150,Estoque!E$10,Inventário!$E$10:$E$150,Estoque!$C173)),\"ERRO\")","v":""},{"$f":"IFERROR(IF(E173=\"\",\"\",SUMIFS(Inventário!$N$10:$N$150,Inventário!$D$10:$D$150,Estoque!F$10,Inventário!$E$10:$E$150,Estoque!$C173)),\"ERRO\")","v":""},{"$f":"IFERROR(IF(F173=\"\",\"\",SUMIFS(Inventário!$N$10:$N$150,Inventário!$D$10:$D$150,Estoque!G$10,Inventário!$E$10:$E$150,Estoque!$C173)),\"ERRO\")","v":""},{"$f":"IFERROR(IF(G173=\"\",\"\",SUMIFS(Inventário!$N$10:$N$150,Inventário!$D$10:$D$150,Estoque!H$10,Inventário!$E$10:$E$150,Estoque!$C173)),\"ERRO\")","v":""},{"$f":"IFERROR(IF(H173=\"\",\"\",SUMIFS(Inventário!$N$10:$N$150,Inventário!$D$10:$D$150,Estoque!I$10,Inventário!$E$10:$E$150,Estoque!$C173)),\"ERRO\")","v":""},{"$f":"IFERROR(IF(I173=\"\",\"\",SUMIFS(Inventário!$N$10:$N$150,Inventário!$D$10:$D$150,Estoque!J$10,Inventário!$E$10:$E$150,Estoque!$C173)),\"ERRO\")","v":""},{"$f":"IFERROR(IF(J173=\"\",\"\",SUMIFS(Inventário!$N$10:$N$150,Inventário!$D$10:$D$150,Estoque!K$10,Inventário!$E$10:$E$150,Estoque!$C173)),\"ERRO\")","v":""},{"$f":"IFERROR(IF(K173=\"\",\"\",SUMIFS(Inventário!$N$10:$N$150,Inventário!$D$10:$D$150,Estoque!L$10,Inventário!$E$10:$E$150,Estoque!$C173)),\"ERRO\")","v":""},{"$f":"IFERROR(IF(L173=\"\",\"\",SUMIFS(Inventário!$N$10:$N$150,Inventário!$D$10:$D$150,Estoque!M$10,Inventário!$E$10:$E$150,Estoque!$C173)),\"ERRO\")","v":""},{"$f":"IFERROR(IF(M173=\"\",\"\",SUMIFS(Inventário!$N$10:$N$150,Inventário!$D$10:$D$150,Estoque!N$10,Inventário!$E$10:$E$150,Estoque!$C173)),\"ERRO\")","v":""},{"$f":"IFERROR(IF(N173=\"\",\"\",SUMIFS(Inventário!$N$10:$N$150,Inventário!$D$10:$D$150,Estoque!O$10,Inventário!$E$10:$E$150,Estoque!$C173)),\"ERRO\")","v":""}]
[null,162,{"$f":"IF('Cadastro de Produtos'!C166=\"\",\"\",VLOOKUP(B174,'Cadastro de Produtos'!$B$5:$C$204,2,0))","v":""},{"$f":"IFERROR(IF(C174=\"\",\"\",SUMIFS(Inventário!$N$10:$N$150,Inventário!$D$10:$D$150,Estoque!D$10,Inventário!$E$10:$E$150,Estoque!$C174)),\"ERRO\")","v":""},{"$f":"IFERROR(IF(D174=\"\",\"\",SUMIFS(Inventário!$N$10:$N$150,Inventário!$D$10:$D$150,Estoque!E$10,Inventário!$E$10:$E$150,Estoque!$C174)),\"ERRO\")","v":""},{"$f":"IFERROR(IF(E174=\"\",\"\",SUMIFS(Inventário!$N$10:$N$150,Inventário!$D$10:$D$150,Estoque!F$10,Inventário!$E$10:$E$150,Estoque!$C174)),\"ERRO\")","v":""},{"$f":"IFERROR(IF(F174=\"\",\"\",SUMIFS(Inventário!$N$10:$N$150,Inventário!$D$10:$D$150,Estoque!G$10,Inventário!$E$10:$E$150,Estoque!$C174)),\"ERRO\")","v":""},{"$f":"IFERROR(IF(G174=\"\",\"\",SUMIFS(Inventário!$N$10:$N$150,Inventário!$D$10:$D$150,Estoque!H$10,Inventário!$E$10:$E$150,Estoque!$C174)),\"ERRO\")","v":""},{"$f":"IFERROR(IF(H174=\"\",\"\",SUMIFS(Inventário!$N$10:$N$150,Inventário!$D$10:$D$150,Estoque!I$10,Inventário!$E$10:$E$150,Estoque!$C174)),\"ERRO\")","v":""},{"$f":"IFERROR(IF(I174=\"\",\"\",SUMIFS(Inventário!$N$10:$N$150,Inventário!$D$10:$D$150,Estoque!J$10,Inventário!$E$10:$E$150,Estoque!$C174)),\"ERRO\")","v":""},{"$f":"IFERROR(IF(J174=\"\",\"\",SUMIFS(Inventário!$N$10:$N$150,Inventário!$D$10:$D$150,Estoque!K$10,Inventário!$E$10:$E$150,Estoque!$C174)),\"ERRO\")","v":""},{"$f":"IFERROR(IF(K174=\"\",\"\",SUMIFS(Inventário!$N$10:$N$150,Inventário!$D$10:$D$150,Estoque!L$10,Inventário!$E$10:$E$150,Estoque!$C174)),\"ERRO\")","v":""},{"$f":"IFERROR(IF(L174=\"\",\"\",SUMIFS(Inventário!$N$10:$N$150,Inventário!$D$10:$D$150,Estoque!M$10,Inventário!$E$10:$E$150,Estoque!$C174)),\"ERRO\")","v":""},{"$f":"IFERROR(IF(M174=\"\",\"\",SUMIFS(Inventário!$N$10:$N$150,Inventário!$D$10:$D$150,Estoque!N$10,Inventário!$E$10:$E$150,Estoque!$C174)),\"ERRO\")","v":""},{"$f":"IFERROR(IF(N174=\"\",\"\",SUMIFS(Inventário!$N$10:$N$150,Inventário!$D$10:$D$150,Estoque!O$10,Inventário!$E$10:$E$150,Estoque!$C174)),\"ERRO\")","v":""}]
[null,163,{"$f":"IF('Cadastro de Produtos'!C167=\"\",\"\",VLOOKUP(B175,'Cadastro de Produtos'!$B$5:$C$204,2,0))","v":""},{"$f":"IFERROR(IF(C175=\"\",\"\",SUMIFS(Inventário!$N$10:$N$150,Inventário!$D$10:$D$150,Estoque!D$10,Inventário!$E$10:$E$150,Estoque!$C175)),\"ERRO\")","v":""},{"$f":"IFERROR(IF(D175=\"\",\"\",SUMIFS(Inventário!$N$10:$N$150,Inventário!$D$10:$D$150,Estoque!E$10,Inventário!$E$10:$E$150,Estoque!$C175)),\"ERRO\")","v":""},{"$f":"IFERROR(IF(E175=\"\",\"\",SUMIFS(Inventário!$N$10:$N$150,Inventário!$D$10:$D$150,Estoque!F$10,Inventário!$E$10:$E$150,Estoque!$C175)),\"ERRO\")","v":""},{"$f":"IFERROR(IF(F175=\"\",\"\",SUMIFS(Inventário!$N$10:$N$150,Inventário!$D$10:$D$150,Estoque!G$10,Inventário!$E$10:$E$150,Estoque!$C175)),\"ERRO\")","v":""},{"$f":"IFERROR(IF(G175=\"\",\"\",SUMIFS(Inventário!$N$10:$N$150,Inventário!$D$10:$D$150,Estoque!H$10,Inventário!$E$10:$E$150,Estoque!$C175)),\"ERRO\")","v":""},{"$f":"IFERROR(IF(H175=\"\",\"\",SUMIFS(Inventário!$N$10:$N$150,Inventário!$D$10:$D$150,Estoque!I$10,Inventário!$E$10:$E$150,Estoque!$C175)),\"ERRO\")","v":""},{"$f":"IFERROR(IF(I175=\"\",\"\",SUMIFS(Inventário!$N$10:$N$150,Inventário!$D$10:$D$150,Estoque!J$10,Inventário!$E$10:$E$150,Estoque!$C175)),\"ERRO\")","v":""},{"$f":"IFERROR(IF(J175=\"\",\"\",SUMIFS(Inventário!$N$10:$N$150,Inventário!$D$10:$D$150,Estoque!K$10,Inventário!$E$10:$E$150,Estoque!$C175)),\"ERRO\")","v":""},{"$f":"IFERROR(IF(K175=\"\",\"\",SUMIFS(Inventário!$N$10:$N$150,Inventário!$D$10:$D$150,Estoque!L$10,Inventário!$E$10:$E$150,Estoque!$C175)),\"ERRO\")","v":""},{"$f":"IFERROR(IF(L175=\"\",\"\",SUMIFS(Inventário!$N$10:$N$150,Inventário!$D$10:$D$150,Estoque!M$10,Inventário!$E$10:$E$150,Estoque!$C175)),\"ERRO\")","v":""},{"$f":"IFERROR(IF(M175=\"\",\"\",SUMIFS(Inventário!$N$10:$N$150,Inventário!$D$10:$D$150,Estoque!N$10,Inventário!$E$10:$E$150,Estoque!$C175)),\"ERRO\")","v":""},{"$f":"IFERROR(IF(N175=\"\",\"\",SUMIFS(Inventário!$N$10:$N$150,Inventário!$D$10:$D$150,Estoque!O$10,Inventário!$E$10:$E$150,Estoque!$C175)),\"ERRO\")","v":""}]
[null,164,{"$f":"IF('Cadastro de Produtos'!C168=\"\",\"\",VLOOKUP(B176,'Cadastro de Produtos'!$B$5:$C$204,2,0))","v":""},{"$f":"IFERROR(IF(C176=\"\",\"\",SUMIFS(Inventário!$N$10:$N$150,Inventário!$D$10:$D$150,Estoque!D$10,Inventário!$E$10:$E$150,Estoque!$C176)),\"ERRO\")","v":""},{"$f":"IFERROR(IF(D176=\"\",\"\",SUMIFS(Inventário!$N$10:$N$150,Inventário!$D$10:$D$150,Estoque!E$10,Inventário!$E$10:$E$150,Estoque!$C176)),\"ERRO\")","v":""},{"$f":"IFERROR(IF(E176=\"\",\"\",SUMIFS(Inventário!$N$10:$N$150,Inventário!$D$10:$D$150,Estoque!F$10,Inventário!$E$10:$E$150,Estoque!$C176)),\"ERRO\")","v":""},{"$f":"IFERROR(IF(F176=\"\",\"\",SUMIFS(Inventário!$N$10:$N$150,Inventário!$D$10:$D$150,Estoque!G$10,Inventário!$E$10:$E$150,Estoque!$C176)),\"ERRO\")","v":""},{"$f":"IFERROR(IF(G176=\"\",\"\",SUMIFS(Inventário!$N$10:$N$150,Inventário!$D$10:$D$150,Estoque!H$10,Inventário!$E$10:$E$150,Estoque!$C176)),\"ERRO\")","v":""},{"$f":"IFERROR(IF(H176=\"\",\"\",SUMIFS(Inventário!$N$10:$N$150,Inventário!$D$10:$D$150,Estoque!I$10,Inventário!$E$10:$E$150,Estoque!$C176)),\"ERRO\")","v":""},{"$f":"IFERROR(IF(I176=\"\",\"\",SUMIFS(Inventário!$N$10:$N$150,Inventário!$D$10:$D$150,Estoque!J$10,Inventário!$E$10:$E$150,Estoque!$C176)),\"ERRO\")","v":""},{"$f":"IFERROR(IF(J176=\"\",\"\",SUMIFS(Inventário!$N$10:$N$150,Inventário!$D$10:$D$150,Estoque!K$10,Inventário!$E$10:$E$150,Estoque!$C176)),\"ERRO\")","v":""},{"$f":"IFERROR(IF(K176=\"\",\"\",SUMIFS(Inventário!$N$10:$N$150,Inventário!$D$10:$D$150,Estoque!L$10,Inventário!$E$10:$E$150,Estoque!$C176)),\"ERRO\")","v":""},{"$f":"IFERROR(IF(L176=\"\",\"\",SUMIFS(Inventário!$N$10:$N$150,Inventário!$D$10:$D$150,Estoque!M$10,Inventário!$E$10:$E$150,Estoque!$C176)),\"ERRO\")","v":""},{"$f":"IFERROR(IF(M176=\"\",\"\",SUMIFS(Inventário!$N$10:$N$150,Inventário!$D$10:$D$150,Estoque!N$10,Inventário!$E$10:$E$150,Estoque!$C176)),\"ERRO\")","v":""},{"$f":"IFERROR(IF(N176=\"\",\"\",SUMIFS(Inventário!$N$10:$N$150,Inventário!$D$10:$D$150,Estoque!O$10,Inventário!$E$10:$E$150,Estoque!$C176)),\"ERRO\")","v":""}]
[null,165,{"$f":"IF('Cadastro de Produtos'!C169=\"\",\"\",VLOOKUP(B177,'Cadastro de Produtos'!$B$5:$C$204,2,0))","v":""},{"$f":"IFERROR(IF(C177=\"\",\"\",SUMIFS(Inventário!$N$10:$N$150,Inventário!$D$10:$D$150,Estoque!D$10,Inventário!$E$10:$E$150,Estoque!$C177)),\"ERRO\")","v":""},{"$f":"IFERROR(IF(D177=\"\",\"\",SUMIFS(Inventário!$N$10:$N$150,Inventário!$D$10:$D$150,Estoque!E$10,Inventário!$E$10:$E$150,Estoque!$C177)),\"ERRO\")","v":""},{"$f":"IFERROR(IF(E177=\"\",\"\",SUMIFS(Inventário!$N$10:$N$150,Inventário!$D$10:$D$150,Estoque!F$10,Inventário!$E$10:$E$150,Estoque!$C177)),\"ERRO\")","v":""},{"$f":"IFERROR(IF(F177=\"\",\"\",SUMIFS(Inventário!$N$10:$N$150,Inventário!$D$10:$D$150,Estoque!G$10,Inventário!$E$10:$E$150,Estoque!$C177)),\"ERRO\")","v":""},{"$f":"IFERROR(IF(G177=\"\",\"\",SUMIFS(Inventário!$N$10:$N$150,Inventário!$D$10:$D$150,Estoque!H$10,Inventário!$E$10:$E$150,Estoque!$C177)),\"ERRO\")","v":""},{"$f":"IFERROR(IF(H177=\"\",\"\",SUMIFS(Inventário!$N$10:$N$150,Inventário!$D$10:$D$150,Estoque!I$10,Inventário!$E$10:$E$150,Estoque!$C177)),\"ERRO\")","v":""},{"$f":"IFERROR(IF(I177=\"\",\"\",SUMIFS(Inventário!$N$10:$N$150,Inventário!$D$10:$D$150,Estoque!J$10,Inventário!$E$10:$E$150,Estoque!$C177)),\"ERRO\")","v":""},{"$f":"IFERROR(IF(J177=\"\",\"\",SUMIFS(Inventário!$N$10:$N$150,Inventário!$D$10:$D$150,Estoque!K$10,Inventário!$E$10:$E$150,Estoque!$C177)),\"ERRO\")","v":""},{"$f":"IFERROR(IF(K177=\"\",\"\",SUMIFS(Inventário!$N$10:$N$150,Inventário!$D$10:$D$150,Estoque!L$10,Inventário!$E$10:$E$150,Estoque!$C177)),\"ERRO\")","v":""},{"$f":"IFERROR(IF(L177=\"\",\"\",SUMIFS(Inventário!$N$10:$N$150,Inventário!$D$10:$D$150,Estoque!M$10,Inventário!$E$10:$E$150,Estoque!$C177)),\"ERRO\")","v":""},{"$f":"IFERROR(IF(M177=\"\",\"\",SUMIFS(Inventário!$N$10:$N$150,Inventário!$D$10:$D$150,Estoque!N$10,Inventário!$E$10:$E$150,Estoque!$C177)),\"ERRO\")","v":""},{"$f":"IFERROR(IF(N177=\"\",\"\",SUMIFS(Inventário!$N$10:$N$150,Inventário!$D$10:$D$150,Estoque!O$10,Inventário!$E$10:$E$150,Estoque!$C177)),\"ERRO\")","v":""}]
[null,166,{"$f":"IF('Cadastro de Produtos'!C170=\"\",\"\",VLOOKUP(B178,'Cadastro de Produtos'!$B$5:$C$204,2,0))","v":""},{"$f":"IFERROR(IF(C178=\"\",\"\",SUMIFS(Inventário!$N$10:$N$150,Inventário!$D$10:$D$150,Estoque!D$10,Inventário!$E$10:$E$150,Estoque!$C178)),\"ERRO\")","v":""},{"$f":"IFERROR(IF(D178=\"\",\"\",SUMIFS(Inventário!$N$10:$N$150,Inventário!$D$10:$D$150,Estoque!E$10,Inventário!$E$10:$E$150,Estoque!$C178)),\"ERRO\")","v":""},{"$f":"IFERROR(IF(E178=\"\",\"\",SUMIFS(Inventário!$N$10:$N$150,Inventário!$D$10:$D$150,Estoque!F$10,Inventário!$E$10:$E$150,Estoque!$C178)),\"ERRO\")","v":""},{"$f":"IFERROR(IF(F178=\"\",\"\",SUMIFS(Inventário!$N$10:$N$150,Inventário!$D$10:$D$150,Estoque!G$10,Inventário!$E$10:$E$150,Estoque!$C178)),\"ERRO\")","v":""},{"$f":"IFERROR(IF(G178=\"\",\"\",SUMIFS(Inventário!$N$10:$N$150,Inventário!$D$10:$D$150,Estoque!H$10,Inventário!$E$10:$E$150,Estoque!$C178)),\"ERRO\")","v":""},{"$f":"IFERROR(IF(H178=\"\",\"\",SUMIFS(Inventário!$N$10:$N$150,Inventário!$D$10:$D$150,Estoque!I$10,Inventário!$E$10:$E$150,Estoque!$C178)),\"ERRO\")","v":""},{"$f":"IFERROR(IF(I178=\"\",\"\",SUMIFS(Inventário!$N$10:$N$150,Inventário!$D$10:$D$150,Estoque!J$10,Inventário!$E$10:$E$150,Estoque!$C178)),\"ERRO\")","v":""},{"$f":"IFERROR(IF(J178=\"\",\"\",SUMIFS(Inventário!$N$10:$N$150,Inventário!$D$10:$D$150,Estoque!K$10,Inventário!$E$10:$E$150,Estoque!$C178)),\"ERRO\")","v":""},{"$f":"IFERROR(IF(K178=\"\",\"\",SUMIFS(Inventário!$N$10:$N$150,Inventário!$D$10:$D$150,Estoque!L$10,Inventário!$E$10:$E$150,Estoque!$C178)),\"ERRO\")","v":""},{"$f":"IFERROR(IF(L178=\"\",\"\",SUMIFS(Inventário!$N$10:$N$150,Inventário!$D$10:$D$150,Estoque!M$10,Inventário!$E$10:$E$150,Estoque!$C178)),\"ERRO\")","v":""},{"$f":"IFERROR(IF(M178=\"\",\"\",SUMIFS(Inventário!$N$10:$N$150,Inventário!$D$10:$D$150,Estoque!N$10,Inventário!$E$10:$E$150,Estoque!$C178)),\"ERRO\")","v":""},{"$f":"IFERROR(IF(N178=\"\",\"\",SUMIFS(Inventário!$N$10:$N$150,Inventário!$D$10:$D$150,Estoque!O$10,Inventário!$E$10:$E$150,Estoque!$C178)),\"ERRO\")","v":""}]
[null,167,{"$f":"IF('Cadastro de Produtos'!C171=\"\",\"\",VLOOKUP(B179,'Cadastro de Produtos'!$B$5:$C$204,2,0))","v":""},{"$f":"IFERROR(IF(C179=\"\",\"\",SUMIFS(Inventário!$N$10:$N$150,Inventário!$D$10:$D$150,Estoque!D$10,Inventário!$E$10:$E$150,Estoque!$C179)),\"ERRO\")","v":""},{"$f":"IFERROR(IF(D179=\"\",\"\",SUMIFS(Inventário!$N$10:$N$150,Inventário!$D$10:$D$150,Estoque!E$10,Inventário!$E$10:$E$150,Estoque!$C179)),\"ERRO\")","v":""},{"$f":"IFERROR(IF(E179=\"\",\"\",SUMIFS(Inventário!$N$10:$N$150,Inventário!$D$10:$D$150,Estoque!F$10,Inventário!$E$10:$E$150,Estoque!$C179)),\"ERRO\")","v":""},{"$f":"IFERROR(IF(F179=\"\",\"\",SUMIFS(Inventário!$N$10:$N$150,Inventário!$D$10:$D$150,Estoque!G$10,Inventário!$E$10:$E$150,Estoque!$C179)),\"ERRO\")","v":""},{"$f":"IFERROR(IF(G179=\"\",\"\",SUMIFS(Inventário!$N$10:$N$150,Inventário!$D$10:$D$150,Estoque!H$10,Inventário!$E$10:$E$150,Estoque!$C179)),\"ERRO\")","v":""},{"$f":"IFERROR(IF(H179=\"\",\"\",SUMIFS(Inventário!$N$10:$N$150,Inventário!$D$10:$D$150,Estoque!I$10,Inventário!$E$10:$E$150,Estoque!$C179)),\"ERRO\")","v":""},{"$f":"IFERROR(IF(I179=\"\",\"\",SUMIFS(Inventário!$N$10:$N$150,Inventário!$D$10:$D$150,Estoque!J$10,Inventário!$E$10:$E$150,Estoque!$C179)),\"ERRO\")","v":""},{"$f":"IFERROR(IF(J179=\"\",\"\",SUMIFS(Inventário!$N$10:$N$150,Inventário!$D$10:$D$150,Estoque!K$10,Inventário!$E$10:$E$150,Estoque!$C179)),\"ERRO\")","v":""},{"$f":"IFERROR(IF(K179=\"\",\"\",SUMIFS(Inventário!$N$10:$N$150,Inventário!$D$10:$D$150,Estoque!L$10,Inventário!$E$10:$E$150,Estoque!$C179)),\"ERRO\")","v":""},{"$f":"IFERROR(IF(L179=\"\",\"\",SUMIFS(Inventário!$N$10:$N$150,Inventário!$D$10:$D$150,Estoque!M$10,Inventário!$E$10:$E$150,Estoque!$C179)),\"ERRO\")","v":""},{"$f":"IFERROR(IF(M179=\"\",\"\",SUMIFS(Inventário!$N$10:$N$150,Inventário!$D$10:$D$150,Estoque!N$10,Inventário!$E$10:$E$150,Estoque!$C179)),\"ERRO\")","v":""},{"$f":"IFERROR(IF(N179=\"\",\"\",SUMIFS(Inventário!$N$10:$N$150,Inventário!$D$10:$D$150,Estoque!O$10,Inventário!$E$10:$E$150,Estoque!$C179)),\"ERRO\")","v":""}]
[null,168,{"$f":"IF('Cadastro de Produtos'!C172=\"\",\"\",VLOOKUP(B180,'Cadastro de Produtos'!$B$5:$C$204,2,0))","v":""},{"$f":"IFERROR(IF(C180=\"\",\"\",SUMIFS(Inventário!$N$10:$N$150,Inventário!$D$10:$D$150,Estoque!D$10,Inventário!$E$10:$E$150,Estoque!$C180)),\"ERRO\")","v":""},{"$f":"IFERROR(IF(D180=\"\",\"\",SUMIFS(Inventário!$N$10:$N$150,Inventário!$D$10:$D$150,Estoque!E$10,Inventário!$E$10:$E$150,Estoque!$C180)),\"ERRO\")","v":""},{"$f":"IFERROR(IF(E180=\"\",\"\",SUMIFS(Inventário!$N$10:$N$150,Inventário!$D$10:$D$150,Estoque!F$10,Inventário!$E$10:$E$150,Estoque!$C180)),\"ERRO\")","v":""},{"$f":"IFERROR(IF(F180=\"\",\"\",SUMIFS(Inventário!$N$10:$N$150,Inventário!$D$10:$D$150,Estoque!G$10,Inventário!$E$10:$E$150,Estoque!$C180)),\"ERRO\")","v":""},{"$f":"IFERROR(IF(G180=\"\",\"\",SUMIFS(Inventário!$N$10:$N$150,Inventário!$D$10:$D$150,Estoque!H$10,Inventário!$E$10:$E$150,Estoque!$C180)),\"ERRO\")","v":""},{"$f":"IFERROR(IF(H180=\"\",\"\",SUMIFS(Inventário!$N$10:$N$150,Inventário!$D$10:$D$150,Estoque!I$10,Inventário!$E$10:$E$150,Estoque!$C180)),\"ERRO\")","v":""},{"$f":"IFERROR(IF(I180=\"\",\"\",SUMIFS(Inventário!$N$10:$N$150,Inventário!$D$10:$D$150,Estoque!J$10,Inventário!$E$10:$E$150,Estoque!$C180)),\"ERRO\")","v":""},{"$f":"IFERROR(IF(J180=\"\",\"\",SUMIFS(Inventário!$N$10:$N$150,Inventário!$D$10:$D$150,Estoque!K$10,Inventário!$E$10:$E$150,Estoque!$C180)),\"ERRO\")","v":""},{"$f":"IFERROR(IF(K180=\"\",\"\",SUMIFS(Inventário!$N$10:$N$150,Inventário!$D$10:$D$150,Estoque!L$10,Inventário!$E$10:$E$150,Estoque!$C180)),\"ERRO\")","v":""},{"$f":"IFERROR(IF(L180=\"\",\"\",SUMIFS(Inventário!$N$10:$N$150,Inventário!$D$10:$D$150,Estoque!M$10,Inventário!$E$10:$E$150,Estoque!$C180)),\"ERRO\")","v":""},{"$f":"IFERROR(IF(M180=\"\",\"\",SUMIFS(Inventário!$N$10:$N$150,Inventário!$D$10:$D$150,Estoque!N$10,Inventário!$E$10:$E$150,Estoque!$C180)),\"ERRO\")","v":""},{"$f":"IFERROR(IF(N180=\"\",\"\",SUMIFS(Inventário!$N$10:$N$150,Inventário!$D$10:$D$150,Estoque!O$10,Inventário!$E$10:$E$150,Estoque!$C180)),\"ERRO\")","v":""}]
[null,169,{"$f":"IF('Cadastro de Produtos'!C173=\"\",\"\",VLOOKUP(B181,'Cadastro de Produtos'!$B$5:$C$204,2,0))","v":""},{"$f":"IFERROR(IF(C181=\"\",\"\",SUMIFS(Inventário!$N$10:$N$150,Inventário!$D$10:$D$150,Estoque!D$10,Inventário!$E$10:$E$150,Estoque!$C181)),\"ERRO\")","v":""},{"$f":"IFERROR(IF(D181=\"\",\"\",SUMIFS(Inventário!$N$10:$N$150,Inventário!$D$10:$D$150,Estoque!E$10,Inventário!$E$10:$E$150,Estoque!$C181)),\"ERRO\")","v":""},{"$f":"IFERROR(IF(E181=\"\",\"\",SUMIFS(Inventário!$N$10:$N$150,Inventário!$D$10:$D$150,Estoque!F$10,Inventário!$E$10:$E$150,Estoque!$C181)),\"ERRO\")","v":""},{"$f":"IFERROR(IF(F181=\"\",\"\",SUMIFS(Inventário!$N$10:$N$150,Inventário!$D$10:$D$150,Estoque!G$10,Inventário!$E$10:$E$150,Estoque!$C181)),\"ERRO\")","v":""},{"$f":"IFERROR(IF(G181=\"\",\"\",SUMIFS(Inventário!$N$10:$N$150,Inventário!$D$10:$D$150,Estoque!H$10,Inventário!$E$10:$E$150,Estoque!$C181)),\"ERRO\")","v":""},{"$f":"IFERROR(IF(H181=\"\",\"\",SUMIFS(Inventário!$N$10:$N$150,Inventário!$D$10:$D$150,Estoque!I$10,Inventário!$E$10:$E$150,Estoque!$C181)),\"ERRO\")","v":""},{"$f":"IFERROR(IF(I181=\"\",\"\",SUMIFS(Inventário!$N$10:$N$150,Inventário!$D$10:$D$150,Estoque!J$10,Inventário!$E$10:$E$150,Estoque!$C181)),\"ERRO\")","v":""},{"$f":"IFERROR(IF(J181=\"\",\"\",SUMIFS(Inventário!$N$10:$N$150,Inventário!$D$10:$D$150,Estoque!K$10,Inventário!$E$10:$E$150,Estoque!$C181)),\"ERRO\")","v":""},{"$f":"IFERROR(IF(K181=\"\",\"\",SUMIFS(Inventário!$N$10:$N$150,Inventário!$D$10:$D$150,Estoque!L$10,Inventário!$E$10:$E$150,Estoque!$C181)),\"ERRO\")","v":""},{"$f":"IFERROR(IF(L181=\"\",\"\",SUMIFS(Inventário!$N$10:$N$150,Inventário!$D$10:$D$150,Estoque!M$10,Inventário!$E$10:$E$150,Estoque!$C181)),\"ERRO\")","v":""},{"$f":"IFERROR(IF(M181=\"\",\"\",SUMIFS(Inventário!$N$10:$N$150,Inventário!$D$10:$D$150,Estoque!N$10,Inventário!$E$10:$E$150,Estoque!$C181)),\"ERRO\")","v":""},{"$f":"IFERROR(IF(N181=\"\",\"\",SUMIFS(Inventário!$N$10:$N$150,Inventário!$D$10:$D$150,Estoque!O$10,Inventário!$E$10:$E$150,Estoque!$C181)),\"ERRO\")","v":""}]
[null,170,{"$f":"IF('Cadastro de Produtos'!C174=\"\",\"\",VLOOKUP(B182,'Cadastro de Produtos'!$B$5:$C$204,2,0))","v":""},{"$f":"IFERROR(IF(C182=\"\",\"\",SUMIFS(Inventário!$N$10:$N$150,Inventário!$D$10:$D$150,Estoque!D$10,Inventário!$E$10:$E$150,Estoque!$C182)),\"ERRO\")","v":""},{"$f":"IFERROR(IF(D182=\"\",\"\",SUMIFS(Inventário!$N$10:$N$150,Inventário!$D$10:$D$150,Estoque!E$10,Inventário!$E$10:$E$150,Estoque!$C182)),\"ERRO\")","v":""},{"$f":"IFERROR(IF(E182=\"\",\"\",SUMIFS(Inventário!$N$10:$N$150,Inventário!$D$10:$D$150,Estoque!F$10,Inventário!$E$10:$E$150,Estoque!$C182)),\"ERRO\")","v":""},{"$f":"IFERROR(IF(F182=\"\",\"\",SUMIFS(Inventário!$N$10:$N$150,Inventário!$D$10:$D$150,Estoque!G$10,Inventário!$E$10:$E$150,Estoque!$C182)),\"ERRO\")","v":""},{"$f":"IFERROR(IF(G182=\"\",\"\",SUMIFS(Inventário!$N$10:$N$150,Inventário!$D$10:$D$150,Estoque!H$10,Inventário!$E$10:$E$150,Estoque!$C182)),\"ERRO\")","v":""},{"$f":"IFERROR(IF(H182=\"\",\"\",SUMIFS(Inventário!$N$10:$N$150,Inventário!$D$10:$D$150,Estoque!I$10,Inventário!$E$10:$E$150,Estoque!$C182)),\"ERRO\")","v":""},{"$f":"IFERROR(IF(I182=\"\",\"\",SUMIFS(Inventário!$N$10:$N$150,Inventário!$D$10:$D$150,Estoque!J$10,Inventário!$E$10:$E$150,Estoque!$C182)),\"ERRO\")","v":""},{"$f":"IFERROR(IF(J182=\"\",\"\",SUMIFS(Inventário!$N$10:$N$150,Inventário!$D$10:$D$150,Estoque!K$10,Inventário!$E$10:$E$150,Estoque!$C182)),\"ERRO\")","v":""},{"$f":"IFERROR(IF(K182=\"\",\"\",SUMIFS(Inventário!$N$10:$N$150,Inventário!$D$10:$D$150,Estoque!L$10,Inventário!$E$10:$E$150,Estoque!$C182)),\"ERRO\")","v":""},{"$f":"IFERROR(IF(L182=\"\",\"\",SUMIFS(Inventário!$N$10:$N$150,Inventário!$D$10:$D$150,Estoque!M$10,Inventário!$E$10:$E$150,Estoque!$C182)),\"ERRO\")","v":""},{"$f":"IFERROR(IF(M182=\"\",\"\",SUMIFS(Inventário!$N$10:$N$150,Inventário!$D$10:$D$150,Estoque!N$10,Inventário!$E$10:$E$150,Estoque!$C182)),\"ERRO\")","v":""},{"$f":"IFERROR(IF(N182=\"\",\"\",SUMIFS(Inventário!$N$10:$N$150,Inventário!$D$10:$D$150,Estoque!O$10,Inventário!$E$10:$E$150,Estoque!$C182)),\"ERRO\")","v":""}]
[null,171,{"$f":"IF('Cadastro de Produtos'!C175=\"\",\"\",VLOOKUP(B183,'Cadastro de Produtos'!$B$5:$C$204,2,0))","v":""},{"$f":"IFERROR(IF(C183=\"\",\"\",SUMIFS(Inventário!$N$10:$N$150,Inventário!$D$10:$D$150,Estoque!D$10,Inventário!$E$10:$E$150,Estoque!$C183)),\"ERRO\")","v":""},{"$f":"IFERROR(IF(D183=\"\",\"\",SUMIFS(Inventário!$N$10:$N$150,Inventário!$D$10:$D$150,Estoque!E$10,Inventário!$E$10:$E$150,Estoque!$C183)),\"ERRO\")","v":""},{"$f":"IFERROR(IF(E183=\"\",\"\",SUMIFS(Inventário!$N$10:$N$150,Inventário!$D$10:$D$150,Estoque!F$10,Inventário!$E$10:$E$150,Estoque!$C183)),\"ERRO\")","v":""},{"$f":"IFERROR(IF(F183=\"\",\"\",SUMIFS(Inventário!$N$10:$N$150,Inventário!$D$10:$D$150,Estoque!G$10,Inventário!$E$10:$E$150,Estoque!$C183)),\"ERRO\")","v":""},{"$f":"IFERROR(IF(G183=\"\",\"\",SUMIFS(Inventário!$N$10:$N$150,Inventário!$D$10:$D$150,Estoque!H$10,Inventário!$E$10:$E$150,Estoque!$C183)),\"ERRO\")","v":""},{"$f":"IFERROR(IF(H183=\"\",\"\",SUMIFS(Inventário!$N$10:$N$150,Inventário!$D$10:$D$150,Estoque!I$10,Inventário!$E$10:$E$150,Estoque!$C183)),\"ERRO\")","v":""},{"$f":"IFERROR(IF(I183=\"\",\"\",SUMIFS(Inventário!$N$10:$N$150,Inventário!$D$10:$D$150,Estoque!J$10,Inventário!$E$10:$E$150,Estoque!$C183)),\"ERRO\")","v":""},{"$f":"IFERROR(IF(J183=\"\",\"\",SUMIFS(Inventário!$N$10:$N$150,Inventário!$D$10:$D$150,Estoque!K$10,Inventário!$E$10:$E$150,Estoque!$C183)),\"ERRO\")","v":""},{"$f":"IFERROR(IF(K183=\"\",\"\",SUMIFS(Inventário!$N$10:$N$150,Inventário!$D$10:$D$150,Estoque!L$10,Inventário!$E$10:$E$150,Estoque!$C183)),\"ERRO\")","v":""},{"$f":"IFERROR(IF(L183=\"\",\"\",SUMIFS(Inventário!$N$10:$N$150,Inventário!$D$10:$D$150,Estoque!M$10,Inventário!$E$10:$E$150,Estoque!$C183)),\"ERRO\")","v":""},{"$f":"IFERROR(IF(M183=\"\",\"\",SUMIFS(Inventário!$N$10:$N$150,Inventário!$D$10:$D$150,Estoque!N$10,Inventário!$E$10:$E$150,Estoque!$C183)),\"ERRO\")","v":""},{"$f":"IFERROR(IF(N183=\"\",\"\",SUMIFS(Inventário!$N$10:$N$150,Inventário!$D$10:$D$150,Estoque!O$10,Inventário!$E$10:$E$150,Estoque!$C183)),\"ERRO\")","v":""}]
[null,172,{"$f":"IF('Cadastro de Produtos'!C176=\"\",\"\",VLOOKUP(B184,'Cadastro de Produtos'!$B$5:$C$204,2,0))","v":""},{"$f":"IFERROR(IF(C184=\"\",\"\",SUMIFS(Inventário!$N$10:$N$150,Inventário!$D$10:$D$150,Estoque!D$10,Inventário!$E$10:$E$150,Estoque!$C184)),\"ERRO\")","v":""},{"$f":"IFERROR(IF(D184=\"\",\"\",SUMIFS(Inventário!$N$10:$N$150,Inventário!$D$10:$D$150,Estoque!E$10,Inventário!$E$10:$E$150,Estoque!$C184)),\"ERRO\")","v":""},{"$f":"IFERROR(IF(E184=\"\",\"\",SUMIFS(Inventário!$N$10:$N$150,Inventário!$D$10:$D$150,Estoque!F$10,Inventário!$E$10:$E$150,Estoque!$C184)),\"ERRO\")","v":""},{"$f":"IFERROR(IF(F184=\"\",\"\",SUMIFS(Inventário!$N$10:$N$150,Inventário!$D$10:$D$150,Estoque!G$10,Inventário!$E$10:$E$150,Estoque!$C184)),\"ERRO\")","v":""},{"$f":"IFERROR(IF(G184=\"\",\"\",SUMIFS(Inventário!$N$10:$N$150,Inventário!$D$10:$D$150,Estoque!H$10,Inventário!$E$10:$E$150,Estoque!$C184)),\"ERRO\")","v":""},{"$f":"IFERROR(IF(H184=\"\",\"\",SUMIFS(Inventário!$N$10:$N$150,Inventário!$D$10:$D$150,Estoque!I$10,Inventário!$E$10:$E$150,Estoque!$C184)),\"ERRO\")","v":""},{"$f":"IFERROR(IF(I184=\"\",\"\",SUMIFS(Inventário!$N$10:$N$150,Inventário!$D$10:$D$150,Estoque!J$10,Inventário!$E$10:$E$150,Estoque!$C184)),\"ERRO\")","v":""},{"$f":"IFERROR(IF(J184=\"\",\"\",SUMIFS(Inventário!$N$10:$N$150,Inventário!$D$10:$D$150,Estoque!K$10,Inventário!$E$10:$E$150,Estoque!$C184)),\"ERRO\")","v":""},{"$f":"IFERROR(IF(K184=\"\",\"\",SUMIFS(Inventário!$N$10:$N$150,Inventário!$D$10:$D$150,Estoque!L$10,Inventário!$E$10:$E$150,Estoque!$C184)),\"ERRO\")","v":""},{"$f":"IFERROR(IF(L184=\"\",\"\",SUMIFS(Inventário!$N$10:$N$150,Inventário!$D$10:$D$150,Estoque!M$10,Inventário!$E$10:$E$150,Estoque!$C184)),\"ERRO\")","v":""},{"$f":"IFERROR(IF(M184=\"\",\"\",SUMIFS(Inventário!$N$10:$N$150,Inventário!$D$10:$D$150,Estoque!N$10,Inventário!$E$10:$E$150,Estoque!$C184)),\"ERRO\")","v":""},{"$f":"IFERROR(IF(N184=\"\",\"\",SUMIFS(Inventário!$N$10:$N$150,Inventário!$D$10:$D$150,Estoque!O$10,Inventário!$E$10:$E$150,Estoque!$C184)),\"ERRO\")","v":""}]
[null,173,{"$f":"IF('Cadastro de Produtos'!C177=\"\",\"\",VLOOKUP(B185,'Cadastro de Produtos'!$B$5:$C$204,2,0))","v":""},{"$f":"IFERROR(IF(C185=\"\",\"\",SUMIFS(Inventário!$N$10:$N$150,Inventário!$D$10:$D$150,Estoque!D$10,Inventário!$E$10:$E$150,Estoque!$C185)),\"ERRO\")","v":""},{"$f":"IFERROR(IF(D185=\"\",\"\",SUMIFS(Inventário!$N$10:$N$150,Inventário!$D$10:$D$150,Estoque!E$10,Inventário!$E$10:$E$150,Estoque!$C185)),\"ERRO\")","v":""},{"$f":"IFERROR(IF(E185=\"\",\"\",SUMIFS(Inventário!$N$10:$N$150,Inventário!$D$10:$D$150,Estoque!F$10,Inventário!$E$10:$E$150,Estoque!$C185)),\"ERRO\")","v":""},{"$f":"IFERROR(IF(F185=\"\",\"\",SUMIFS(Inventário!$N$10:$N$150,Inventário!$D$10:$D$150,Estoque!G$10,Inventário!$E$10:$E$150,Estoque!$C185)),\"ERRO\")","v":""},{"$f":"IFERROR(IF(G185=\"\",\"\",SUMIFS(Inventário!$N$10:$N$150,Inventário!$D$10:$D$150,Estoque!H$10,Inventário!$E$10:$E$150,Estoque!$C185)),\"ERRO\")","v":""},{"$f":"IFERROR(IF(H185=\"\",\"\",SUMIFS(Inventário!$N$10:$N$150,Inventário!$D$10:$D$150,Estoque!I$10,Inventário!$E$10:$E$150,Estoque!$C185)),\"ERRO\")","v":""},{"$f":"IFERROR(IF(I185=\"\",\"\",SUMIFS(Inventário!$N$10:$N$150,Inventário!$D$10:$D$150,Estoque!J$10,Inventário!$E$10:$E$150,Estoque!$C185)),\"ERRO\")","v":""},{"$f":"IFERROR(IF(J185=\"\",\"\",SUMIFS(Inventário!$N$10:$N$150,Inventário!$D$10:$D$150,Estoque!K$10,Inventário!$E$10:$E$150,Estoque!$C185)),\"ERRO\")","v":""},{"$f":"IFERROR(IF(K185=\"\",\"\",SUMIFS(Inventário!$N$10:$N$150,Inventário!$D$10:$D$150,Estoque!L$10,Inventário!$E$10:$E$150,Estoque!$C185)),\"ERRO\")","v":""},{"$f":"IFERROR(IF(L185=\"\",\"\",SUMIFS(Inventário!$N$10:$N$150,Inventário!$D$10:$D$150,Estoque!M$10,Inventário!$E$10:$E$150,Estoque!$C185)),\"ERRO\")","v":""},{"$f":"IFERROR(IF(M185=\"\",\"\",SUMIFS(Inventário!$N$10:$N$150,Inventário!$D$10:$D$150,Estoque!N$10,Inventário!$E$10:$E$150,Estoque!$C185)),\"ERRO\")","v":""},{"$f":"IFERROR(IF(N185=\"\",\"\",SUMIFS(Inventário!$N$10:$N$150,Inventário!$D$10:$D$150,Estoque!O$10,Inventário!$E$10:$E$150,Estoque!$C185)),\"ERRO\")","v":""}]
[null,174,{"$f":"IF('Cadastro de Produtos'!C178=\"\",\"\",VLOOKUP(B186,'Cadastro de Produtos'!$B$5:$C$204,2,0))","v":""},{"$f":"IFERROR(IF(C186=\"\",\"\",SUMIFS(Inventário!$N$10:$N$150,Inventário!$D$10:$D$150,Estoque!D$10,Inventário!$E$10:$E$150,Estoque!$C186)),\"ERRO\")","v":""},{"$f":"IFERROR(IF(D186=\"\",\"\",SUMIFS(Inventário!$N$10:$N$150,Inventário!$D$10:$D$150,Estoque!E$10,Inventário!$E$10:$E$150,Estoque!$C186)),\"ERRO\")","v":""},{"$f":"IFERROR(IF(E186=\"\",\"\",SUMIFS(Inventário!$N$10:$N$150,Inventário!$D$10:$D$150,Estoque!F$10,Inventário!$E$10:$E$150,Estoque!$C186)),\"ERRO\")","v":""},{"$f":"IFERROR(IF(F186=\"\",\"\",SUMIFS(Inventário!$N$10:$N$150,Inventário!$D$10:$D$150,Estoque!G$10,Inventário!$E$10:$E$150,Estoque!$C186)),\"ERRO\")","v":""},{"$f":"IFERROR(IF(G186=\"\",\"\",SUMIFS(Inventário!$N$10:$N$150,Inventário!$D$10:$D$150,Estoque!H$10,Inventário!$E$10:$E$150,Estoque!$C186)),\"ERRO\")","v":""},{"$f":"IFERROR(IF(H186=\"\",\"\",SUMIFS(Inventário!$N$10:$N$150,Inventário!$D$10:$D$150,Estoque!I$10,Inventário!$E$10:$E$150,Estoque!$C186)),\"ERRO\")","v":""},{"$f":"IFERROR(IF(I186=\"\",\"\",SUMIFS(Inventário!$N$10:$N$150,Inventário!$D$10:$D$150,Estoque!J$10,Inventário!$E$10:$E$150,Estoque!$C186)),\"ERRO\")","v":""},{"$f":"IFERROR(IF(J186=\"\",\"\",SUMIFS(Inventário!$N$10:$N$150,Inventário!$D$10:$D$150,Estoque!K$10,Inventário!$E$10:$E$150,Estoque!$C186)),\"ERRO\")","v":""},{"$f":"IFERROR(IF(K186=\"\",\"\",SUMIFS(Inventário!$N$10:$N$150,Inventário!$D$10:$D$150,Estoque!L$10,Inventário!$E$10:$E$150,Estoque!$C186)),\"ERRO\")","v":""},{"$f":"IFERROR(IF(L186=\"\",\"\",SUMIFS(Inventário!$N$10:$N$150,Inventário!$D$10:$D$150,Estoque!M$10,Inventário!$E$10:$E$150,Estoque!$C186)),\"ERRO\")","v":""},{"$f":"IFERROR(IF(M186=\"\",\"\",SUMIFS(Inventário!$N$10:$N$150,Inventário!$D$10:$D$150,Estoque!N$10,Inventário!$E$10:$E$150,Estoque!$C186)),\"ERRO\")","v":""},{"$f":"IFERROR(IF(N186=\"\",\"\",SUMIFS(Inventário!$N$10:$N$150,Inventário!$D$10:$D$150,Estoque!O$10,Inventário!$E$10:$E$150,Estoque!$C186)),\"ERRO\")","v":""}]
[null,175,{"$f":"IF('Cadastro de Produtos'!C179=\"\",\"\",VLOOKUP(B187,'Cadastro de Produtos'!$B$5:$C$204,2,0))","v":""},{"$f":"IFERROR(IF(C187=\"\",\"\",SUMIFS(Inventário!$N$10:$N$150,Inventário!$D$10:$D$150,Estoque!D$10,Inventário!$E$10:$E$150,Estoque!$C187)),\"ERRO\")","v":""},{"$f":"IFERROR(IF(D187=\"\",\"\",SUMIFS(Inventário!$N$10:$N$150,Inventário!$D$10:$D$150,Estoque!E$10,Inventário!$E$10:$E$150,Estoque!$C187)),\"ERRO\")","v":""},{"$f":"IFERROR(IF(E187=\"\",\"\",SUMIFS(Inventário!$N$10:$N$150,Inventário!$D$10:$D$150,Estoque!F$10,Inventário!$E$10:$E$150,Estoque!$C187)),\"ERRO\")","v":""},{"$f":"IFERROR(IF(F187=\"\",\"\",SUMIFS(Inventário!$N$10:$N$150,Inventário!$D$10:$D$150,Estoque!G$10,Inventário!$E$10:$E$150,Estoque!$C187)),\"ERRO\")","v":""},{"$f":"IFERROR(IF(G187=\"\",\"\",SUMIFS(Inventário!$N$10:$N$150,Inventário!$D$10:$D$150,Estoque!H$10,Inventário!$E$10:$E$150,Estoque!$C187)),\"ERRO\")","v":""},{"$f":"IFERROR(IF(H187=\"\",\"\",SUMIFS(Inventário!$N$10:$N$150,Inventário!$D$10:$D$150,Estoque!I$10,Inventário!$E$10:$E$150,Estoque!$C187)),\"ERRO\")","v":""},{"$f":"IFERROR(IF(I187=\"\",\"\",SUMIFS(Inventário!$N$10:$N$150,Inventário!$D$10:$D$150,Estoque!J$10,Inventário!$E$10:$E$150,Estoque!$C187)),\"ERRO\")","v":""},{"$f":"IFERROR(IF(J187=\"\",\"\",SUMIFS(Inventário!$N$10:$N$150,Inventário!$D$10:$D$150,Estoque!K$10,Inventário!$E$10:$E$150,Estoque!$C187)),\"ERRO\")","v":""},{"$f":"IFERROR(IF(K187=\"\",\"\",SUMIFS(Inventário!$N$10:$N$150,Inventário!$D$10:$D$150,Estoque!L$10,Inventário!$E$10:$E$150,Estoque!$C187)),\"ERRO\")","v":""},{"$f":"IFERROR(IF(L187=\"\",\"\",SUMIFS(Inventário!$N$10:$N$150,Inventário!$D$10:$D$150,Estoque!M$10,Inventário!$E$10:$E$150,Estoque!$C187)),\"ERRO\")","v":""},{"$f":"IFERROR(IF(M187=\"\",\"\",SUMIFS(Inventário!$N$10:$N$150,Inventário!$D$10:$D$150,Estoque!N$10,Inventário!$E$10:$E$150,Estoque!$C187)),\"ERRO\")","v":""},{"$f":"IFERROR(IF(N187=\"\",\"\",SUMIFS(Inventário!$N$10:$N$150,Inventário!$D$10:$D$150,Estoque!O$10,Inventário!$E$10:$E$150,Estoque!$C187)),\"ERRO\")","v":""}]
[null,176,{"$f":"IF('Cadastro de Produtos'!C180=\"\",\"\",VLOOKUP(B188,'Cadastro de Produtos'!$B$5:$C$204,2,0))","v":""},{"$f":"IFERROR(IF(C188=\"\",\"\",SUMIFS(Inventário!$N$10:$N$150,Inventário!$D$10:$D$150,Estoque!D$10,Inventário!$E$10:$E$150,Estoque!$C188)),\"ERRO\")","v":""},{"$f":"IFERROR(IF(D188=\"\",\"\",SUMIFS(Inventário!$N$10:$N$150,Inventário!$D$10:$D$150,Estoque!E$10,Inventário!$E$10:$E$150,Estoque!$C188)),\"ERRO\")","v":""},{"$f":"IFERROR(IF(E188=\"\",\"\",SUMIFS(Inventário!$N$10:$N$150,Inventário!$D$10:$D$150,Estoque!F$10,Inventário!$E$10:$E$150,Estoque!$C188)),\"ERRO\")","v":""},{"$f":"IFERROR(IF(F188=\"\",\"\",SUMIFS(Inventário!$N$10:$N$150,Inventário!$D$10:$D$150,Estoque!G$10,Inventário!$E$10:$E$150,Estoque!$C188)),\"ERRO\")","v":""},{"$f":"IFERROR(IF(G188=\"\",\"\",SUMIFS(Inventário!$N$10:$N$150,Inventário!$D$10:$D$150,Estoque!H$10,Inventário!$E$10:$E$150,Estoque!$C188)),\"ERRO\")","v":""},{"$f":"IFERROR(IF(H188=\"\",\"\",SUMIFS(Inventário!$N$10:$N$150,Inventário!$D$10:$D$150,Estoque!I$10,Inventário!$E$10:$E$150,Estoque!$C188)),\"ERRO\")","v":""},{"$f":"IFERROR(IF(I188=\"\",\"\",SUMIFS(Inventário!$N$10:$N$150,Inventário!$D$10:$D$150,Estoque!J$10,Inventário!$E$10:$E$150,Estoque!$C188)),\"ERRO\")","v":""},{"$f":"IFERROR(IF(J188=\"\",\"\",SUMIFS(Inventário!$N$10:$N$150,Inventário!$D$10:$D$150,Estoque!K$10,Inventário!$E$10:$E$150,Estoque!$C188)),\"ERRO\")","v":""},{"$f":"IFERROR(IF(K188=\"\",\"\",SUMIFS(Inventário!$N$10:$N$150,Inventário!$D$10:$D$150,Estoque!L$10,Inventário!$E$10:$E$150,Estoque!$C188)),\"ERRO\")","v":""},{"$f":"IFERROR(IF(L188=\"\",\"\",SUMIFS(Inventário!$N$10:$N$150,Inventário!$D$10:$D$150,Estoque!M$10,Inventário!$E$10:$E$150,Estoque!$C188)),\"ERRO\")","v":""},{"$f":"IFERROR(IF(M188=\"\",\"\",SUMIFS(Inventário!$N$10:$N$150,Inventário!$D$10:$D$150,Estoque!N$10,Inventário!$E$10:$E$150,Estoque!$C188)),\"ERRO\")","v":""},{"$f":"IFERROR(IF(N188=\"\",\"\",SUMIFS(Inventário!$N$10:$N$150,Inventário!$D$10:$D$150,Estoque!O$10,Inventário!$E$10:$E$150,Estoque!$C188)),\"ERRO\")","v":""}]
[null,177,{"$f":"IF('Cadastro de Produtos'!C181=\"\",\"\",VLOOKUP(B189,'Cadastro de Produtos'!$B$5:$C$204,2,0))","v":""},{"$f":"IFERROR(IF(C189=\"\",\"\",SUMIFS(Inventário!$N$10:$N$150,Inventário!$D$10:$D$150,Estoque!D$10,Inventário!$E$10:$E$150,Estoque!$C189)),\"ERRO\")","v":""},{"$f":"IFERROR(IF(D189=\"\",\"\",SUMIFS(Inventário!$N$10:$N$150,Inventário!$D$10:$D$150,Estoque!E$10,Inventário!$E$10:$E$150,Estoque!$C189)),\"ERRO\")","v":""},{"$f":"IFERROR(IF(E189=\"\",\"\",SUMIFS(Inventário!$N$10:$N$150,Inventário!$D$10:$D$150,Estoque!F$10,Inventário!$E$10:$E$150,Estoque!$C189)),\"ERRO\")","v":""},{"$f":"IFERROR(IF(F189=\"\",\"\",SUMIFS(Inventário!$N$10:$N$150,Inventário!$D$10:$D$150,Estoque!G$10,Inventário!$E$10:$E$150,Estoque!$C189)),\"ERRO\")","v":""},{"$f":"IFERROR(IF(G189=\"\",\"\",SUMIFS(Inventário!$N$10:$N$150,Inventário!$D$10:$D$150,Estoque!H$10,Inventário!$E$10:$E$150,Estoque!$C189)),\"ERRO\")","v":""},{"$f":"IFERROR(IF(H189=\"\",\"\",SUMIFS(Inventário!$N$10:$N$150,Inventário!$D$10:$D$150,Estoque!I$10,Inventário!$E$10:$E$150,Estoque!$C189)),\"ERRO\")","v":""},{"$f":"IFERROR(IF(I189=\"\",\"\",SUMIFS(Inventário!$N$10:$N$150,Inventário!$D$10:$D$150,Estoque!J$10,Inventário!$E$10:$E$150,Estoque!$C189)),\"ERRO\")","v":""},{"$f":"IFERROR(IF(J189=\"\",\"\",SUMIFS(Inventário!$N$10:$N$150,Inventário!$D$10:$D$150,Estoque!K$10,Inventário!$E$10:$E$150,Estoque!$C189)),\"ERRO\")","v":""},{"$f":"IFERROR(IF(K189=\"\",\"\",SUMIFS(Inventário!$N$10:$N$150,Inventário!$D$10:$D$150,Estoque!L$10,Inventário!$E$10:$E$150,Estoque!$C189)),\"ERRO\")","v":""},{"$f":"IFERROR(IF(L189=\"\",\"\",SUMIFS(Inventário!$N$10:$N$150,Inventário!$D$10:$D$150,Estoque!M$10,Inventário!$E$10:$E$150,Estoque!$C189)),\"ERRO\")","v":""},{"$f":"IFERROR(IF(M189=\"\",\"\",SUMIFS(Inventário!$N$10:$N$150,Inventário!$D$10:$D$150,Estoque!N$10,Inventário!$E$10:$E$150,Estoque!$C189)),\"ERRO\")","v":""},{"$f":"IFERROR(IF(N189=\"\",\"\",SUMIFS(Inventário!$N$10:$N$150,Inventário!$D$10:$D$150,Estoque!O$10,Inventário!$E$10:$E$150,Estoque!$C189)),\"ERRO\")","v":""}]
[null,178,{"$f":"IF('Cadastro de Produtos'!C182=\"\",\"\",VLOOKUP(B190,'Cadastro de Produtos'!$B$5:$C$204,2,0))","v":""},{"$f":"IFERROR(IF(C190=\"\",\"\",SUMIFS(Inventário!$N$10:$N$150,Inventário!$D$10:$D$150,Estoque!D$10,Inventário!$E$10:$E$150,Estoque!$C190)),\"ERRO\")","v":""},{"$f":"IFERROR(IF(D190=\"\",\"\",SUMIFS(Inventário!$N$10:$N$150,Inventário!$D$10:$D$150,Estoque!E$10,Inventário!$E$10:$E$150,Estoque!$C190)),\"ERRO\")","v":""},{"$f":"IFERROR(IF(E190=\"\",\"\",SUMIFS(Inventário!$N$10:$N$150,Inventário!$D$10:$D$150,Estoque!F$10,Inventário!$E$10:$E$150,Estoque!$C190)),\"ERRO\")","v":""},{"$f":"IFERROR(IF(F190=\"\",\"\",SUMIFS(Inventário!$N$10:$N$150,Inventário!$D$10:$D$150,Estoque!G$10,Inventário!$E$10:$E$150,Estoque!$C190)),\"ERRO\")","v":""},{"$f":"IFERROR(IF(G190=\"\",\"\",SUMIFS(Inventário!$N$10:$N$150,Inventário!$D$10:$D$150,Estoque!H$10,Inventário!$E$10:$E$150,Estoque!$C190)),\"ERRO\")","v":""},{"$f":"IFERROR(IF(H190=\"\",\"\",SUMIFS(Inventário!$N$10:$N$150,Inventário!$D$10:$D$150,Estoque!I$10,Inventário!$E$10:$E$150,Estoque!$C190)),\"ERRO\")","v":""},{"$f":"IFERROR(IF(I190=\"\",\"\",SUMIFS(Inventário!$N$10:$N$150,Inventário!$D$10:$D$150,Estoque!J$10,Inventário!$E$10:$E$150,Estoque!$C190)),\"ERRO\")","v":""},{"$f":"IFERROR(IF(J190=\"\",\"\",SUMIFS(Inventário!$N$10:$N$150,Inventário!$D$10:$D$150,Estoque!K$10,Inventário!$E$10:$E$150,Estoque!$C190)),\"ERRO\")","v":""},{"$f":"IFERROR(IF(K190=\"\",\"\",SUMIFS(Inventário!$N$10:$N$150,Inventário!$D$10:$D$150,Estoque!L$10,Inventário!$E$10:$E$150,Estoque!$C190)),\"ERRO\")","v":""},{"$f":"IFERROR(IF(L190=\"\",\"\",SUMIFS(Inventário!$N$10:$N$150,Inventário!$D$10:$D$150,Estoque!M$10,Inventário!$E$10:$E$150,Estoque!$C190)),\"ERRO\")","v":""},{"$f":"IFERROR(IF(M190=\"\",\"\",SUMIFS(Inventário!$N$10:$N$150,Inventário!$D$10:$D$150,Estoque!N$10,Inventário!$E$10:$E$150,Estoque!$C190)),\"ERRO\")","v":""},{"$f":"IFERROR(IF(N190=\"\",\"\",SUMIFS(Inventário!$N$10:$N$150,Inventário!$D$10:$D$150,Estoque!O$10,Inventário!$E$10:$E$150,Estoque!$C190)),\"ERRO\")","v":""}]
[null,179,{"$f":"IF('Cadastro de Produtos'!C183=\"\",\"\",VLOOKUP(B191,'Cadastro de Produtos'!$B$5:$C$204,2,0))","v":""},{"$f":"IFERROR(IF(C191=\"\",\"\",SUMIFS(Inventário!$N$10:$N$150,Inventário!$D$10:$D$150,Estoque!D$10,Inventário!$E$10:$E$150,Estoque!$C191)),\"ERRO\")","v":""},{"$f":"IFERROR(IF(D191=\"\",\"\",SUMIFS(Inventário!$N$10:$N$150,Inventário!$D$10:$D$150,Estoque!E$10,Inventário!$E$10:$E$150,Estoque!$C191)),\"ERRO\")","v":""},{"$f":"IFERROR(IF(E191=\"\",\"\",SUMIFS(Inventário!$N$10:$N$150,Inventário!$D$10:$D$150,Estoque!F$10,Inventário!$E$10:$E$150,Estoque!$C191)),\"ERRO\")","v":""},{"$f":"IFERROR(IF(F191=\"\",\"\",SUMIFS(Inventário!$N$10:$N$150,Inventário!$D$10:$D$150,Estoque!G$10,Inventário!$E$10:$E$150,Estoque!$C191)),\"ERRO\")","v":""},{"$f":"IFERROR(IF(G191=\"\",\"\",SUMIFS(Inventário!$N$10:$N$150,Inventário!$D$10:$D$150,Estoque!H$10,Inventário!$E$10:$E$150,Estoque!$C191)),\"ERRO\")","v":""},{"$f":"IFERROR(IF(H191=\"\",\"\",SUMIFS(Inventário!$N$10:$N$150,Inventário!$D$10:$D$150,Estoque!I$10,Inventário!$E$10:$E$150,Estoque!$C191)),\"ERRO\")","v":""},{"$f":"IFERROR(IF(I191=\"\",\"\",SUMIFS(Inventário!$N$10:$N$150,Inventário!$D$10:$D$150,Estoque!J$10,Inventário!$E$10:$E$150,Estoque!$C191)),\"ERRO\")","v":""},{"$f":"IFERROR(IF(J191=\"\",\"\",SUMIFS(Inventário!$N$10:$N$150,Inventário!$D$10:$D$150,Estoque!K$10,Inventário!$E$10:$E$150,Estoque!$C191)),\"ERRO\")","v":""},{"$f":"IFERROR(IF(K191=\"\",\"\",SUMIFS(Inventário!$N$10:$N$150,Inventário!$D$10:$D$150,Estoque!L$10,Inventário!$E$10:$E$150,Estoque!$C191)),\"ERRO\")","v":""},{"$f":"IFERROR(IF(L191=\"\",\"\",SUMIFS(Inventário!$N$10:$N$150,Inventário!$D$10:$D$150,Estoque!M$10,Inventário!$E$10:$E$150,Estoque!$C191)),\"ERRO\")","v":""},{"$f":"IFERROR(IF(M191=\"\",\"\",SUMIFS(Inventário!$N$10:$N$150,Inventário!$D$10:$D$150,Estoque!N$10,Inventário!$E$10:$E$150,Estoque!$C191)),\"ERRO\")","v":""},{"$f":"IFERROR(IF(N191=\"\",\"\",SUMIFS(Inventário!$N$10:$N$150,Inventário!$D$10:$D$150,Estoque!O$10,Inventário!$E$10:$E$150,Estoque!$C191)),\"ERRO\")","v":""}]
[null,180,{"$f":"IF('Cadastro de Produtos'!C184=\"\",\"\",VLOOKUP(B192,'Cadastro de Produtos'!$B$5:$C$204,2,0))","v":""},{"$f":"IFERROR(IF(C192=\"\",\"\",SUMIFS(Inventário!$N$10:$N$150,Inventário!$D$10:$D$150,Estoque!D$10,Inventário!$E$10:$E$150,Estoque!$C192)),\"ERRO\")","v":""},{"$f":"IFERROR(IF(D192=\"\",\"\",SUMIFS(Inventário!$N$10:$N$150,Inventário!$D$10:$D$150,Estoque!E$10,Inventário!$E$10:$E$150,Estoque!$C192)),\"ERRO\")","v":""},{"$f":"IFERROR(IF(E192=\"\",\"\",SUMIFS(Inventário!$N$10:$N$150,Inventário!$D$10:$D$150,Estoque!F$10,Inventário!$E$10:$E$150,Estoque!$C192)),\"ERRO\")","v":""},{"$f":"IFERROR(IF(F192=\"\",\"\",SUMIFS(Inventário!$N$10:$N$150,Inventário!$D$10:$D$150,Estoque!G$10,Inventário!$E$10:$E$150,Estoque!$C192)),\"ERRO\")","v":""},{"$f":"IFERROR(IF(G192=\"\",\"\",SUMIFS(Inventário!$N$10:$N$150,Inventário!$D$10:$D$150,Estoque!H$10,Inventário!$E$10:$E$150,Estoque!$C192)),\"ERRO\")","v":""},{"$f":"IFERROR(IF(H192=\"\",\"\",SUMIFS(Inventário!$N$10:$N$150,Inventário!$D$10:$D$150,Estoque!I$10,Inventário!$E$10:$E$150,Estoque!$C192)),\"ERRO\")","v":""},{"$f":"IFERROR(IF(I192=\"\",\"\",SUMIFS(Inventário!$N$10:$N$150,Inventário!$D$10:$D$150,Estoque!J$10,Inventário!$E$10:$E$150,Estoque!$C192)),\"ERRO\")","v":""},{"$f":"IFERROR(IF(J192=\"\",\"\",SUMIFS(Inventário!$N$10:$N$150,Inventário!$D$10:$D$150,Estoque!K$10,Inventário!$E$10:$E$150,Estoque!$C192)),\"ERRO\")","v":""},{"$f":"IFERROR(IF(K192=\"\",\"\",SUMIFS(Inventário!$N$10:$N$150,Inventário!$D$10:$D$150,Estoque!L$10,Inventário!$E$10:$E$150,Estoque!$C192)),\"ERRO\")","v":""},{"$f":"IFERROR(IF(L192=\"\",\"\",SUMIFS(Inventário!$N$10:$N$150,Inventário!$D$10:$D$150,Estoque!M$10,Inventário!$E$10:$E$150,Estoque!$C192)),\"ERRO\")","v":""},{"$f":"IFERROR(IF(M192=\"\",\"\",SUMIFS(Inventário!$N$10:$N$150,Inventário!$D$10:$D$150,Estoque!N$10,Inventário!$E$10:$E$150,Estoque!$C192)),\"ERRO\")","v":""},{"$f":"IFERROR(IF(N192=\"\",\"\",SUMIFS(Inventário!$N$10:$N$150,Inventário!$D$10:$D$150,Estoque!O$10,Inventário!$E$10:$E$150,Estoque!$C192)),\"ERRO\")","v":""}]
[null,181,{"$f":"IF('Cadastro de Produtos'!C185=\"\",\"\",VLOOKUP(B193,'Cadastro de Produtos'!$B$5:$C$204,2,0))","v":""},{"$f":"IFERROR(IF(C193=\"\",\"\",SUMIFS(Inventário!$N$10:$N$150,Inventário!$D$10:$D$150,Estoque!D$10,Inventário!$E$10:$E$150,Estoque!$C193)),\"ERRO\")","v":""},{"$f":"IFERROR(IF(D193=\"\",\"\",SUMIFS(Inventário!$N$10:$N$150,Inventário!$D$10:$D$150,Estoque!E$10,Inventário!$E$10:$E$150,Estoque!$C193)),\"ERRO\")","v":""},{"$f":"IFERROR(IF(E193=\"\",\"\",SUMIFS(Inventário!$N$10:$N$150,Inventário!$D$10:$D$150,Estoque!F$10,Inventário!$E$10:$E$150,Estoque!$C193)),\"ERRO\")","v":""},{"$f":"IFERROR(IF(F193=\"\",\"\",SUMIFS(Inventário!$N$10:$N$150,Inventário!$D$10:$D$150,Estoque!G$10,Inventário!$E$10:$E$150,Estoque!$C193)),\"ERRO\")","v":""},{"$f":"IFERROR(IF(G193=\"\",\"\",SUMIFS(Inventário!$N$10:$N$150,Inventário!$D$10:$D$150,Estoque!H$10,Inventário!$E$10:$E$150,Estoque!$C193)),\"ERRO\")","v":""},{"$f":"IFERROR(IF(H193=\"\",\"\",SUMIFS(Inventário!$N$10:$N$150,Inventário!$D$10:$D$150,Estoque!I$10,Inventário!$E$10:$E$150,Estoque!$C193)),\"ERRO\")","v":""},{"$f":"IFERROR(IF(I193=\"\",\"\",SUMIFS(Inventário!$N$10:$N$150,Inventário!$D$10:$D$150,Estoque!J$10,Inventário!$E$10:$E$150,Estoque!$C193)),\"ERRO\")","v":""},{"$f":"IFERROR(IF(J193=\"\",\"\",SUMIFS(Inventário!$N$10:$N$150,Inventário!$D$10:$D$150,Estoque!K$10,Inventário!$E$10:$E$150,Estoque!$C193)),\"ERRO\")","v":""},{"$f":"IFERROR(IF(K193=\"\",\"\",SUMIFS(Inventário!$N$10:$N$150,Inventário!$D$10:$D$150,Estoque!L$10,Inventário!$E$10:$E$150,Estoque!$C193)),\"ERRO\")","v":""},{"$f":"IFERROR(IF(L193=\"\",\"\",SUMIFS(Inventário!$N$10:$N$150,Inventário!$D$10:$D$150,Estoque!M$10,Inventário!$E$10:$E$150,Estoque!$C193)),\"ERRO\")","v":""},{"$f":"IFERROR(IF(M193=\"\",\"\",SUMIFS(Inventário!$N$10:$N$150,Inventário!$D$10:$D$150,Estoque!N$10,Inventário!$E$10:$E$150,Estoque!$C193)),\"ERRO\")","v":""},{"$f":"IFERROR(IF(N193=\"\",\"\",SUMIFS(Inventário!$N$10:$N$150,Inventário!$D$10:$D$150,Estoque!O$10,Inventário!$E$10:$E$150,Estoque!$C193)),\"ERRO\")","v":""}]
[null,182,{"$f":"IF('Cadastro de Produtos'!C186=\"\",\"\",VLOOKUP(B194,'Cadastro de Produtos'!$B$5:$C$204,2,0))","v":""},{"$f":"IFERROR(IF(C194=\"\",\"\",SUMIFS(Inventário!$N$10:$N$150,Inventário!$D$10:$D$150,Estoque!D$10,Inventário!$E$10:$E$150,Estoque!$C194)),\"ERRO\")","v":""},{"$f":"IFERROR(IF(D194=\"\",\"\",SUMIFS(Inventário!$N$10:$N$150,Inventário!$D$10:$D$150,Estoque!E$10,Inventário!$E$10:$E$150,Estoque!$C194)),\"ERRO\")","v":""},{"$f":"IFERROR(IF(E194=\"\",\"\",SUMIFS(Inventário!$N$10:$N$150,Inventário!$D$10:$D$150,Estoque!F$10,Inventário!$E$10:$E$150,Estoque!$C194)),\"ERRO\")","v":""},{"$f":"IFERROR(IF(F194=\"\",\"\",SUMIFS(Inventário!$N$10:$N$150,Inventário!$D$10:$D$150,Estoque!G$10,Inventário!$E$10:$E$150,Estoque!$C194)),\"ERRO\")","v":""},{"$f":"IFERROR(IF(G194=\"\",\"\",SUMIFS(Inventário!$N$10:$N$150,Inventário!$D$10:$D$150,Estoque!H$10,Inventário!$E$10:$E$150,Estoque!$C194)),\"ERRO\")","v":""},{"$f":"IFERROR(IF(H194=\"\",\"\",SUMIFS(Inventário!$N$10:$N$150,Inventário!$D$10:$D$150,Estoque!I$10,Inventário!$E$10:$E$150,Estoque!$C194)),\"ERRO\")","v":""},{"$f":"IFERROR(IF(I194=\"\",\"\",SUMIFS(Inventário!$N$10:$N$150,Inventário!$D$10:$D$150,Estoque!J$10,Inventário!$E$10:$E$150,Estoque!$C194)),\"ERRO\")","v":""},{"$f":"IFERROR(IF(J194=\"\",\"\",SUMIFS(Inventário!$N$10:$N$150,Inventário!$D$10:$D$150,Estoque!K$10,Inventário!$E$10:$E$150,Estoque!$C194)),\"ERRO\")","v":""},{"$f":"IFERROR(IF(K194=\"\",\"\",SUMIFS(Inventário!$N$10:$N$150,Inventário!$D$10:$D$150,Estoque!L$10,Inventário!$E$10:$E$150,Estoque!$C194)),\"ERRO\")","v":""},{"$f":"IFERROR(IF(L194=\"\",\"\",SUMIFS(Inventário!$N$10:$N$150,Inventário!$D$10:$D$150,Estoque!M$10,Inventário!$E$10:$E$150,Estoque!$C194)),\"ERRO\")","v":""},{"$f":"IFERROR(IF(M194=\"\",\"\",SUMIFS(Inventário!$N$10:$N$150,Inventário!$D$10:$D$150,Estoque!N$10,Inventário!$E$10:$E$150,Estoque!$C194)),\"ERRO\")","v":""},{"$f":"IFERROR(IF(N194=\"\",\"\",SUMIFS(Inventário!$N$10:$N$150,Inventário!$D$10:$D$150,Estoque!O$10,Inventário!$E$10:$E$150,Estoque!$C194)),\"ERRO\")","v":""}]
[null,183,{"$f":"IF('Cadastro de Produtos'!C187=\"\",\"\",VLOOKUP(B195,'Cadastro de Produtos'!$B$5:$C$204,2,0))","v":""},{"$f":"IFERROR(IF(C195=\"\",\"\",SUMIFS(Inventário!$N$10:$N$150,Inventário!$D$10:$D$150,Estoque!D$10,Inventário!$E$10:$E$150,Estoque!$C195)),\"ERRO\")","v":""},{"$f":"IFERROR(IF(D195=\"\",\"\",SUMIFS(Inventário!$N$10:$N$150,Inventário!$D$10:$D$150,Estoque!E$10,Inventário!$E$10:$E$150,Estoque!$C195)),\"ERRO\")","v":""},{"$f":"IFERROR(IF(E195=\"\",\"\",SUMIFS(Inventário!$N$10:$N$150,Inventário!$D$10:$D$150,Estoque!F$10,Inventário!$E$10:$E$150,Estoque!$C195)),\"ERRO\")","v":""},{"$f":"IFERROR(IF(F195=\"\",\"\",SUMIFS(Inventário!$N$10:$N$150,Inventário!$D$10:$D$150,Estoque!G$10,Inventário!$E$10:$E$150,Estoque!$C195)),\"ERRO\")","v":""},{"$f":"IFERROR(IF(G195=\"\",\"\",SUMIFS(Inventário!$N$10:$N$150,Inventário!$D$10:$D$150,Estoque!H$10,Inventário!$E$10:$E$150,Estoque!$C195)),\"ERRO\")","v":""},{"$f":"IFERROR(IF(H195=\"\",\"\",SUMIFS(Inventário!$N$10:$N$150,Inventário!$D$10:$D$150,Estoque!I$10,Inventário!$E$10:$E$150,Estoque!$C195)),\"ERRO\")","v":""},{"$f":"IFERROR(IF(I195=\"\",\"\",SUMIFS(Inventário!$N$10:$N$150,Inventário!$D$10:$D$150,Estoque!J$10,Inventário!$E$10:$E$150,Estoque!$C195)),\"ERRO\")","v":""},{"$f":"IFERROR(IF(J195=\"\",\"\",SUMIFS(Inventário!$N$10:$N$150,Inventário!$D$10:$D$150,Estoque!K$10,Inventário!$E$10:$E$150,Estoque!$C195)),\"ERRO\")","v":""},{"$f":"IFERROR(IF(K195=\"\",\"\",SUMIFS(Inventário!$N$10:$N$150,Inventário!$D$10:$D$150,Estoque!L$10,Inventário!$E$10:$E$150,Estoque!$C195)),\"ERRO\")","v":""},{"$f":"IFERROR(IF(L195=\"\",\"\",SUMIFS(Inventário!$N$10:$N$150,Inventário!$D$10:$D$150,Estoque!M$10,Inventário!$E$10:$E$150,Estoque!$C195)),\"ERRO\")","v":""},{"$f":"IFERROR(IF(M195=\"\",\"\",SUMIFS(Inventário!$N$10:$N$150,Inventário!$D$10:$D$150,Estoque!N$10,Inventário!$E$10:$E$150,Estoque!$C195)),\"ERRO\")","v":""},{"$f":"IFERROR(IF(N195=\"\",\"\",SUMIFS(Inventário!$N$10:$N$150,Inventário!$D$10:$D$150,Estoque!O$10,Inventário!$E$10:$E$150,Estoque!$C195)),\"ERRO\")","v":""}]
[null,184,{"$f":"IF('Cadastro de Produtos'!C188=\"\",\"\",VLOOKUP(B196,'Cadastro de Produtos'!$B$5:$C$204,2,0))","v":""},{"$f":"IFERROR(IF(C196=\"\",\"\",SUMIFS(Inventário!$N$10:$N$150,Inventário!$D$10:$D$150,Estoque!D$10,Inventário!$E$10:$E$150,Estoque!$C196)),\"ERRO\")","v":""},{"$f":"IFERROR(IF(D196=\"\",\"\",SUMIFS(Inventário!$N$10:$N$150,Inventário!$D$10:$D$150,Estoque!E$10,Inventário!$E$10:$E$150,Estoque!$C196)),\"ERRO\")","v":""},{"$f":"IFERROR(IF(E196=\"\",\"\",SUMIFS(Inventário!$N$10:$N$150,Inventário!$D$10:$D$150,Estoque!F$10,Inventário!$E$10:$E$150,Estoque!$C196)),\"ERRO\")","v":""},{"$f":"IFERROR(IF(F196=\"\",\"\",SUMIFS(Inventário!$N$10:$N$150,Inventário!$D$10:$D$150,Estoque!G$10,Inventário!$E$10:$E$150,Estoque!$C196)),\"ERRO\")","v":""},{"$f":"IFERROR(IF(G196=\"\",\"\",SUMIFS(Inventário!$N$10:$N$150,Inventário!$D$10:$D$150,Estoque!H$10,Inventário!$E$10:$E$150,Estoque!$C196)),\"ERRO\")","v":""},{"$f":"IFERROR(IF(H196=\"\",\"\",SUMIFS(Inventário!$N$10:$N$150,Inventário!$D$10:$D$150,Estoque!I$10,Inventário!$E$10:$E$150,Estoque!$C196)),\"ERRO\")","v":""},{"$f":"IFERROR(IF(I196=\"\",\"\",SUMIFS(Inventário!$N$10:$N$150,Inventário!$D$10:$D$150,Estoque!J$10,Inventário!$E$10:$E$150,Estoque!$C196)),\"ERRO\")","v":""},{"$f":"IFERROR(IF(J196=\"\",\"\",SUMIFS(Inventário!$N$10:$N$150,Inventário!$D$10:$D$150,Estoque!K$10,Inventário!$E$10:$E$150,Estoque!$C196)),\"ERRO\")","v":""},{"$f":"IFERROR(IF(K196=\"\",\"\",SUMIFS(Inventário!$N$10:$N$150,Inventário!$D$10:$D$150,Estoque!L$10,Inventário!$E$10:$E$150,Estoque!$C196)),\"ERRO\")","v":""},{"$f":"IFERROR(IF(L196=\"\",\"\",SUMIFS(Inventário!$N$10:$N$150,Inventário!$D$10:$D$150,Estoque!M$10,Inventário!$E$10:$E$150,Estoque!$C196)),\"ERRO\")","v":""},{"$f":"IFERROR(IF(M196=\"\",\"\",SUMIFS(Inventário!$N$10:$N$150,Inventário!$D$10:$D$150,Estoque!N$10,Inventário!$E$10:$E$150,Estoque!$C196)),\"ERRO\")","v":""},{"$f":"IFERROR(IF(N196=\"\",\"\",SUMIFS(Inventário!$N$10:$N$150,Inventário!$D$10:$D$150,Estoque!O$10,Inventário!$E$10:$E$150,Estoque!$C196)),\"ERRO\")","v":""}]
[null,185,{"$f":"IF('Cadastro de Produtos'!C189=\"\",\"\",VLOOKUP(B197,'Cadastro de Produtos'!$B$5:$C$204,2,0))","v":""},{"$f":"IFERROR(IF(C197=\"\",\"\",SUMIFS(Inventário!$N$10:$N$150,Inventário!$D$10:$D$150,Estoque!D$10,Inventário!$E$10:$E$150,Estoque!$C197)),\"ERRO\")","v":""},{"$f":"IFERROR(IF(D197=\"\",\"\",SUMIFS(Inventário!$N$10:$N$150,Inventário!$D$10:$D$150,Estoque!E$10,Inventário!$E$10:$E$150,Estoque!$C197)),\"ERRO\")","v":""},{"$f":"IFERROR(IF(E197=\"\",\"\",SUMIFS(Inventário!$N$10:$N$150,Inventário!$D$10:$D$150,Estoque!F$10,Inventário!$E$10:$E$150,Estoque!$C197)),\"ERRO\")","v":""},{"$f":"IFERROR(IF(F197=\"\",\"\",SUMIFS(Inventário!$N$10:$N$150,Inventário!$D$10:$D$150,Estoque!G$10,Inventário!$E$10:$E$150,Estoque!$C197)),\"ERRO\")","v":""},{"$f":"IFERROR(IF(G197=\"\",\"\",SUMIFS(Inventário!$N$10:$N$150,Inventário!$D$10:$D$150,Estoque!H$10,Inventário!$E$10:$E$150,Estoque!$C197)),\"ERRO\")","v":""},{"$f":"IFERROR(IF(H197=\"\",\"\",SUMIFS(Inventário!$N$10:$N$150,Inventário!$D$10:$D$150,Estoque!I$10,Inventário!$E$10:$E$150,Estoque!$C197)),\"ERRO\")","v":""},{"$f":"IFERROR(IF(I197=\"\",\"\",SUMIFS(Inventário!$N$10:$N$150,Inventário!$D$10:$D$150,Estoque!J$10,Inventário!$E$10:$E$150,Estoque!$C197)),\"ERRO\")","v":""},{"$f":"IFERROR(IF(J197=\"\",\"\",SUMIFS(Inventário!$N$10:$N$150,Inventário!$D$10:$D$150,Estoque!K$10,Inventário!$E$10:$E$150,Estoque!$C197)),\"ERRO\")","v":""},{"$f":"IFERROR(IF(K197=\"\",\"\",SUMIFS(Inventário!$N$10:$N$150,Inventário!$D$10:$D$150,Estoque!L$10,Inventário!$E$10:$E$150,Estoque!$C197)),\"ERRO\")","v":""},{"$f":"IFERROR(IF(L197=\"\",\"\",SUMIFS(Inventário!$N$10:$N$150,Inventário!$D$10:$D$150,Estoque!M$10,Inventário!$E$10:$E$150,Estoque!$C197)),\"ERRO\")","v":""},{"$f":"IFERROR(IF(M197=\"\",\"\",SUMIFS(Inventário!$N$10:$N$150,Inventário!$D$10:$D$150,Estoque!N$10,Inventário!$E$10:$E$150,Estoque!$C197)),\"ERRO\")","v":""},{"$f":"IFERROR(IF(N197=\"\",\"\",SUMIFS(Inventário!$N$10:$N$150,Inventário!$D$10:$D$150,Estoque!O$10,Inventário!$E$10:$E$150,Estoque!$C197)),\"ERRO\")","v":""}]
[null,186,{"$f":"IF('Cadastro de Produtos'!C190=\"\",\"\",VLOOKUP(B198,'Cadastro de Produtos'!$B$5:$C$204,2,0))","v":""},{"$f":"IFERROR(IF(C198=\"\",\"\",SUMIFS(Inventário!$N$10:$N$150,Inventário!$D$10:$D$150,Estoque!D$10,Inventário!$E$10:$E$150,Estoque!$C198)),\"ERRO\")","v":""},{"$f":"IFERROR(IF(D198=\"\",\"\",SUMIFS(Inventário!$N$10:$N$150,Inventário!$D$10:$D$150,Estoque!E$10,Inventário!$E$10:$E$150,Estoque!$C198)),\"ERRO\")","v":""},{"$f":"IFERROR(IF(E198=\"\",\"\",SUMIFS(Inventário!$N$10:$N$150,Inventário!$D$10:$D$150,Estoque!F$10,Inventário!$E$10:$E$150,Estoque!$C198)),\"ERRO\")","v":""},{"$f":"IFERROR(IF(F198=\"\",\"\",SUMIFS(Inventário!$N$10:$N$150,Inventário!$D$10:$D$150,Estoque!G$10,Inventário!$E$10:$E$150,Estoque!$C198)),\"ERRO\")","v":""},{"$f":"IFERROR(IF(G198=\"\",\"\",SUMIFS(Inventário!$N$10:$N$150,Inventário!$D$10:$D$150,Estoque!H$10,Inventário!$E$10:$E$150,Estoque!$C198)),\"ERRO\")","v":""},{"$f":"IFERROR(IF(H198=\"\",\"\",SUMIFS(Inventário!$N$10:$N$150,Inventário!$D$10:$D$150,Estoque!I$10,Inventário!$E$10:$E$150,Estoque!$C198)),\"ERRO\")","v":""},{"$f":"IFERROR(IF(I198=\"\",\"\",SUMIFS(Inventário!$N$10:$N$150,Inventário!$D$10:$D$150,Estoque!J$10,Inventário!$E$10:$E$150,Estoque!$C198)),\"ERRO\")","v":""},{"$f":"IFERROR(IF(J198=\"\",\"\",SUMIFS(Inventário!$N$10:$N$150,Inventário!$D$10:$D$150,Estoque!K$10,Inventário!$E$10:$E$150,Estoque!$C198)),\"ERRO\")","v":""},{"$f":"IFERROR(IF(K198=\"\",\"\",SUMIFS(Inventário!$N$10:$N$150,Inventário!$D$10:$D$150,Estoque!L$10,Inventário!$E$10:$E$150,Estoque!$C198)),\"ERRO\")","v":""},{"$f":"IFERROR(IF(L198=\"\",\"\",SUMIFS(Inventário!$N$10:$N$150,Inventário!$D$10:$D$150,Estoque!M$10,Inventário!$E$10:$E$150,Estoque!$C198)),\"ERRO\")","v":""},{"$f":"IFERROR(IF(M198=\"\",\"\",SUMIFS(Inventário!$N$10:$N$150,Inventário!$D$10:$D$150,Estoque!N$10,Inventário!$E$10:$E$150,Estoque!$C198)),\"ERRO\")","v":""},{"$f":"IFERROR(IF(N198=\"\",\"\",SUMIFS(Inventário!$N$10:$N$150,Inventário!$D$10:$D$150,Estoque!O$10,Inventário!$E$10:$E$150,Estoque!$C198)),\"ERRO\")","v":""}]
[null,187,{"$f":"IF('Cadastro de Produtos'!C191=\"\",\"\",VLOOKUP(B199,'Cadastro de Produtos'!$B$5:$C$204,2,0))","v":""},{"$f":"IFERROR(IF(C199=\"\",\"\",SUMIFS(Inventário!$N$10:$N$150,Inventário!$D$10:$D$150,Estoque!D$10,Inventário!$E$10:$E$150,Estoque!$C199)),\"ERRO\")","v":""},{"$f":"IFERROR(IF(D199=\"\",\"\",SUMIFS(Inventário!$N$10:$N$150,Inventário!$D$10:$D$150,Estoque!E$10,Inventário!$E$10:$E$150,Estoque!$C199)),\"ERRO\")","v":""},{"$f":"IFERROR(IF(E199=\"\",\"\",SUMIFS(Inventário!$N$10:$N$150,Inventário!$D$10:$D$150,Estoque!F$10,Inventário!$E$10:$E$150,Estoque!$C199)),\"ERRO\")","v":""},{"$f":"IFERROR(IF(F199=\"\",\"\",SUMIFS(Inventário!$N$10:$N$150,Inventário!$D$10:$D$150,Estoque!G$10,Inventário!$E$10:$E$150,Estoque!$C199)),\"ERRO\")","v":""},{"$f":"IFERROR(IF(G199=\"\",\"\",SUMIFS(Inventário!$N$10:$N$150,Inventário!$D$10:$D$150,Estoque!H$10,Inventário!$E$10:$E$150,Estoque!$C199)),\"ERRO\")","v":""},{"$f":"IFERROR(IF(H199=\"\",\"\",SUMIFS(Inventário!$N$10:$N$150,Inventário!$D$10:$D$150,Estoque!I$10,Inventário!$E$10:$E$150,Estoque!$C199)),\"ERRO\")","v":""},{"$f":"IFERROR(IF(I199=\"\",\"\",SUMIFS(Inventário!$N$10:$N$150,Inventário!$D$10:$D$150,Estoque!J$10,Inventário!$E$10:$E$150,Estoque!$C199)),\"ERRO\")","v":""},{"$f":"IFERROR(IF(J199=\"\",\"\",SUMIFS(Inventário!$N$10:$N$150,Inventário!$D$10:$D$150,Estoque!K$10,Inventário!$E$10:$E$150,Estoque!$C199)),\"ERRO\")","v":""},{"$f":"IFERROR(IF(K199=\"\",\"\",SUMIFS(Inventário!$N$10:$N$150,Inventário!$D$10:$D$150,Estoque!L$10,Inventário!$E$10:$E$150,Estoque!$C199)),\"ERRO\")","v":""},{"$f":"IFERROR(IF(L199=\"\",\"\",SUMIFS(Inventário!$N$10:$N$150,Inventário!$D$10:$D$150,Estoque!M$10,Inventário!$E$10:$E$150,Estoque!$C199)),\"ERRO\")","v":""},{"$f":"IFERROR(IF(M199=\"\",\"\",SUMIFS(Inventário!$N$10:$N$150,Inventário!$D$10:$D$150,Estoque!N$10,Inventário!$E$10:$E$150,Estoque!$C199)),\"ERRO\")","v":""},{"$f":"IFERROR(IF(N199=\"\",\"\",SUMIFS(Inventário!$N$10:$N$150,Inventário!$D$10:$D$150,Estoque!O$10,Inventário!$E$10:$E$150,Estoque!$C199)),\"ERRO\")","v":""}]
[null,188,{"$f":"IF('Cadastro de Produtos'!C192=\"\",\"\",VLOOKUP(B200,'Cadastro de Produtos'!$B$5:$C$204,2,0))","v":""},{"$f":"IFERROR(IF(C200=\"\",\"\",SUMIFS(Inventário!$N$10:$N$150,Inventário!$D$10:$D$150,Estoque!D$10,Inventário!$E$10:$E$150,Estoque!$C200)),\"ERRO\")","v":""},{"$f":"IFERROR(IF(D200=\"\",\"\",SUMIFS(Inventário!$N$10:$N$150,Inventário!$D$10:$D$150,Estoque!E$10,Inventário!$E$10:$E$150,Estoque!$C200)),\"ERRO\")","v":""},{"$f":"IFERROR(IF(E200=\"\",\"\",SUMIFS(Inventário!$N$10:$N$150,Inventário!$D$10:$D$150,Estoque!F$10,Inventário!$E$10:$E$150,Estoque!$C200)),\"ERRO\")","v":""},{"$f":"IFERROR(IF(F200=\"\",\"\",SUMIFS(Inventário!$N$10:$N$150,Inventário!$D$10:$D$150,Estoque!G$10,Inventário!$E$10:$E$150,Estoque!$C200)),\"ERRO\")","v":""},{"$f":"IFERROR(IF(G200=\"\",\"\",SUMIFS(Inventário!$N$10:$N$150,Inventário!$D$10:$D$150,Estoque!H$10,Inventário!$E$10:$E$150,Estoque!$C200)),\"ERRO\")","v":""},{"$f":"IFERROR(IF(H200=\"\",\"\",SUMIFS(Inventário!$N$10:$N$150,Inventário!$D$10:$D$150,Estoque!I$10,Inventário!$E$10:$E$150,Estoque!$C200)),\"ERRO\")","v":""},{"$f":"IFERROR(IF(I200=\"\",\"\",SUMIFS(Inventário!$N$10:$N$150,Inventário!$D$10:$D$150,Estoque!J$10,Inventário!$E$10:$E$150,Estoque!$C200)),\"ERRO\")","v":""},{"$f":"IFERROR(IF(J200=\"\",\"\",SUMIFS(Inventário!$N$10:$N$150,Inventário!$D$10:$D$150,Estoque!K$10,Inventário!$E$10:$E$150,Estoque!$C200)),\"ERRO\")","v":""},{"$f":"IFERROR(IF(K200=\"\",\"\",SUMIFS(Inventário!$N$10:$N$150,Inventário!$D$10:$D$150,Estoque!L$10,Inventário!$E$10:$E$150,Estoque!$C200)),\"ERRO\")","v":""},{"$f":"IFERROR(IF(L200=\"\",\"\",SUMIFS(Inventário!$N$10:$N$150,Inventário!$D$10:$D$150,Estoque!M$10,Inventário!$E$10:$E$150,Estoque!$C200)),\"ERRO\")","v":""},{"$f":"IFERROR(IF(M200=\"\",\"\",SUMIFS(Inventário!$N$10:$N$150,Inventário!$D$10:$D$150,Estoque!N$10,Inventário!$E$10:$E$150,Estoque!$C200)),\"ERRO\")","v":""},{"$f":"IFERROR(IF(N200=\"\",\"\",SUMIFS(Inventário!$N$10:$N$150,Inventário!$D$10:$D$150,Estoque!O$10,Inventário!$E$10:$E$150,Estoque!$C200)),\"ERRO\")","v":""}]
[null,189,{"$f":"IF('Cadastro de Produtos'!C193=\"\",\"\",VLOOKUP(B201,'Cadastro de Produtos'!$B$5:$C$204,2,0))","v":""},{"$f":"IFERROR(IF(C201=\"\",\"\",SUMIFS(Inventário!$N$10:$N$150,Inventário!$D$10:$D$150,Estoque!D$10,Inventário!$E$10:$E$150,Estoque!$C201)),\"ERRO\")","v":""},{"$f":"IFERROR(IF(D201=\"\",\"\",SUMIFS(Inventário!$N$10:$N$150,Inventário!$D$10:$D$150,Estoque!E$10,Inventário!$E$10:$E$150,Estoque!$C201)),\"ERRO\")","v":""},{"$f":"IFERROR(IF(E201=\"\",\"\",SUMIFS(Inventário!$N$10:$N$150,Inventário!$D$10:$D$150,Estoque!F$10,Inventário!$E$10:$E$150,Estoque!$C201)),\"ERRO\")","v":""},{"$f":"IFERROR(IF(F201=\"\",\"\",SUMIFS(Inventário!$N$10:$N$150,Inventário!$D$10:$D$150,Estoque!G$10,Inventário!$E$10:$E$150,Estoque!$C201)),\"ERRO\")","v":""},{"$f":"IFERROR(IF(G201=\"\",\"\",SUMIFS(Inventário!$N$10:$N$150,Inventário!$D$10:$D$150,Estoque!H$10,Inventário!$E$10:$E$150,Estoque!$C201)),\"ERRO\")","v":""},{"$f":"IFERROR(IF(H201=\"\",\"\",SUMIFS(Inventário!$N$10:$N$150,Inventário!$D$10:$D$150,Estoque!I$10,Inventário!$E$10:$E$150,Estoque!$C201)),\"ERRO\")","v":""},{"$f":"IFERROR(IF(I201=\"\",\"\",SUMIFS(Inventário!$N$10:$N$150,Inventário!$D$10:$D$150,Estoque!J$10,Inventário!$E$10:$E$150,Estoque!$C201)),\"ERRO\")","v":""},{"$f":"IFERROR(IF(J201=\"\",\"\",SUMIFS(Inventário!$N$10:$N$150,Inventário!$D$10:$D$150,Estoque!K$10,Inventário!$E$10:$E$150,Estoque!$C201)),\"ERRO\")","v":""},{"$f":"IFERROR(IF(K201=\"\",\"\",SUMIFS(Inventário!$N$10:$N$150,Inventário!$D$10:$D$150,Estoque!L$10,Inventário!$E$10:$E$150,Estoque!$C201)),\"ERRO\")","v":""},{"$f":"IFERROR(IF(L201=\"\",\"\",SUMIFS(Inventário!$N$10:$N$150,Inventário!$D$10:$D$150,Estoque!M$10,Inventário!$E$10:$E$150,Estoque!$C201)),\"ERRO\")","v":""},{"$f":"IFERROR(IF(M201=\"\",\"\",SUMIFS(Inventário!$N$10:$N$150,Inventário!$D$10:$D$150,Estoque!N$10,Inventário!$E$10:$E$150,Estoque!$C201)),\"ERRO\")","v":""},{"$f":"IFERROR(IF(N201=\"\",\"\",SUMIFS(Inventário!$N$10:$N$150,Inventário!$D$10:$D$150,Estoque!O$10,Inventário!$E$10:$E$150,Estoque!$C201)),\"ERRO\")","v":""}]
[null,190,{"$f":"IF('Cadastro de Produtos'!C194=\"\",\"\",VLOOKUP(B202,'Cadastro de Produtos'!$B$5:$C$204,2,0))","v":""},{"$f":"IFERROR(IF(C202=\"\",\"\",SUMIFS(Inventário!$N$10:$N$150,Inventário!$D$10:$D$150,Estoque!D$10,Inventário!$E$10:$E$150,Estoque!$C202)),\"ERRO\")","v":""},{"$f":"IFERROR(IF(D202=\"\",\"\",SUMIFS(Inventário!$N$10:$N$150,Inventário!$D$10:$D$150,Estoque!E$10,Inventário!$E$10:$E$150,Estoque!$C202)),\"ERRO\")","v":""},{"$f":"IFERROR(IF(E202=\"\",\"\",SUMIFS(Inventário!$N$10:$N$150,Inventário!$D$10:$D$150,Estoque!F$10,Inventário!$E$10:$E$150,Estoque!$C202)),\"ERRO\")","v":""},{"$f":"IFERROR(IF(F202=\"\",\"\",SUMIFS(Inventário!$N$10:$N$150,Inventário!$D$10:$D$150,Estoque!G$10,Inventário!$E$10:$E$150,Estoque!$C202)),\"ERRO\")","v":""},{"$f":"IFERROR(IF(G202=\"\",\"\",SUMIFS(Inventário!$N$10:$N$150,Inventário!$D$10:$D$150,Estoque!H$10,Inventário!$E$10:$E$150,Estoque!$C202)),\"ERRO\")","v":""},{"$f":"IFERROR(IF(H202=\"\",\"\",SUMIFS(Inventário!$N$10:$N$150,Inventário!$D$10:$D$150,Estoque!I$10,Inventário!$E$10:$E$150,Estoque!$C202)),\"ERRO\")","v":""},{"$f":"IFERROR(IF(I202=\"\",\"\",SUMIFS(Inventário!$N$10:$N$150,Inventário!$D$10:$D$150,Estoque!J$10,Inventário!$E$10:$E$150,Estoque!$C202)),\"ERRO\")","v":""},{"$f":"IFERROR(IF(J202=\"\",\"\",SUMIFS(Inventário!$N$10:$N$150,Inventário!$D$10:$D$150,Estoque!K$10,Inventário!$E$10:$E$150,Estoque!$C202)),\"ERRO\")","v":""},{"$f":"IFERROR(IF(K202=\"\",\"\",SUMIFS(Inventário!$N$10:$N$150,Inventário!$D$10:$D$150,Estoque!L$10,Inventário!$E$10:$E$150,Estoque!$C202)),\"ERRO\")","v":""},{"$f":"IFERROR(IF(L202=\"\",\"\",SUMIFS(Inventário!$N$10:$N$150,Inventário!$D$10:$D$150,Estoque!M$10,Inventário!$E$10:$E$150,Estoque!$C202)),\"ERRO\")","v":""},{"$f":"IFERROR(IF(M202=\"\",\"\",SUMIFS(Inventário!$N$10:$N$150,Inventário!$D$10:$D$150,Estoque!N$10,Inventário!$E$10:$E$150,Estoque!$C202)),\"ERRO\")","v":""},{"$f":"IFERROR(IF(N202=\"\",\"\",SUMIFS(Inventário!$N$10:$N$150,Inventário!$D$10:$D$150,Estoque!O$10,Inventário!$E$10:$E$150,Estoque!$C202)),\"ERRO\")","v":""}]
[null,191,{"$f":"IF('Cadastro de Produtos'!C195=\"\",\"\",VLOOKUP(B203,'Cadastro de Produtos'!$B$5:$C$204,2,0))","v":""},{"$f":"IFERROR(IF(C203=\"\",\"\",SUMIFS(Inventário!$N$10:$N$150,Inventário!$D$10:$D$150,Estoque!D$10,Inventário!$E$10:$E$150,Estoque!$C203)),\"ERRO\")","v":""},{"$f":"IFERROR(IF(D203=\"\",\"\",SUMIFS(Inventário!$N$10:$N$150,Inventário!$D$10:$D$150,Estoque!E$10,Inventário!$E$10:$E$150,Estoque!$C203)),\"ERRO\")","v":""},{"$f":"IFERROR(IF(E203=\"\",\"\",SUMIFS(Inventário!$N$10:$N$150,Inventário!$D$10:$D$150,Estoque!F$10,Inventário!$E$10:$E$150,Estoque!$C203)),\"ERRO\")","v":""},{"$f":"IFERROR(IF(F203=\"\",\"\",SUMIFS(Inventário!$N$10:$N$150,Inventário!$D$10:$D$150,Estoque!G$10,Inventário!$E$10:$E$150,Estoque!$C203)),\"ERRO\")","v":""},{"$f":"IFERROR(IF(G203=\"\",\"\",SUMIFS(Inventário!$N$10:$N$150,Inventário!$D$10:$D$150,Estoque!H$10,Inventário!$E$10:$E$150,Estoque!$C203)),\"ERRO\")","v":""},{"$f":"IFERROR(IF(H203=\"\",\"\",SUMIFS(Inventário!$N$10:$N$150,Inventário!$D$10:$D$150,Estoque!I$10,Inventário!$E$10:$E$150,Estoque!$C203)),\"ERRO\")","v":""},{"$f":"IFERROR(IF(I203=\"\",\"\",SUMIFS(Inventário!$N$10:$N$150,Inventário!$D$10:$D$150,Estoque!J$10,Inventário!$E$10:$E$150,Estoque!$C203)),\"ERRO\")","v":""},{"$f":"IFERROR(IF(J203=\"\",\"\",SUMIFS(Inventário!$N$10:$N$150,Inventário!$D$10:$D$150,Estoque!K$10,Inventário!$E$10:$E$150,Estoque!$C203)),\"ERRO\")","v":""},{"$f":"IFERROR(IF(K203=\"\",\"\",SUMIFS(Inventário!$N$10:$N$150,Inventário!$D$10:$D$150,Estoque!L$10,Inventário!$E$10:$E$150,Estoque!$C203)),\"ERRO\")","v":""},{"$f":"IFERROR(IF(L203=\"\",\"\",SUMIFS(Inventário!$N$10:$N$150,Inventário!$D$10:$D$150,Estoque!M$10,Inventário!$E$10:$E$150,Estoque!$C203)),\"ERRO\")","v":""},{"$f":"IFERROR(IF(M203=\"\",\"\",SUMIFS(Inventário!$N$10:$N$150,Inventário!$D$10:$D$150,Estoque!N$10,Inventário!$E$10:$E$150,Estoque!$C203)),\"ERRO\")","v":""},{"$f":"IFERROR(IF(N203=\"\",\"\",SUMIFS(Inventário!$N$10:$N$150,Inventário!$D$10:$D$150,Estoque!O$10,Inventário!$E$10:$E$150,Estoque!$C203)),\"ERRO\")","v":""}]
[null,192,{"$f":"IF('Cadastro de Produtos'!C196=\"\",\"\",VLOOKUP(B204,'Cadastro de Produtos'!$B$5:$C$204,2,0))","v":""},{"$f":"IFERROR(IF(C204=\"\",\"\",SUMIFS(Inventário!$N$10:$N$150,Inventário!$D$10:$D$150,Estoque!D$10,Inventário!$E$10:$E$150,Estoque!$C204)),\"ERRO\")","v":""},{"$f":"IFERROR(IF(D204=\"\",\"\",SUMIFS(Inventário!$N$10:$N$150,Inventário!$D$10:$D$150,Estoque!E$10,Inventário!$E$10:$E$150,Estoque!$C204)),\"ERRO\")","v":""},{"$f":"IFERROR(IF(E204=\"\",\"\",SUMIFS(Inventário!$N$10:$N$150,Inventário!$D$10:$D$150,Estoque!F$10,Inventário!$E$10:$E$150,Estoque!$C204)),\"ERRO\")","v":""},{"$f":"IFERROR(IF(F204=\"\",\"\",SUMIFS(Inventário!$N$10:$N$150,Inventário!$D$10:$D$150,Estoque!G$10,Inventário!$E$10:$E$150,Estoque!$C204)),\"ERRO\")","v":""},{"$f":"IFERROR(IF(G204=\"\",\"\",SUMIFS(Inventário!$N$10:$N$150,Inventário!$D$10:$D$150,Estoque!H$10,Inventário!$E$10:$E$150,Estoque!$C204)),\"ERRO\")","v":""},{"$f":"IFERROR(IF(H204=\"\",\"\",SUMIFS(Inventário!$N$10:$N$150,Inventário!$D$10:$D$150,Estoque!I$10,Inventário!$E$10:$E$150,Estoque!$C204)),\"ERRO\")","v":""},{"$f":"IFERROR(IF(I204=\"\",\"\",SUMIFS(Inventário!$N$10:$N$150,Inventário!$D$10:$D$150,Estoque!J$10,Inventário!$E$10:$E$150,Estoque!$C204)),\"ERRO\")","v":""},{"$f":"IFERROR(IF(J204=\"\",\"\",SUMIFS(Inventário!$N$10:$N$150,Inventário!$D$10:$D$150,Estoque!K$10,Inventário!$E$10:$E$150,Estoque!$C204)),\"ERRO\")","v":""},{"$f":"IFERROR(IF(K204=\"\",\"\",SUMIFS(Inventário!$N$10:$N$150,Inventário!$D$10:$D$150,Estoque!L$10,Inventário!$E$10:$E$150,Estoque!$C204)),\"ERRO\")","v":""},{"$f":"IFERROR(IF(L204=\"\",\"\",SUMIFS(Inventário!$N$10:$N$150,Inventário!$D$10:$D$150,Estoque!M$10,Inventário!$E$10:$E$150,Estoque!$C204)),\"ERRO\")","v":""},{"$f":"IFERROR(IF(M204=\"\",\"\",SUMIFS(Inventário!$N$10:$N$150,Inventário!$D$10:$D$150,Estoque!N$10,Inventário!$E$10:$E$150,Estoque!$C204)),\"ERRO\")","v":""},{"$f":"IFERROR(IF(N204=\"\",\"\",SUMIFS(Inventário!$N$10:$N$150,Inventário!$D$10:$D$150,Estoque!O$10,Inventário!$E$10:$E$150,Estoque!$C204)),\"ERRO\")","v":""}]
[null,193,{"$f":"IF('Cadastro de Produtos'!C197=\"\",\"\",VLOOKUP(B205,'Cadastro de Produtos'!$B$5:$C$204,2,0))","v":""},{"$f":"IFERROR(IF(C205=\"\",\"\",SUMIFS(Inventário!$N$10:$N$150,Inventário!$D$10:$D$150,Estoque!D$10,Inventário!$E$10:$E$150,Estoque!$C205)),\"ERRO\")","v":""},{"$f":"IFERROR(IF(D205=\"\",\"\",SUMIFS(Inventário!$N$10:$N$150,Inventário!$D$10:$D$150,Estoque!E$10,Inventário!$E$10:$E$150,Estoque!$C205)),\"ERRO\")","v":""},{"$f":"IFERROR(IF(E205=\"\",\"\",SUMIFS(Inventário!$N$10:$N$150,Inventário!$D$10:$D$150,Estoque!F$10,Inventário!$E$10:$E$150,Estoque!$C205)),\"ERRO\")","v":""},{"$f":"IFERROR(IF(F205=\"\",\"\",SUMIFS(Inventário!$N$10:$N$150,Inventário!$D$10:$D$150,Estoque!G$10,Inventário!$E$10:$E$150,Estoque!$C205)),\"ERRO\")","v":""},{"$f":"IFERROR(IF(G205=\"\",\"\",SUMIFS(Inventário!$N$10:$N$150,Inventário!$D$10:$D$150,Estoque!H$10,Inventário!$E$10:$E$150,Estoque!$C205)),\"ERRO\")","v":""},{"$f":"IFERROR(IF(H205=\"\",\"\",SUMIFS(Inventário!$N$10:$N$150,Inventário!$D$10:$D$150,Estoque!I$10,Inventário!$E$10:$E$150,Estoque!$C205)),\"ERRO\")","v":""},{"$f":"IFERROR(IF(I205=\"\",\"\",SUMIFS(Inventário!$N$10:$N$150,Inventário!$D$10:$D$150,Estoque!J$10,Inventário!$E$10:$E$150,Estoque!$C205)),\"ERRO\")","v":""},{"$f":"IFERROR(IF(J205=\"\",\"\",SUMIFS(Inventário!$N$10:$N$150,Inventário!$D$10:$D$150,Estoque!K$10,Inventário!$E$10:$E$150,Estoque!$C205)),\"ERRO\")","v":""},{"$f":"IFERROR(IF(K205=\"\",\"\",SUMIFS(Inventário!$N$10:$N$150,Inventário!$D$10:$D$150,Estoque!L$10,Inventário!$E$10:$E$150,Estoque!$C205)),\"ERRO\")","v":""},{"$f":"IFERROR(IF(L205=\"\",\"\",SUMIFS(Inventário!$N$10:$N$150,Inventário!$D$10:$D$150,Estoque!M$10,Inventário!$E$10:$E$150,Estoque!$C205)),\"ERRO\")","v":""},{"$f":"IFERROR(IF(M205=\"\",\"\",SUMIFS(Inventário!$N$10:$N$150,Inventário!$D$10:$D$150,Estoque!N$10,Inventário!$E$10:$E$150,Estoque!$C205)),\"ERRO\")","v":""},{"$f":"IFERROR(IF(N205=\"\",\"\",SUMIFS(Inventário!$N$10:$N$150,Inventário!$D$10:$D$150,Estoque!O$10,Inventário!$E$10:$E$150,Estoque!$C205)),\"ERRO\")","v":""}]
[null,194,{"$f":"IF('Cadastro de Produtos'!C198=\"\",\"\",VLOOKUP(B206,'Cadastro de Produtos'!$B$5:$C$204,2,0))","v":""},{"$f":"IFERROR(IF(C206=\"\",\"\",SUMIFS(Inventário!$N$10:$N$150,Inventário!$D$10:$D$150,Estoque!D$10,Inventário!$E$10:$E$150,Estoque!$C206)),\"ERRO\")","v":""},{"$f":"IFERROR(IF(D206=\"\",\"\",SUMIFS(Inventário!$N$10:$N$150,Inventário!$D$10:$D$150,Estoque!E$10,Inventário!$E$10:$E$150,Estoque!$C206)),\"ERRO\")","v":""},{"$f":"IFERROR(IF(E206=\"\",\"\",SUMIFS(Inventário!$N$10:$N$150,Inventário!$D$10:$D$150,Estoque!F$10,Inventário!$E$10:$E$150,Estoque!$C206)),\"ERRO\")","v":""},{"$f":"IFERROR(IF(F206=\"\",\"\",SUMIFS(Inventário!$N$10:$N$150,Inventário!$D$10:$D$150,Estoque!G$10,Inventário!$E$10:$E$150,Estoque!$C206)),\"ERRO\")","v":""},{"$f":"IFERROR(IF(G206=\"\",\"\",SUMIFS(Inventário!$N$10:$N$150,Inventário!$D$10:$D$150,Estoque!H$10,Inventário!$E$10:$E$150,Estoque!$C206)),\"ERRO\")","v":""},{"$f":"IFERROR(IF(H206=\"\",\"\",SUMIFS(Inventário!$N$10:$N$150,Inventário!$D$10:$D$150,Estoque!I$10,Inventário!$E$10:$E$150,Estoque!$C206)),\"ERRO\")","v":""},{"$f":"IFERROR(IF(I206=\"\",\"\",SUMIFS(Inventário!$N$10:$N$150,Inventário!$D$10:$D$150,Estoque!J$10,Inventário!$E$10:$E$150,Estoque!$C206)),\"ERRO\")","v":""},{"$f":"IFERROR(IF(J206=\"\",\"\",SUMIFS(Inventário!$N$10:$N$150,Inventário!$D$10:$D$150,Estoque!K$10,Inventário!$E$10:$E$150,Estoque!$C206)),\"ERRO\")","v":""},{"$f":"IFERROR(IF(K206=\"\",\"\",SUMIFS(Inventário!$N$10:$N$150,Inventário!$D$10:$D$150,Estoque!L$10,Inventário!$E$10:$E$150,Estoque!$C206)),\"ERRO\")","v":""},{"$f":"IFERROR(IF(L206=\"\",\"\",SUMIFS(Inventário!$N$10:$N$150,Inventário!$D$10:$D$150,Estoque!M$10,Inventário!$E$10:$E$150,Estoque!$C206)),\"ERRO\")","v":""},{"$f":"IFERROR(IF(M206=\"\",\"\",SUMIFS(Inventário!$N$10:$N$150,Inventário!$D$10:$D$150,Estoque!N$10,Inventário!$E$10:$E$150,Estoque!$C206)),\"ERRO\")","v":""},{"$f":"IFERROR(IF(N206=\"\",\"\",SUMIFS(Inventário!$N$10:$N$150,Inventário!$D$10:$D$150,Estoque!O$10,Inventário!$E$10:$E$150,Estoque!$C206)),\"ERRO\")","v":""}]
[null,195,{"$f":"IF('Cadastro de Produtos'!C199=\"\",\"\",VLOOKUP(B207,'Cadastro de Produtos'!$B$5:$C$204,2,0))","v":""},{"$f":"IFERROR(IF(C207=\"\",\"\",SUMIFS(Inventário!$N$10:$N$150,Inventário!$D$10:$D$150,Estoque!D$10,Inventário!$E$10:$E$150,Estoque!$C207)),\"ERRO\")","v":""},{"$f":"IFERROR(IF(D207=\"\",\"\",SUMIFS(Inventário!$N$10:$N$150,Inventário!$D$10:$D$150,Estoque!E$10,Inventário!$E$10:$E$150,Estoque!$C207)),\"ERRO\")","v":""},{"$f":"IFERROR(IF(E207=\"\",\"\",SUMIFS(Inventário!$N$10:$N$150,Inventário!$D$10:$D$150,Estoque!F$10,Inventário!$E$10:$E$150,Estoque!$C207)),\"ERRO\")","v":""},{"$f":"IFERROR(IF(F207=\"\",\"\",SUMIFS(Inventário!$N$10:$N$150,Inventário!$D$10:$D$150,Estoque!G$10,Inventário!$E$10:$E$150,Estoque!$C207)),\"ERRO\")","v":""},{"$f":"IFERROR(IF(G207=\"\",\"\",SUMIFS(Inventário!$N$10:$N$150,Inventário!$D$10:$D$150,Estoque!H$10,Inventário!$E$10:$E$150,Estoque!$C207)),\"ERRO\")","v":""},{"$f":"IFERROR(IF(H207=\"\",\"\",SUMIFS(Inventário!$N$10:$N$150,Inventário!$D$10:$D$150,Estoque!I$10,Inventário!$E$10:$E$150,Estoque!$C207)),\"ERRO\")","v":""},{"$f":"IFERROR(IF(I207=\"\",\"\",SUMIFS(Inventário!$N$10:$N$150,Inventário!$D$10:$D$150,Estoque!J$10,Inventário!$E$10:$E$150,Estoque!$C207)),\"ERRO\")","v":""},{"$f":"IFERROR(IF(J207=\"\",\"\",SUMIFS(Inventário!$N$10:$N$150,Inventário!$D$10:$D$150,Estoque!K$10,Inventário!$E$10:$E$150,Estoque!$C207)),\"ERRO\")","v":""},{"$f":"IFERROR(IF(K207=\"\",\"\",SUMIFS(Inventário!$N$10:$N$150,Inventário!$D$10:$D$150,Estoque!L$10,Inventário!$E$10:$E$150,Estoque!$C207)),\"ERRO\")","v":""},{"$f":"IFERROR(IF(L207=\"\",\"\",SUMIFS(Inventário!$N$10:$N$150,Inventário!$D$10:$D$150,Estoque!M$10,Inventário!$E$10:$E$150,Estoque!$C207)),\"ERRO\")","v":""},{"$f":"IFERROR(IF(M207=\"\",\"\",SUMIFS(Inventário!$N$10:$N$150,Inventário!$D$10:$D$150,Estoque!N$10,Inventário!$E$10:$E$150,Estoque!$C207)),\"ERRO\")","v":""},{"$f":"IFERROR(IF(N207=\"\",\"\",SUMIFS(Inventário!$N$10:$N$150,Inventário!$D$10:$D$150,Estoque!O$10,Inventário!$E$10:$E$150,Estoque!$C207)),\"ERRO\")","v":""}]
[null,196,{"$f":"IF('Cadastro de Produtos'!C200=\"\",\"\",VLOOKUP(B208,'Cadastro de Produtos'!$B$5:$C$204,2,0))","v":""},{"$f":"IFERROR(IF(C208=\"\",\"\",SUMIFS(Inventário!$N$10:$N$150,Inventário!$D$10:$D$150,Estoque!D$10,Inventário!$E$10:$E$150,Estoque!$C208)),\"ERRO\")","v":""},{"$f":"IFERROR(IF(D208=\"\",\"\",SUMIFS(Inventário!$N$10:$N$150,Inventário!$D$10:$D$150,Estoque!E$10,Inventário!$E$10:$E$150,Estoque!$C208)),\"ERRO\")","v":""},{"$f":"IFERROR(IF(E208=\"\",\"\",SUMIFS(Inventário!$N$10:$N$150,Inventário!$D$10:$D$150,Estoque!F$10,Inventário!$E$10:$E$150,Estoque!$C208)),\"ERRO\")","v":""},{"$f":"IFERROR(IF(F208=\"\",\"\",SUMIFS(Inventário!$N$10:$N$150,Inventário!$D$10:$D$150,Estoque!G$10,Inventário!$E$10:$E$150,Estoque!$C208)),\"ERRO\")","v":""},{"$f":"IFERROR(IF(G208=\"\",\"\",SUMIFS(Inventário!$N$10:$N$150,Inventário!$D$10:$D$150,Estoque!H$10,Inventário!$E$10:$E$150,Estoque!$C208)),\"ERRO\")","v":""},{"$f":"IFERROR(IF(H208=\"\",\"\",SUMIFS(Inventário!$N$10:$N$150,Inventário!$D$10:$D$150,Estoque!I$10,Inventário!$E$10:$E$150,Estoque!$C208)),\"ERRO\")","v":""},{"$f":"IFERROR(IF(I208=\"\",\"\",SUMIFS(Inventário!$N$10:$N$150,Inventário!$D$10:$D$150,Estoque!J$10,Inventário!$E$10:$E$150,Estoque!$C208)),\"ERRO\")","v":""},{"$f":"IFERROR(IF(J208=\"\",\"\",SUMIFS(Inventário!$N$10:$N$150,Inventário!$D$10:$D$150,Estoque!K$10,Inventário!$E$10:$E$150,Estoque!$C208)),\"ERRO\")","v":""},{"$f":"IFERROR(IF(K208=\"\",\"\",SUMIFS(Inventário!$N$10:$N$150,Inventário!$D$10:$D$150,Estoque!L$10,Inventário!$E$10:$E$150,Estoque!$C208)),\"ERRO\")","v":""},{"$f":"IFERROR(IF(L208=\"\",\"\",SUMIFS(Inventário!$N$10:$N$150,Inventário!$D$10:$D$150,Estoque!M$10,Inventário!$E$10:$E$150,Estoque!$C208)),\"ERRO\")","v":""},{"$f":"IFERROR(IF(M208=\"\",\"\",SUMIFS(Inventário!$N$10:$N$150,Inventário!$D$10:$D$150,Estoque!N$10,Inventário!$E$10:$E$150,Estoque!$C208)),\"ERRO\")","v":""},{"$f":"IFERROR(IF(N208=\"\",\"\",SUMIFS(Inventário!$N$10:$N$150,Inventário!$D$10:$D$150,Estoque!O$10,Inventário!$E$10:$E$150,Estoque!$C208)),\"ERRO\")","v":""}]
[null,197,{"$f":"IF('Cadastro de Produtos'!C201=\"\",\"\",VLOOKUP(B209,'Cadastro de Produtos'!$B$5:$C$204,2,0))","v":""},{"$f":"IFERROR(IF(C209=\"\",\"\",SUMIFS(Inventário!$N$10:$N$150,Inventário!$D$10:$D$150,Estoque!D$10,Inventário!$E$10:$E$150,Estoque!$C209)),\"ERRO\")","v":""},{"$f":"IFERROR(IF(D209=\"\",\"\",SUMIFS(Inventário!$N$10:$N$150,Inventário!$D$10:$D$150,Estoque!E$10,Inventário!$E$10:$E$150,Estoque!$C209)),\"ERRO\")","v":""},{"$f":"IFERROR(IF(E209=\"\",\"\",SUMIFS(Inventário!$N$10:$N$150,Inventário!$D$10:$D$150,Estoque!F$10,Inventário!$E$10:$E$150,Estoque!$C209)),\"ERRO\")","v":""},{"$f":"IFERROR(IF(F209=\"\",\"\",SUMIFS(Inventário!$N$10:$N$150,Inventário!$D$10:$D$150,Estoque!G$10,Inventário!$E$10:$E$150,Estoque!$C209)),\"ERRO\")","v":""},{"$f":"IFERROR(IF(G209=\"\",\"\",SUMIFS(Inventário!$N$10:$N$150,Inventário!$D$10:$D$150,Estoque!H$10,Inventário!$E$10:$E$150,Estoque!$C209)),\"ERRO\")","v":""},{"$f":"IFERROR(IF(H209=\"\",\"\",SUMIFS(Inventário!$N$10:$N$150,Inventário!$D$10:$D$150,Estoque!I$10,Inventário!$E$10:$E$150,Estoque!$C209)),\"ERRO\")","v":""},{"$f":"IFERROR(IF(I209=\"\",\"\",SUMIFS(Inventário!$N$10:$N$150,Inventário!$D$10:$D$150,Estoque!J$10,Inventário!$E$10:$E$150,Estoque!$C209)),\"ERRO\")","v":""},{"$f":"IFERROR(IF(J209=\"\",\"\",SUMIFS(Inventário!$N$10:$N$150,Inventário!$D$10:$D$150,Estoque!K$10,Inventário!$E$10:$E$150,Estoque!$C209)),\"ERRO\")","v":""},{"$f":"IFERROR(IF(K209=\"\",\"\",SUMIFS(Inventário!$N$10:$N$150,Inventário!$D$10:$D$150,Estoque!L$10,Inventário!$E$10:$E$150,Estoque!$C209)),\"ERRO\")","v":""},{"$f":"IFERROR(IF(L209=\"\",\"\",SUMIFS(Inventário!$N$10:$N$150,Inventário!$D$10:$D$150,Estoque!M$10,Inventário!$E$10:$E$150,Estoque!$C209)),\"ERRO\")","v":""},{"$f":"IFERROR(IF(M209=\"\",\"\",SUMIFS(Inventário!$N$10:$N$150,Inventário!$D$10:$D$150,Estoque!N$10,Inventário!$E$10:$E$150,Estoque!$C209)),\"ERRO\")","v":""},{"$f":"IFERROR(IF(N209=\"\",\"\",SUMIFS(Inventário!$N$10:$N$150,Inventário!$D$10:$D$150,Estoque!O$10,Inventário!$E$10:$E$150,Estoque!$C209)),\"ERRO\")","v":""}]
[null,198,{"$f":"IF('Cadastro de Produtos'!C202=\"\",\"\",VLOOKUP(B210,'Cadastro de Produtos'!$B$5:$C$204,2,0))","v":""},{"$f":"IFERROR(IF(C210=\"\",\"\",SUMIFS(Inventário!$N$10:$N$150,Inventário!$D$10:$D$150,Estoque!D$10,Inventário!$E$10:$E$150,Estoque!$C210)),\"ERRO\")","v":""},{"$f":"IFERROR(IF(D210=\"\",\"\",SUMIFS(Inventário!$N$10:$N$150,Inventário!$D$10:$D$150,Estoque!E$10,Inventário!$E$10:$E$150,Estoque!$C210)),\"ERRO\")","v":""},{"$f":"IFERROR(IF(E210=\"\",\"\",SUMIFS(Inventário!$N$10:$N$150,Inventário!$D$10:$D$150,Estoque!F$10,Inventário!$E$10:$E$150,Estoque!$C210)),\"ERRO\")","v":""},{"$f":"IFERROR(IF(F210=\"\",\"\",SUMIFS(Inventário!$N$10:$N$150,Inventário!$D$10:$D$150,Estoque!G$10,Inventário!$E$10:$E$150,Estoque!$C210)),\"ERRO\")","v":""},{"$f":"IFERROR(IF(G210=\"\",\"\",SUMIFS(Inventário!$N$10:$N$150,Inventário!$D$10:$D$150,Estoque!H$10,Inventário!$E$10:$E$150,Estoque!$C210)),\"ERRO\")","v":""},{"$f":"IFERROR(IF(H210=\"\",\"\",SUMIFS(Inventário!$N$10:$N$150,Inventário!$D$10:$D$150,Estoque!I$10,Inventário!$E$10:$E$150,Estoque!$C210)),\"ERRO\")","v":""},{"$f":"IFERROR(IF(I210=\"\",\"\",SUMIFS(Inventário!$N$10:$N$150,Inventário!$D$10:$D$150,Estoque!J$10,Inventário!$E$10:$E$150,Estoque!$C210)),\"ERRO\")","v":""},{"$f":"IFERROR(IF(J210=\"\",\"\",SUMIFS(Inventário!$N$10:$N$150,Inventário!$D$10:$D$150,Estoque!K$10,Inventário!$E$10:$E$150,Estoque!$C210)),\"ERRO\")","v":""},{"$f":"IFERROR(IF(K210=\"\",\"\",SUMIFS(Inventário!$N$10:$N$150,Inventário!$D$10:$D$150,Estoque!L$10,Inventário!$E$10:$E$150,Estoque!$C210)),\"ERRO\")","v":""},{"$f":"IFERROR(IF(L210=\"\",\"\",SUMIFS(Inventário!$N$10:$N$150,Inventário!$D$10:$D$150,Estoque!M$10,Inventário!$E$10:$E$150,Estoque!$C210)),\"ERRO\")","v":""},{"$f":"IFERROR(IF(M210=\"\",\"\",SUMIFS(Inventário!$N$10:$N$150,Inventário!$D$10:$D$150,Estoque!N$10,Inventário!$E$10:$E$150,Estoque!$C210)),\"ERRO\")","v":""},{"$f":"IFERROR(IF(N210=\"\",\"\",SUMIFS(Inventário!$N$10:$N$150,Inventário!$D$10:$D$150,Estoque!O$10,Inventário!$E$10:$E$150,Estoque!$C210)),\"ERRO\")","v":""}]
[null,199,{"$f":"IF('Cadastro de Produtos'!C203=\"\",\"\",VLOOKUP(B211,'Cadastro de Produtos'!$B$5:$C$204,2,0))","v":""},{"$f":"IFERROR(IF(C211=\"\",\"\",SUMIFS(Inventário!$N$10:$N$150,Inventário!$D$10:$D$150,Estoque!D$10,Inventário!$E$10:$E$150,Estoque!$C211)),\"ERRO\")","v":""},{"$f":"IFERROR(IF(D211=\"\",\"\",SUMIFS(Inventário!$N$10:$N$150,Inventário!$D$10:$D$150,Estoque!E$10,Inventário!$E$10:$E$150,Estoque!$C211)),\"ERRO\")","v":""},{"$f":"IFERROR(IF(E211=\"\",\"\",SUMIFS(Inventário!$N$10:$N$150,Inventário!$D$10:$D$150,Estoque!F$10,Inventário!$E$10:$E$150,Estoque!$C211)),\"ERRO\")","v":""},{"$f":"IFERROR(IF(F211=\"\",\"\",SUMIFS(Inventário!$N$10:$N$150,Inventário!$D$10:$D$150,Estoque!G$10,Inventário!$E$10:$E$150,Estoque!$C211)),\"ERRO\")","v":""},{"$f":"IFERROR(IF(G211=\"\",\"\",SUMIFS(Inventário!$N$10:$N$150,Inventário!$D$10:$D$150,Estoque!H$10,Inventário!$E$10:$E$150,Estoque!$C211)),\"ERRO\")","v":""},{"$f":"IFERROR(IF(H211=\"\",\"\",SUMIFS(Inventário!$N$10:$N$150,Inventário!$D$10:$D$150,Estoque!I$10,Inventário!$E$10:$E$150,Estoque!$C211)),\"ERRO\")","v":""},{"$f":"IFERROR(IF(I211=\"\",\"\",SUMIFS(Inventário!$N$10:$N$150,Inventário!$D$10:$D$150,Estoque!J$10,Inventário!$E$10:$E$150,Estoque!$C211)),\"ERRO\")","v":""},{"$f":"IFERROR(IF(J211=\"\",\"\",SUMIFS(Inventário!$N$10:$N$150,Inventário!$D$10:$D$150,Estoque!K$10,Inventário!$E$10:$E$150,Estoque!$C211)),\"ERRO\")","v":""},{"$f":"IFERROR(IF(K211=\"\",\"\",SUMIFS(Inventário!$N$10:$N$150,Inventário!$D$10:$D$150,Estoque!L$10,Inventário!$E$10:$E$150,Estoque!$C211)),\"ERRO\")","v":""},{"$f":"IFERROR(IF(L211=\"\",\"\",SUMIFS(Inventário!$N$10:$N$150,Inventário!$D$10:$D$150,Estoque!M$10,Inventário!$E$10:$E$150,Estoque!$C211)),\"ERRO\")","v":""},{"$f":"IFERROR(IF(M211=\"\",\"\",SUMIFS(Inventário!$N$10:$N$150,Inventário!$D$10:$D$150,Estoque!N$10,Inventário!$E$10:$E$150,Estoque!$C211)),\"ERRO\")","v":""},{"$f":"IFERROR(IF(N211=\"\",\"\",SUMIFS(Inventário!$N$10:$N$150,Inventário!$D$10:$D$150,Estoque!O$10,Inventário!$E$10:$E$150,Estoque!$C211)),\"ERRO\")","v":""}]
[null,200,{"$f":"IF('Cadastro de Produtos'!C204=\"\",\"\",VLOOKUP(B212,'Cadastro de Produtos'!$B$5:$C$204,2,0))","v":""},{"$f":"IFERROR(IF(C212=\"\",\"\",SUMIFS(Inventário!$N$10:$N$150,Inventário!$D$10:$D$150,Estoque!D$10,Inventário!$E$10:$E$150,Estoque!$C212)),\"ERRO\")","v":""},{"$f":"IFERROR(IF(D212=\"\",\"\",SUMIFS(Inventário!$N$10:$N$150,Inventário!$D$10:$D$150,Estoque!E$10,Inventário!$E$10:$E$150,Estoque!$C212)),\"ERRO\")","v":""},{"$f":"IFERROR(IF(E212=\"\",\"\",SUMIFS(Inventário!$N$10:$N$150,Inventário!$D$10:$D$150,Estoque!F$10,Inventário!$E$10:$E$150,Estoque!$C212)),\"ERRO\")","v":""},{"$f":"IFERROR(IF(F212=\"\",\"\",SUMIFS(Inventário!$N$10:$N$150,Inventário!$D$10:$D$150,Estoque!G$10,Inventário!$E$10:$E$150,Estoque!$C212)),\"ERRO\")","v":""},{"$f":"IFERROR(IF(G212=\"\",\"\",SUMIFS(Inventário!$N$10:$N$150,Inventário!$D$10:$D$150,Estoque!H$10,Inventário!$E$10:$E$150,Estoque!$C212)),\"ERRO\")","v":""},{"$f":"IFERROR(IF(H212=\"\",\"\",SUMIFS(Inventário!$N$10:$N$150,Inventário!$D$10:$D$150,Estoque!I$10,Inventário!$E$10:$E$150,Estoque!$C212)),\"ERRO\")","v":""},{"$f":"IFERROR(IF(I212=\"\",\"\",SUMIFS(Inventário!$N$10:$N$150,Inventário!$D$10:$D$150,Estoque!J$10,Inventário!$E$10:$E$150,Estoque!$C212)),\"ERRO\")","v":""},{"$f":"IFERROR(IF(J212=\"\",\"\",SUMIFS(Inventário!$N$10:$N$150,Inventário!$D$10:$D$150,Estoque!K$10,Inventário!$E$10:$E$150,Estoque!$C212)),\"ERRO\")","v":""},{"$f":"IFERROR(IF(K212=\"\",\"\",SUMIFS(Inventário!$N$10:$N$150,Inventário!$D$10:$D$150,Estoque!L$10,Inventário!$E$10:$E$150,Estoque!$C212)),\"ERRO\")","v":""},{"$f":"IFERROR(IF(L212=\"\",\"\",SUMIFS(Inventário!$N$10:$N$150,Inventário!$D$10:$D$150,Estoque!M$10,Inventário!$E$10:$E$150,Estoque!$C212)),\"ERRO\")","v":""},{"$f":"IFERROR(IF(M212=\"\",\"\",SUMIFS(Inventário!$N$10:$N$150,Inventário!$D$10:$D$150,Estoque!N$10,Inventário!$E$10:$E$150,Estoque!$C212)),\"ERRO\")","v":""},{"$f":"IFERROR(IF(N212=\"\",\"\",SUMIFS(Inventário!$N$10:$N$150,Inventário!$D$10:$D$150,Estoque!O$10,Inventário!$E$10:$E$150,Estoque!$C212)),\"ERRO\")","v":""}]
[null,201,{"$f":"IF('Cadastro de Produtos'!C205=\"\",\"\",VLOOKUP(B213,'Cadastro de Produtos'!$B$5:$C$204,2,0))","v":""},{"$f":"IFERROR(IF(C213=\"\",\"\",SUMIFS(Inventário!$N$10:$N$150,Inventário!$D$10:$D$150,Estoque!D$10,Inventário!$E$10:$E$150,Estoque!$C213)),\"ERRO\")","v":""},{"$f":"IFERROR(IF(D213=\"\",\"\",SUMIFS(Inventário!$N$10:$N$150,Inventário!$D$10:$D$150,Estoque!E$10,Inventário!$E$10:$E$150,Estoque!$C213)),\"ERRO\")","v":""},{"$f":"IFERROR(IF(E213=\"\",\"\",SUMIFS(Inventário!$N$10:$N$150,Inventário!$D$10:$D$150,Estoque!F$10,Inventário!$E$10:$E$150,Estoque!$C213)),\"ERRO\")","v":""},{"$f":"IFERROR(IF(F213=\"\",\"\",SUMIFS(Inventário!$N$10:$N$150,Inventário!$D$10:$D$150,Estoque!G$10,Inventário!$E$10:$E$150,Estoque!$C213)),\"ERRO\")","v":""},{"$f":"IFERROR(IF(G213=\"\",\"\",SUMIFS(Inventário!$N$10:$N$150,Inventário!$D$10:$D$150,Estoque!H$10,Inventário!$E$10:$E$150,Estoque!$C213)),\"ERRO\")","v":""},{"$f":"IFERROR(IF(H213=\"\",\"\",SUMIFS(Inventário!$N$10:$N$150,Inventário!$D$10:$D$150,Estoque!I$10,Inventário!$E$10:$E$150,Estoque!$C213)),\"ERRO\")","v":""},{"$f":"IFERROR(IF(I213=\"\",\"\",SUMIFS(Inventário!$N$10:$N$150,Inventário!$D$10:$D$150,Estoque!J$10,Inventário!$E$10:$E$150,Estoque!$C213)),\"ERRO\")","v":""},{"$f":"IFERROR(IF(J213=\"\",\"\",SUMIFS(Inventário!$N$10:$N$150,Inventário!$D$10:$D$150,Estoque!K$10,Inventário!$E$10:$E$150,Estoque!$C213)),\"ERRO\")","v":""},{"$f":"IFERROR(IF(K213=\"\",\"\",SUMIFS(Inventário!$N$10:$N$150,Inventário!$D$10:$D$150,Estoque!L$10,Inventário!$E$10:$E$150,Estoque!$C213)),\"ERRO\")","v":""},{"$f":"IFERROR(IF(L213=\"\",\"\",SUMIFS(Inventário!$N$10:$N$150,Inventário!$D$10:$D$150,Estoque!M$10,Inventário!$E$10:$E$150,Estoque!$C213)),\"ERRO\")","v":""},{"$f":"IFERROR(IF(M213=\"\",\"\",SUMIFS(Inventário!$N$10:$N$150,Inventário!$D$10:$D$150,Estoque!N$10,Inventário!$E$10:$E$150,Estoque!$C213)),\"ERRO\")","v":""},{"$f":"IFERROR(IF(N213=\"\",\"\",SUMIFS(Inventário!$N$10:$N$150,Inventário!$D$10:$D$150,Estoque!O$10,Inventário!$E$10:$E$150,Estoque!$C213)),\"ERRO\")","v":""}]
[null,202,{"$f":"IF('Cadastro de Produtos'!C206=\"\",\"\",VLOOKUP(B214,'Cadastro de Produtos'!$B$5:$C$204,2,0))","v":""},{"$f":"IFERROR(IF(C214=\"\",\"\",SUMIFS(Inventário!$N$10:$N$150,Inventário!$D$10:$D$150,Estoque!D$10,Inventário!$E$10:$E$150,Estoque!$C214)),\"ERRO\")","v":""},{"$f":"IFERROR(IF(D214=\"\",\"\",SUMIFS(Inventário!$N$10:$N$150,Inventário!$D$10:$D$150,Estoque!E$10,Inventário!$E$10:$E$150,Estoque!$C214)),\"ERRO\")","v":""},{"$f":"IFERROR(IF(E214=\"\",\"\",SUMIFS(Inventário!$N$10:$N$150,Inventário!$D$10:$D$150,Estoque!F$10,Inventário!$E$10:$E$150,Estoque!$C214)),\"ERRO\")","v":""},{"$f":"IFERROR(IF(F214=\"\",\"\",SUMIFS(Inventário!$N$10:$N$150,Inventário!$D$10:$D$150,Estoque!G$10,Inventário!$E$10:$E$150,Estoque!$C214)),\"ERRO\")","v":""},{"$f":"IFERROR(IF(G214=\"\",\"\",SUMIFS(Inventário!$N$10:$N$150,Inventário!$D$10:$D$150,Estoque!H$10,Inventário!$E$10:$E$150,Estoque!$C214)),\"ERRO\")","v":""},{"$f":"IFERROR(IF(H214=\"\",\"\",SUMIFS(Inventário!$N$10:$N$150,Inventário!$D$10:$D$150,Estoque!I$10,Inventário!$E$10:$E$150,Estoque!$C214)),\"ERRO\")","v":""},{"$f":"IFERROR(IF(I214=\"\",\"\",SUMIFS(Inventário!$N$10:$N$150,Inventário!$D$10:$D$150,Estoque!J$10,Inventário!$E$10:$E$150,Estoque!$C214)),\"ERRO\")","v":""},{"$f":"IFERROR(IF(J214=\"\",\"\",SUMIFS(Inventário!$N$10:$N$150,Inventário!$D$10:$D$150,Estoque!K$10,Inventário!$E$10:$E$150,Estoque!$C214)),\"ERRO\")","v":""},{"$f":"IFERROR(IF(K214=\"\",\"\",SUMIFS(Inventário!$N$10:$N$150,Inventário!$D$10:$D$150,Estoque!L$10,Inventário!$E$10:$E$150,Estoque!$C214)),\"ERRO\")","v":""},{"$f":"IFERROR(IF(L214=\"\",\"\",SUMIFS(Inventário!$N$10:$N$150,Inventário!$D$10:$D$150,Estoque!M$10,Inventário!$E$10:$E$150,Estoque!$C214)),\"ERRO\")","v":""},{"$f":"IFERROR(IF(M214=\"\",\"\",SUMIFS(Inventário!$N$10:$N$150,Inventário!$D$10:$D$150,Estoque!N$10,Inventário!$E$10:$E$150,Estoque!$C214)),\"ERRO\")","v":""},{"$f":"IFERROR(IF(N214=\"\",\"\",SUMIFS(Inventário!$N$10:$N$150,Inventário!$D$10:$D$150,Estoque!O$10,Inventário!$E$10:$E$150,Estoque!$C214)),\"ERRO\")","v":""}]
[null,203,{"$f":"IF('Cadastro de Produtos'!C207=\"\",\"\",VLOOKUP(B215,'Cadastro de Produtos'!$B$5:$C$204,2,0))","v":""},{"$f":"IFERROR(IF(C215=\"\",\"\",SUMIFS(Inventário!$N$10:$N$150,Inventário!$D$10:$D$150,Estoque!D$10,Inventário!$E$10:$E$150,Estoque!$C215)),\"ERRO\")","v":""},{"$f":"IFERROR(IF(D215=\"\",\"\",SUMIFS(Inventário!$N$10:$N$150,Inventário!$D$10:$D$150,Estoque!E$10,Inventário!$E$10:$E$150,Estoque!$C215)),\"ERRO\")","v":""},{"$f":"IFERROR(IF(E215=\"\",\"\",SUMIFS(Inventário!$N$10:$N$150,Inventário!$D$10:$D$150,Estoque!F$10,Inventário!$E$10:$E$150,Estoque!$C215)),\"ERRO\")","v":""},{"$f":"IFERROR(IF(F215=\"\",\"\",SUMIFS(Inventário!$N$10:$N$150,Inventário!$D$10:$D$150,Estoque!G$10,Inventário!$E$10:$E$150,Estoque!$C215)),\"ERRO\")","v":""},{"$f":"IFERROR(IF(G215=\"\",\"\",SUMIFS(Inventário!$N$10:$N$150,Inventário!$D$10:$D$150,Estoque!H$10,Inventário!$E$10:$E$150,Estoque!$C215)),\"ERRO\")","v":""},{"$f":"IFERROR(IF(H215=\"\",\"\",SUMIFS(Inventário!$N$10:$N$150,Inventário!$D$10:$D$150,Estoque!I$10,Inventário!$E$10:$E$150,Estoque!$C215)),\"ERRO\")","v":""},{"$f":"IFERROR(IF(I215=\"\",\"\",SUMIFS(Inventário!$N$10:$N$150,Inventário!$D$10:$D$150,Estoque!J$10,Inventário!$E$10:$E$150,Estoque!$C215)),\"ERRO\")","v":""},{"$f":"IFERROR(IF(J215=\"\",\"\",SUMIFS(Inventário!$N$10:$N$150,Inventário!$D$10:$D$150,Estoque!K$10,Inventário!$E$10:$E$150,Estoque!$C215)),\"ERRO\")","v":""},{"$f":"IFERROR(IF(K215=\"\",\"\",SUMIFS(Inventário!$N$10:$N$150,Inventário!$D$10:$D$150,Estoque!L$10,Inventário!$E$10:$E$150,Estoque!$C215)),\"ERRO\")","v":""},{"$f":"IFERROR(IF(L215=\"\",\"\",SUMIFS(Inventário!$N$10:$N$150,Inventário!$D$10:$D$150,Estoque!M$10,Inventário!$E$10:$E$150,Estoque!$C215)),\"ERRO\")","v":""},{"$f":"IFERROR(IF(M215=\"\",\"\",SUMIFS(Inventário!$N$10:$N$150,Inventário!$D$10:$D$150,Estoque!N$10,Inventário!$E$10:$E$150,Estoque!$C215)),\"ERRO\")","v":""},{"$f":"IFERROR(IF(N215=\"\",\"\",SUMIFS(Inventário!$N$10:$N$150,Inventário!$D$10:$D$150,Estoque!O$10,Inventário!$E$10:$E$150,Estoque!$C215)),\"ERRO\")","v":""}]
[null,204,{"$f":"IF('Cadastro de Produtos'!C208=\"\",\"\",VLOOKUP(B216,'Cadastro de Produtos'!$B$5:$C$204,2,0))","v":""},{"$f":"IFERROR(IF(C216=\"\",\"\",SUMIFS(Inventário!$N$10:$N$150,Inventário!$D$10:$D$150,Estoque!D$10,Inventário!$E$10:$E$150,Estoque!$C216)),\"ERRO\")","v":""},{"$f":"IFERROR(IF(D216=\"\",\"\",SUMIFS(Inventário!$N$10:$N$150,Inventário!$D$10:$D$150,Estoque!E$10,Inventário!$E$10:$E$150,Estoque!$C216)),\"ERRO\")","v":""},{"$f":"IFERROR(IF(E216=\"\",\"\",SUMIFS(Inventário!$N$10:$N$150,Inventário!$D$10:$D$150,Estoque!F$10,Inventário!$E$10:$E$150,Estoque!$C216)),\"ERRO\")","v":""},{"$f":"IFERROR(IF(F216=\"\",\"\",SUMIFS(Inventário!$N$10:$N$150,Inventário!$D$10:$D$150,Estoque!G$10,Inventário!$E$10:$E$150,Estoque!$C216)),\"ERRO\")","v":""},{"$f":"IFERROR(IF(G216=\"\",\"\",SUMIFS(Inventário!$N$10:$N$150,Inventário!$D$10:$D$150,Estoque!H$10,Inventário!$E$10:$E$150,Estoque!$C216)),\"ERRO\")","v":""},{"$f":"IFERROR(IF(H216=\"\",\"\",SUMIFS(Inventário!$N$10:$N$150,Inventário!$D$10:$D$150,Estoque!I$10,Inventário!$E$10:$E$150,Estoque!$C216)),\"ERRO\")","v":""},{"$f":"IFERROR(IF(I216=\"\",\"\",SUMIFS(Inventário!$N$10:$N$150,Inventário!$D$10:$D$150,Estoque!J$10,Inventário!$E$10:$E$150,Estoque!$C216)),\"ERRO\")","v":""},{"$f":"IFERROR(IF(J216=\"\",\"\",SUMIFS(Inventário!$N$10:$N$150,Inventário!$D$10:$D$150,Estoque!K$10,Inventário!$E$10:$E$150,Estoque!$C216)),\"ERRO\")","v":""},{"$f":"IFERROR(IF(K216=\"\",\"\",SUMIFS(Inventário!$N$10:$N$150,Inventário!$D$10:$D$150,Estoque!L$10,Inventário!$E$10:$E$150,Estoque!$C216)),\"ERRO\")","v":""},{"$f":"IFERROR(IF(L216=\"\",\"\",SUMIFS(Inventário!$N$10:$N$150,Inventário!$D$10:$D$150,Estoque!M$10,Inventário!$E$10:$E$150,Estoque!$C216)),\"ERRO\")","v":""},{"$f":"IFERROR(IF(M216=\"\",\"\",SUMIFS(Inventário!$N$10:$N$150,Inventário!$D$10:$D$150,Estoque!N$10,Inventário!$E$10:$E$150,Estoque!$C216)),\"ERRO\")","v":""},{"$f":"IFERROR(IF(N216=\"\",\"\",SUMIFS(Inventário!$N$10:$N$150,Inventário!$D$10:$D$150,Estoque!O$10,Inventário!$E$10:$E$150,Estoque!$C216)),\"ERRO\")","v":""}]
[null,205,{"$f":"IF('Cadastro de Produtos'!C209=\"\",\"\",VLOOKUP(B217,'Cadastro de Produtos'!$B$5:$C$204,2,0))","v":""},{"$f":"IFERROR(IF(C217=\"\",\"\",SUMIFS(Inventário!$N$10:$N$150,Inventário!$D$10:$D$150,Estoque!D$10,Inventário!$E$10:$E$150,Estoque!$C217)),\"ERRO\")","v":""},{"$f":"IFERROR(IF(D217=\"\",\"\",SUMIFS(Inventário!$N$10:$N$150,Inventário!$D$10:$D$150,Estoque!E$10,Inventário!$E$10:$E$150,Estoque!$C217)),\"ERRO\")","v":""},{"$f":"IFERROR(IF(E217=\"\",\"\",SUMIFS(Inventário!$N$10:$N$150,Inventário!$D$10:$D$150,Estoque!F$10,Inventário!$E$10:$E$150,Estoque!$C217)),\"ERRO\")","v":""},{"$f":"IFERROR(IF(F217=\"\",\"\",SUMIFS(Inventário!$N$10:$N$150,Inventário!$D$10:$D$150,Estoque!G$10,Inventário!$E$10:$E$150,Estoque!$C217)),\"ERRO\")","v":""},{"$f":"IFERROR(IF(G217=\"\",\"\",SUMIFS(Inventário!$N$10:$N$150,Inventário!$D$10:$D$150,Estoque!H$10,Inventário!$E$10:$E$150,Estoque!$C217)),\"ERRO\")","v":""},{"$f":"IFERROR(IF(H217=\"\",\"\",SUMIFS(Inventário!$N$10:$N$150,Inventário!$D$10:$D$150,Estoque!I$10,Inventário!$E$10:$E$150,Estoque!$C217)),\"ERRO\")","v":""},{"$f":"IFERROR(IF(I217=\"\",\"\",SUMIFS(Inventário!$N$10:$N$150,Inventário!$D$10:$D$150,Estoque!J$10,Inventário!$E$10:$E$150,Estoque!$C217)),\"ERRO\")","v":""},{"$f":"IFERROR(IF(J217=\"\",\"\",SUMIFS(Inventário!$N$10:$N$150,Inventário!$D$10:$D$150,Estoque!K$10,Inventário!$E$10:$E$150,Estoque!$C217)),\"ERRO\")","v":""},{"$f":"IFERROR(IF(K217=\"\",\"\",SUMIFS(Inventário!$N$10:$N$150,Inventário!$D$10:$D$150,Estoque!L$10,Inventário!$E$10:$E$150,Estoque!$C217)),\"ERRO\")","v":""},{"$f":"IFERROR(IF(L217=\"\",\"\",SUMIFS(Inventário!$N$10:$N$150,Inventário!$D$10:$D$150,Estoque!M$10,Inventário!$E$10:$E$150,Estoque!$C217)),\"ERRO\")","v":""},{"$f":"IFERROR(IF(M217=\"\",\"\",SUMIFS(Inventário!$N$10:$N$150,Inventário!$D$10:$D$150,Estoque!N$10,Inventário!$E$10:$E$150,Estoque!$C217)),\"ERRO\")","v":""},{"$f":"IFERROR(IF(N217=\"\",\"\",SUMIFS(Inventário!$N$10:$N$150,Inventário!$D$10:$D$150,Estoque!O$10,Inventário!$E$10:$E$150,Estoque!$C217)),\"ERRO\")","v":""}]
[null,206,{"$f":"IF('Cadastro de Produtos'!C210=\"\",\"\",VLOOKUP(B218,'Cadastro de Produtos'!$B$5:$C$204,2,0))","v":""},{"$f":"IFERROR(IF(C218=\"\",\"\",SUMIFS(Inventário!$N$10:$N$150,Inventário!$D$10:$D$150,Estoque!D$10,Inventário!$E$10:$E$150,Estoque!$C218)),\"ERRO\")","v":""},{"$f":"IFERROR(IF(D218=\"\",\"\",SUMIFS(Inventário!$N$10:$N$150,Inventário!$D$10:$D$150,Estoque!E$10,Inventário!$E$10:$E$150,Estoque!$C218)),\"ERRO\")","v":""},{"$f":"IFERROR(IF(E218=\"\",\"\",SUMIFS(Inventário!$N$10:$N$150,Inventário!$D$10:$D$150,Estoque!F$10,Inventário!$E$10:$E$150,Estoque!$C218)),\"ERRO\")","v":""},{"$f":"IFERROR(IF(F218=\"\",\"\",SUMIFS(Inventário!$N$10:$N$150,Inventário!$D$10:$D$150,Estoque!G$10,Inventário!$E$10:$E$150,Estoque!$C218)),\"ERRO\")","v":""},{"$f":"IFERROR(IF(G218=\"\",\"\",SUMIFS(Inventário!$N$10:$N$150,Inventário!$D$10:$D$150,Estoque!H$10,Inventário!$E$10:$E$150,Estoque!$C218)),\"ERRO\")","v":""},{"$f":"IFERROR(IF(H218=\"\",\"\",SUMIFS(Inventário!$N$10:$N$150,Inventário!$D$10:$D$150,Estoque!I$10,Inventário!$E$10:$E$150,Estoque!$C218)),\"ERRO\")","v":""},{"$f":"IFERROR(IF(I218=\"\",\"\",SUMIFS(Inventário!$N$10:$N$150,Inventário!$D$10:$D$150,Estoque!J$10,Inventário!$E$10:$E$150,Estoque!$C218)),\"ERRO\")","v":""},{"$f":"IFERROR(IF(J218=\"\",\"\",SUMIFS(Inventário!$N$10:$N$150,Inventário!$D$10:$D$150,Estoque!K$10,Inventário!$E$10:$E$150,Estoque!$C218)),\"ERRO\")","v":""},{"$f":"IFERROR(IF(K218=\"\",\"\",SUMIFS(Inventário!$N$10:$N$150,Inventário!$D$10:$D$150,Estoque!L$10,Inventário!$E$10:$E$150,Estoque!$C218)),\"ERRO\")","v":""},{"$f":"IFERROR(IF(L218=\"\",\"\",SUMIFS(Inventário!$N$10:$N$150,Inventário!$D$10:$D$150,Estoque!M$10,Inventário!$E$10:$E$150,Estoque!$C218)),\"ERRO\")","v":""},{"$f":"IFERROR(IF(M218=\"\",\"\",SUMIFS(Inventário!$N$10:$N$150,Inventário!$D$10:$D$150,Estoque!N$10,Inventário!$E$10:$E$150,Estoque!$C218)),\"ERRO\")","v":""},{"$f":"IFERROR(IF(N218=\"\",\"\",SUMIFS(Inventário!$N$10:$N$150,Inventário!$D$10:$D$150,Estoque!O$10,Inventário!$E$10:$E$150,Estoque!$C218)),\"ERRO\")","v":""}]
[null,207,{"$f":"IF('Cadastro de Produtos'!C211=\"\",\"\",VLOOKUP(B219,'Cadastro de Produtos'!$B$5:$C$204,2,0))","v":""},{"$f":"IFERROR(IF(C219=\"\",\"\",SUMIFS(Inventário!$N$10:$N$150,Inventário!$D$10:$D$150,Estoque!D$10,Inventário!$E$10:$E$150,Estoque!$C219)),\"ERRO\")","v":""},{"$f":"IFERROR(IF(D219=\"\",\"\",SUMIFS(Inventário!$N$10:$N$150,Inventário!$D$10:$D$150,Estoque!E$10,Inventário!$E$10:$E$150,Estoque!$C219)),\"ERRO\")","v":""},{"$f":"IFERROR(IF(E219=\"\",\"\",SUMIFS(Inventário!$N$10:$N$150,Inventário!$D$10:$D$150,Estoque!F$10,Inventário!$E$10:$E$150,Estoque!$C219)),\"ERRO\")","v":""},{"$f":"IFERROR(IF(F219=\"\",\"\",SUMIFS(Inventário!$N$10:$N$150,Inventário!$D$10:$D$150,Estoque!G$10,Inventário!$E$10:$E$150,Estoque!$C219)),\"ERRO\")","v":""},{"$f":"IFERROR(IF(G219=\"\",\"\",SUMIFS(Inventário!$N$10:$N$150,Inventário!$D$10:$D$150,Estoque!H$10,Inventário!$E$10:$E$150,Estoque!$C219)),\"ERRO\")","v":""},{"$f":"IFERROR(IF(H219=\"\",\"\",SUMIFS(Inventário!$N$10:$N$150,Inventário!$D$10:$D$150,Estoque!I$10,Inventário!$E$10:$E$150,Estoque!$C219)),\"ERRO\")","v":""},{"$f":"IFERROR(IF(I219=\"\",\"\",SUMIFS(Inventário!$N$10:$N$150,Inventário!$D$10:$D$150,Estoque!J$10,Inventário!$E$10:$E$150,Estoque!$C219)),\"ERRO\")","v":""},{"$f":"IFERROR(IF(J219=\"\",\"\",SUMIFS(Inventário!$N$10:$N$150,Inventário!$D$10:$D$150,Estoque!K$10,Inventário!$E$10:$E$150,Estoque!$C219)),\"ERRO\")","v":""},{"$f":"IFERROR(IF(K219=\"\",\"\",SUMIFS(Inventário!$N$10:$N$150,Inventário!$D$10:$D$150,Estoque!L$10,Inventário!$E$10:$E$150,Estoque!$C219)),\"ERRO\")","v":""},{"$f":"IFERROR(IF(L219=\"\",\"\",SUMIFS(Inventário!$N$10:$N$150,Inventário!$D$10:$D$150,Estoque!M$10,Inventário!$E$10:$E$150,Estoque!$C219)),\"ERRO\")","v":""},{"$f":"IFERROR(IF(M219=\"\",\"\",SUMIFS(Inventário!$N$10:$N$150,Inventário!$D$10:$D$150,Estoque!N$10,Inventário!$E$10:$E$150,Estoque!$C219)),\"ERRO\")","v":""},{"$f":"IFERROR(IF(N219=\"\",\"\",SUMIFS(Inventário!$N$10:$N$150,Inventário!$D$10:$D$150,Estoque!O$10,Inventário!$E$10:$E$150,Estoque!$C219)),\"ERRO\")","v":""}]
[null,208,{"$f":"IF('Cadastro de Produtos'!C212=\"\",\"\",VLOOKUP(B220,'Cadastro de Produtos'!$B$5:$C$204,2,0))","v":""},{"$f":"IFERROR(IF(C220=\"\",\"\",SUMIFS(Inventário!$N$10:$N$150,Inventário!$D$10:$D$150,Estoque!D$10,Inventário!$E$10:$E$150,Estoque!$C220)),\"ERRO\")","v":""},{"$f":"IFERROR(IF(D220=\"\",\"\",SUMIFS(Inventário!$N$10:$N$150,Inventário!$D$10:$D$150,Estoque!E$10,Inventário!$E$10:$E$150,Estoque!$C220)),\"ERRO\")","v":""},{"$f":"IFERROR(IF(E220=\"\",\"\",SUMIFS(Inventário!$N$10:$N$150,Inventário!$D$10:$D$150,Estoque!F$10,Inventário!$E$10:$E$150,Estoque!$C220)),\"ERRO\")","v":""},{"$f":"IFERROR(IF(F220=\"\",\"\",SUMIFS(Inventário!$N$10:$N$150,Inventário!$D$10:$D$150,Estoque!G$10,Inventário!$E$10:$E$150,Estoque!$C220)),\"ERRO\")","v":""},{"$f":"IFERROR(IF(G220=\"\",\"\",SUMIFS(Inventário!$N$10:$N$150,Inventário!$D$10:$D$150,Estoque!H$10,Inventário!$E$10:$E$150,Estoque!$C220)),\"ERRO\")","v":""},{"$f":"IFERROR(IF(H220=\"\",\"\",SUMIFS(Inventário!$N$10:$N$150,Inventário!$D$10:$D$150,Estoque!I$10,Inventário!$E$10:$E$150,Estoque!$C220)),\"ERRO\")","v":""},{"$f":"IFERROR(IF(I220=\"\",\"\",SUMIFS(Inventário!$N$10:$N$150,Inventário!$D$10:$D$150,Estoque!J$10,Inventário!$E$10:$E$150,Estoque!$C220)),\"ERRO\")","v":""},{"$f":"IFERROR(IF(J220=\"\",\"\",SUMIFS(Inventário!$N$10:$N$150,Inventário!$D$10:$D$150,Estoque!K$10,Inventário!$E$10:$E$150,Estoque!$C220)),\"ERRO\")","v":""},{"$f":"IFERROR(IF(K220=\"\",\"\",SUMIFS(Inventário!$N$10:$N$150,Inventário!$D$10:$D$150,Estoque!L$10,Inventário!$E$10:$E$150,Estoque!$C220)),\"ERRO\")","v":""},{"$f":"IFERROR(IF(L220=\"\",\"\",SUMIFS(Inventário!$N$10:$N$150,Inventário!$D$10:$D$150,Estoque!M$10,Inventário!$E$10:$E$150,Estoque!$C220)),\"ERRO\")","v":""},{"$f":"IFERROR(IF(M220=\"\",\"\",SUMIFS(Inventário!$N$10:$N$150,Inventário!$D$10:$D$150,Estoque!N$10,Inventário!$E$10:$E$150,Estoque!$C220)),\"ERRO\")","v":""},{"$f":"IFERROR(IF(N220=\"\",\"\",SUMIFS(Inventário!$N$10:$N$150,Inventário!$D$10:$D$150,Estoque!O$10,Inventário!$E$10:$E$150,Estoque!$C220)),\"ERRO\")","v":""}]
[null,209,{"$f":"IF('Cadastro de Produtos'!C213=\"\",\"\",VLOOKUP(B221,'Cadastro de Produtos'!$B$5:$C$204,2,0))","v":""},{"$f":"IFERROR(IF(C221=\"\",\"\",SUMIFS(Inventário!$N$10:$N$150,Inventário!$D$10:$D$150,Estoque!D$10,Inventário!$E$10:$E$150,Estoque!$C221)),\"ERRO\")","v":""},{"$f":"IFERROR(IF(D221=\"\",\"\",SUMIFS(Inventário!$N$10:$N$150,Inventário!$D$10:$D$150,Estoque!E$10,Inventário!$E$10:$E$150,Estoque!$C221)),\"ERRO\")","v":""},{"$f":"IFERROR(IF(E221=\"\",\"\",SUMIFS(Inventário!$N$10:$N$150,Inventário!$D$10:$D$150,Estoque!F$10,Inventário!$E$10:$E$150,Estoque!$C221)),\"ERRO\")","v":""},{"$f":"IFERROR(IF(F221=\"\",\"\",SUMIFS(Inventário!$N$10:$N$150,Inventário!$D$10:$D$150,Estoque!G$10,Inventário!$E$10:$E$150,Estoque!$C221)),\"ERRO\")","v":""},{"$f":"IFERROR(IF(G221=\"\",\"\",SUMIFS(Inventário!$N$10:$N$150,Inventário!$D$10:$D$150,Estoque!H$10,Inventário!$E$10:$E$150,Estoque!$C221)),\"ERRO\")","v":""},{"$f":"IFERROR(IF(H221=\"\",\"\",SUMIFS(Inventário!$N$10:$N$150,Inventário!$D$10:$D$150,Estoque!I$10,Inventário!$E$10:$E$150,Estoque!$C221)),\"ERRO\")","v":""},{"$f":"IFERROR(IF(I221=\"\",\"\",SUMIFS(Inventário!$N$10:$N$150,Inventário!$D$10:$D$150,Estoque!J$10,Inventário!$E$10:$E$150,Estoque!$C221)),\"ERRO\")","v":""},{"$f":"IFERROR(IF(J221=\"\",\"\",SUMIFS(Inventário!$N$10:$N$150,Inventário!$D$10:$D$150,Estoque!K$10,Inventário!$E$10:$E$150,Estoque!$C221)),\"ERRO\")","v":""},{"$f":"IFERROR(IF(K221=\"\",\"\",SUMIFS(Inventário!$N$10:$N$150,Inventário!$D$10:$D$150,Estoque!L$10,Inventário!$E$10:$E$150,Estoque!$C221)),\"ERRO\")","v":""},{"$f":"IFERROR(IF(L221=\"\",\"\",SUMIFS(Inventário!$N$10:$N$150,Inventário!$D$10:$D$150,Estoque!M$10,Inventário!$E$10:$E$150,Estoque!$C221)),\"ERRO\")","v":""},{"$f":"IFERROR(IF(M221=\"\",\"\",SUMIFS(Inventário!$N$10:$N$150,Inventário!$D$10:$D$150,Estoque!N$10,Inventário!$E$10:$E$150,Estoque!$C221)),\"ERRO\")","v":""},{"$f":"IFERROR(IF(N221=\"\",\"\",SUMIFS(Inventário!$N$10:$N$150,Inventário!$D$10:$D$150,Estoque!O$10,Inventário!$E$10:$E$150,Estoque!$C221)),\"ERRO\")","v":""}]
[null,210,{"$f":"IF('Cadastro de Produtos'!C214=\"\",\"\",VLOOKUP(B222,'Cadastro de Produtos'!$B$5:$C$204,2,0))","v":""},{"$f":"IFERROR(IF(C222=\"\",\"\",SUMIFS(Inventário!$N$10:$N$150,Inventário!$D$10:$D$150,Estoque!D$10,Inventário!$E$10:$E$150,Estoque!$C222)),\"ERRO\")","v":""},{"$f":"IFERROR(IF(D222=\"\",\"\",SUMIFS(Inventário!$N$10:$N$150,Inventário!$D$10:$D$150,Estoque!E$10,Inventário!$E$10:$E$150,Estoque!$C222)),\"ERRO\")","v":""},{"$f":"IFERROR(IF(E222=\"\",\"\",SUMIFS(Inventário!$N$10:$N$150,Inventário!$D$10:$D$150,Estoque!F$10,Inventário!$E$10:$E$150,Estoque!$C222)),\"ERRO\")","v":""},{"$f":"IFERROR(IF(F222=\"\",\"\",SUMIFS(Inventário!$N$10:$N$150,Inventário!$D$10:$D$150,Estoque!G$10,Inventário!$E$10:$E$150,Estoque!$C222)),\"ERRO\")","v":""},{"$f":"IFERROR(IF(G222=\"\",\"\",SUMIFS(Inventário!$N$10:$N$150,Inventário!$D$10:$D$150,Estoque!H$10,Inventário!$E$10:$E$150,Estoque!$C222)),\"ERRO\")","v":""},{"$f":"IFERROR(IF(H222=\"\",\"\",SUMIFS(Inventário!$N$10:$N$150,Inventário!$D$10:$D$150,Estoque!I$10,Inventário!$E$10:$E$150,Estoque!$C222)),\"ERRO\")","v":""},{"$f":"IFERROR(IF(I222=\"\",\"\",SUMIFS(Inventário!$N$10:$N$150,Inventário!$D$10:$D$150,Estoque!J$10,Inventário!$E$10:$E$150,Estoque!$C222)),\"ERRO\")","v":""},{"$f":"IFERROR(IF(J222=\"\",\"\",SUMIFS(Inventário!$N$10:$N$150,Inventário!$D$10:$D$150,Estoque!K$10,Inventário!$E$10:$E$150,Estoque!$C222)),\"ERRO\")","v":""},{"$f":"IFERROR(IF(K222=\"\",\"\",SUMIFS(Inventário!$N$10:$N$150,Inventário!$D$10:$D$150,Estoque!L$10,Inventário!$E$10:$E$150,Estoque!$C222)),\"ERRO\")","v":""},{"$f":"IFERROR(IF(L222=\"\",\"\",SUMIFS(Inventário!$N$10:$N$150,Inventário!$D$10:$D$150,Estoque!M$10,Inventário!$E$10:$E$150,Estoque!$C222)),\"ERRO\")","v":""},{"$f":"IFERROR(IF(M222=\"\",\"\",SUMIFS(Inventário!$N$10:$N$150,Inventário!$D$10:$D$150,Estoque!N$10,Inventário!$E$10:$E$150,Estoque!$C222)),\"ERRO\")","v":""},{"$f":"IFERROR(IF(N222=\"\",\"\",SUMIFS(Inventário!$N$10:$N$150,Inventário!$D$10:$D$150,Estoque!O$10,Inventário!$E$10:$E$150,Estoque!$C222)),\"ERRO\")","v":""}]
[null,211,{"$f":"IF('Cadastro de Produtos'!C215=\"\",\"\",VLOOKUP(B223,'Cadastro de Produtos'!$B$5:$C$204,2,0))","v":""},{"$f":"IFERROR(IF(C223=\"\",\"\",SUMIFS(Inventário!$N$10:$N$150,Inventário!$D$10:$D$150,Estoque!D$10,Inventário!$E$10:$E$150,Estoque!$C223)),\"ERRO\")","v":""},{"$f":"IFERROR(IF(D223=\"\",\"\",SUMIFS(Inventário!$N$10:$N$150,Inventário!$D$10:$D$150,Estoque!E$10,Inventário!$E$10:$E$150,Estoque!$C223)),\"ERRO\")","v":""},{"$f":"IFERROR(IF(E223=\"\",\"\",SUMIFS(Inventário!$N$10:$N$150,Inventário!$D$10:$D$150,Estoque!F$10,Inventário!$E$10:$E$150,Estoque!$C223)),\"ERRO\")","v":""},{"$f":"IFERROR(IF(F223=\"\",\"\",SUMIFS(Inventário!$N$10:$N$150,Inventário!$D$10:$D$150,Estoque!G$10,Inventário!$E$10:$E$150,Estoque!$C223)),\"ERRO\")","v":""},{"$f":"IFERROR(IF(G223=\"\",\"\",SUMIFS(Inventário!$N$10:$N$150,Inventário!$D$10:$D$150,Estoque!H$10,Inventário!$E$10:$E$150,Estoque!$C223)),\"ERRO\")","v":""},{"$f":"IFERROR(IF(H223=\"\",\"\",SUMIFS(Inventário!$N$10:$N$150,Inventário!$D$10:$D$150,Estoque!I$10,Inventário!$E$10:$E$150,Estoque!$C223)),\"ERRO\")","v":""},{"$f":"IFERROR(IF(I223=\"\",\"\",SUMIFS(Inventário!$N$10:$N$150,Inventário!$D$10:$D$150,Estoque!J$10,Inventário!$E$10:$E$150,Estoque!$C223)),\"ERRO\")","v":""},{"$f":"IFERROR(IF(J223=\"\",\"\",SUMIFS(Inventário!$N$10:$N$150,Inventário!$D$10:$D$150,Estoque!K$10,Inventário!$E$10:$E$150,Estoque!$C223)),\"ERRO\")","v":""},{"$f":"IFERROR(IF(K223=\"\",\"\",SUMIFS(Inventário!$N$10:$N$150,Inventário!$D$10:$D$150,Estoque!L$10,Inventário!$E$10:$E$150,Estoque!$C223)),\"ERRO\")","v":""},{"$f":"IFERROR(IF(L223=\"\",\"\",SUMIFS(Inventário!$N$10:$N$150,Inventário!$D$10:$D$150,Estoque!M$10,Inventário!$E$10:$E$150,Estoque!$C223)),\"ERRO\")","v":""},{"$f":"IFERROR(IF(M223=\"\",\"\",SUMIFS(Inventário!$N$10:$N$150,Inventário!$D$10:$D$150,Estoque!N$10,Inventário!$E$10:$E$150,Estoque!$C223)),\"ERRO\")","v":""},{"$f":"IFERROR(IF(N223=\"\",\"\",SUMIFS(Inventário!$N$10:$N$150,Inventário!$D$10:$D$150,Estoque!O$10,Inventário!$E$10:$E$150,Estoque!$C223)),\"ERRO\")","v":""}]
[null,212,{"$f":"IF('Cadastro de Produtos'!C216=\"\",\"\",VLOOKUP(B224,'Cadastro de Produtos'!$B$5:$C$204,2,0))","v":""},{"$f":"IFERROR(IF(C224=\"\",\"\",SUMIFS(Inventário!$N$10:$N$150,Inventário!$D$10:$D$150,Estoque!D$10,Inventário!$E$10:$E$150,Estoque!$C224)),\"ERRO\")","v":""},{"$f":"IFERROR(IF(D224=\"\",\"\",SUMIFS(Inventário!$N$10:$N$150,Inventário!$D$10:$D$150,Estoque!E$10,Inventário!$E$10:$E$150,Estoque!$C224)),\"ERRO\")","v":""},{"$f":"IFERROR(IF(E224=\"\",\"\",SUMIFS(Inventário!$N$10:$N$150,Inventário!$D$10:$D$150,Estoque!F$10,Inventário!$E$10:$E$150,Estoque!$C224)),\"ERRO\")","v":""},{"$f":"IFERROR(IF(F224=\"\",\"\",SUMIFS(Inventário!$N$10:$N$150,Inventário!$D$10:$D$150,Estoque!G$10,Inventário!$E$10:$E$150,Estoque!$C224)),\"ERRO\")","v":""},{"$f":"IFERROR(IF(G224=\"\",\"\",SUMIFS(Inventário!$N$10:$N$150,Inventário!$D$10:$D$150,Estoque!H$10,Inventário!$E$10:$E$150,Estoque!$C224)),\"ERRO\")","v":""},{"$f":"IFERROR(IF(H224=\"\",\"\",SUMIFS(Inventário!$N$10:$N$150,Inventário!$D$10:$D$150,Estoque!I$10,Inventário!$E$10:$E$150,Estoque!$C224)),\"ERRO\")","v":""},{"$f":"IFERROR(IF(I224=\"\",\"\",SUMIFS(Inventário!$N$10:$N$150,Inventário!$D$10:$D$150,Estoque!J$10,Inventário!$E$10:$E$150,Estoque!$C224)),\"ERRO\")","v":""},{"$f":"IFERROR(IF(J224=\"\",\"\",SUMIFS(Inventário!$N$10:$N$150,Inventário!$D$10:$D$150,Estoque!K$10,Inventário!$E$10:$E$150,Estoque!$C224)),\"ERRO\")","v":""},{"$f":"IFERROR(IF(K224=\"\",\"\",SUMIFS(Inventário!$N$10:$N$150,Inventário!$D$10:$D$150,Estoque!L$10,Inventário!$E$10:$E$150,Estoque!$C224)),\"ERRO\")","v":""},{"$f":"IFERROR(IF(L224=\"\",\"\",SUMIFS(Inventário!$N$10:$N$150,Inventário!$D$10:$D$150,Estoque!M$10,Inventário!$E$10:$E$150,Estoque!$C224)),\"ERRO\")","v":""},{"$f":"IFERROR(IF(M224=\"\",\"\",SUMIFS(Inventário!$N$10:$N$150,Inventário!$D$10:$D$150,Estoque!N$10,Inventário!$E$10:$E$150,Estoque!$C224)),\"ERRO\")","v":""},{"$f":"IFERROR(IF(N224=\"\",\"\",SUMIFS(Inventário!$N$10:$N$150,Inventário!$D$10:$D$150,Estoque!O$10,Inventário!$E$10:$E$150,Estoque!$C224)),\"ERRO\")","v":""}]
[null,213,{"$f":"IF('Cadastro de Produtos'!C217=\"\",\"\",VLOOKUP(B225,'Cadastro de Produtos'!$B$5:$C$204,2,0))","v":""},{"$f":"IFERROR(IF(C225=\"\",\"\",SUMIFS(Inventário!$N$10:$N$150,Inventário!$D$10:$D$150,Estoque!D$10,Inventário!$E$10:$E$150,Estoque!$C225)),\"ERRO\")","v":""},{"$f":"IFERROR(IF(D225=\"\",\"\",SUMIFS(Inventário!$N$10:$N$150,Inventário!$D$10:$D$150,Estoque!E$10,Inventário!$E$10:$E$150,Estoque!$C225)),\"ERRO\")","v":""},{"$f":"IFERROR(IF(E225=\"\",\"\",SUMIFS(Inventário!$N$10:$N$150,Inventário!$D$10:$D$150,Estoque!F$10,Inventário!$E$10:$E$150,Estoque!$C225)),\"ERRO\")","v":""},{"$f":"IFERROR(IF(F225=\"\",\"\",SUMIFS(Inventário!$N$10:$N$150,Inventário!$D$10:$D$150,Estoque!G$10,Inventário!$E$10:$E$150,Estoque!$C225)),\"ERRO\")","v":""},{"$f":"IFERROR(IF(G225=\"\",\"\",SUMIFS(Inventário!$N$10:$N$150,Inventário!$D$10:$D$150,Estoque!H$10,Inventário!$E$10:$E$150,Estoque!$C225)),\"ERRO\")","v":""},{"$f":"IFERROR(IF(H225=\"\",\"\",SUMIFS(Inventário!$N$10:$N$150,Inventário!$D$10:$D$150,Estoque!I$10,Inventário!$E$10:$E$150,Estoque!$C225)),\"ERRO\")","v":""},{"$f":"IFERROR(IF(I225=\"\",\"\",SUMIFS(Inventário!$N$10:$N$150,Inventário!$D$10:$D$150,Estoque!J$10,Inventário!$E$10:$E$150,Estoque!$C225)),\"ERRO\")","v":""},{"$f":"IFERROR(IF(J225=\"\",\"\",SUMIFS(Inventário!$N$10:$N$150,Inventário!$D$10:$D$150,Estoque!K$10,Inventário!$E$10:$E$150,Estoque!$C225)),\"ERRO\")","v":""},{"$f":"IFERROR(IF(K225=\"\",\"\",SUMIFS(Inventário!$N$10:$N$150,Inventário!$D$10:$D$150,Estoque!L$10,Inventário!$E$10:$E$150,Estoque!$C225)),\"ERRO\")","v":""},{"$f":"IFERROR(IF(L225=\"\",\"\",SUMIFS(Inventário!$N$10:$N$150,Inventário!$D$10:$D$150,Estoque!M$10,Inventário!$E$10:$E$150,Estoque!$C225)),\"ERRO\")","v":""},{"$f":"IFERROR(IF(M225=\"\",\"\",SUMIFS(Inventário!$N$10:$N$150,Inventário!$D$10:$D$150,Estoque!N$10,Inventário!$E$10:$E$150,Estoque!$C225)),\"ERRO\")","v":""},{"$f":"IFERROR(IF(N225=\"\",\"\",SUMIFS(Inventário!$N$10:$N$150,Inventário!$D$10:$D$150,Estoque!O$10,Inventário!$E$10:$E$150,Estoque!$C225)),\"ERRO\")","v":""}]
[null,214,{"$f":"IF('Cadastro de Produtos'!C218=\"\",\"\",VLOOKUP(B226,'Cadastro de Produtos'!$B$5:$C$204,2,0))","v":""},{"$f":"IFERROR(IF(C226=\"\",\"\",SUMIFS(Inventário!$N$10:$N$150,Inventário!$D$10:$D$150,Estoque!D$10,Inventário!$E$10:$E$150,Estoque!$C226)),\"ERRO\")","v":""},{"$f":"IFERROR(IF(D226=\"\",\"\",SUMIFS(Inventário!$N$10:$N$150,Inventário!$D$10:$D$150,Estoque!E$10,Inventário!$E$10:$E$150,Estoque!$C226)),\"ERRO\")","v":""},{"$f":"IFERROR(IF(E226=\"\",\"\",SUMIFS(Inventário!$N$10:$N$150,Inventário!$D$10:$D$150,Estoque!F$10,Inventário!$E$10:$E$150,Estoque!$C226)),\"ERRO\")","v":""},{"$f":"IFERROR(IF(F226=\"\",\"\",SUMIFS(Inventário!$N$10:$N$150,Inventário!$D$10:$D$150,Estoque!G$10,Inventário!$E$10:$E$150,Estoque!$C226)),\"ERRO\")","v":""},{"$f":"IFERROR(IF(G226=\"\",\"\",SUMIFS(Inventário!$N$10:$N$150,Inventário!$D$10:$D$150,Estoque!H$10,Inventário!$E$10:$E$150,Estoque!$C226)),\"ERRO\")","v":""},{"$f":"IFERROR(IF(H226=\"\",\"\",SUMIFS(Inventário!$N$10:$N$150,Inventário!$D$10:$D$150,Estoque!I$10,Inventário!$E$10:$E$150,Estoque!$C226)),\"ERRO\")","v":""},{"$f":"IFERROR(IF(I226=\"\",\"\",SUMIFS(Inventário!$N$10:$N$150,Inventário!$D$10:$D$150,Estoque!J$10,Inventário!$E$10:$E$150,Estoque!$C226)),\"ERRO\")","v":""},{"$f":"IFERROR(IF(J226=\"\",\"\",SUMIFS(Inventário!$N$10:$N$150,Inventário!$D$10:$D$150,Estoque!K$10,Inventário!$E$10:$E$150,Estoque!$C226)),\"ERRO\")","v":""},{"$f":"IFERROR(IF(K226=\"\",\"\",SUMIFS(Inventário!$N$10:$N$150,Inventário!$D$10:$D$150,Estoque!L$10,Inventário!$E$10:$E$150,Estoque!$C226)),\"ERRO\")","v":""},{"$f":"IFERROR(IF(L226=\"\",\"\",SUMIFS(Inventário!$N$10:$N$150,Inventário!$D$10:$D$150,Estoque!M$10,Inventário!$E$10:$E$150,Estoque!$C226)),\"ERRO\")","v":""},{"$f":"IFERROR(IF(M226=\"\",\"\",SUMIFS(Inventário!$N$10:$N$150,Inventário!$D$10:$D$150,Estoque!N$10,Inventário!$E$10:$E$150,Estoque!$C226)),\"ERRO\")","v":""},{"$f":"IFERROR(IF(N226=\"\",\"\",SUMIFS(Inventário!$N$10:$N$150,Inventário!$D$10:$D$150,Estoque!O$10,Inventário!$E$10:$E$150,Estoque!$C226)),\"ERRO\")","v":""}]
[null,215,{"$f":"IF('Cadastro de Produtos'!C219=\"\",\"\",VLOOKUP(B227,'Cadastro de Produtos'!$B$5:$C$204,2,0))","v":""},{"$f":"IFERROR(IF(C227=\"\",\"\",SUMIFS(Inventário!$N$10:$N$150,Inventário!$D$10:$D$150,Estoque!D$10,Inventário!$E$10:$E$150,Estoque!$C227)),\"ERRO\")","v":""},{"$f":"IFERROR(IF(D227=\"\",\"\",SUMIFS(Inventário!$N$10:$N$150,Inventário!$D$10:$D$150,Estoque!E$10,Inventário!$E$10:$E$150,Estoque!$C227)),\"ERRO\")","v":""},{"$f":"IFERROR(IF(E227=\"\",\"\",SUMIFS(Inventário!$N$10:$N$150,Inventário!$D$10:$D$150,Estoque!F$10,Inventário!$E$10:$E$150,Estoque!$C227)),\"ERRO\")","v":""},{"$f":"IFERROR(IF(F227=\"\",\"\",SUMIFS(Inventário!$N$10:$N$150,Inventário!$D$10:$D$150,Estoque!G$10,Inventário!$E$10:$E$150,Estoque!$C227)),\"ERRO\")","v":""},{"$f":"IFERROR(IF(G227=\"\",\"\",SUMIFS(Inventário!$N$10:$N$150,Inventário!$D$10:$D$150,Estoque!H$10,Inventário!$E$10:$E$150,Estoque!$C227)),\"ERRO\")","v":""},{"$f":"IFERROR(IF(H227=\"\",\"\",SUMIFS(Inventário!$N$10:$N$150,Inventário!$D$10:$D$150,Estoque!I$10,Inventário!$E$10:$E$150,Estoque!$C227)),\"ERRO\")","v":""},{"$f":"IFERROR(IF(I227=\"\",\"\",SUMIFS(Inventário!$N$10:$N$150,Inventário!$D$10:$D$150,Estoque!J$10,Inventário!$E$10:$E$150,Estoque!$C227)),\"ERRO\")","v":""},{"$f":"IFERROR(IF(J227=\"\",\"\",SUMIFS(Inventário!$N$10:$N$150,Inventário!$D$10:$D$150,Estoque!K$10,Inventário!$E$10:$E$150,Estoque!$C227)),\"ERRO\")","v":""},{"$f":"IFERROR(IF(K227=\"\",\"\",SUMIFS(Inventário!$N$10:$N$150,Inventário!$D$10:$D$150,Estoque!L$10,Inventário!$E$10:$E$150,Estoque!$C227)),\"ERRO\")","v":""},{"$f":"IFERROR(IF(L227=\"\",\"\",SUMIFS(Inventário!$N$10:$N$150,Inventário!$D$10:$D$150,Estoque!M$10,Inventário!$E$10:$E$150,Estoque!$C227)),\"ERRO\")","v":""},{"$f":"IFERROR(IF(M227=\"\",\"\",SUMIFS(Inventário!$N$10:$N$150,Inventário!$D$10:$D$150,Estoque!N$10,Inventário!$E$10:$E$150,Estoque!$C227)),\"ERRO\")","v":""},{"$f":"IFERROR(IF(N227=\"\",\"\",SUMIFS(Inventário!$N$10:$N$150,Inventário!$D$10:$D$150,Estoque!O$10,Inventário!$E$10:$E$150,Estoque!$C227)),\"ERRO\")","v":""}]
[null,216,{"$f":"IF('Cadastro de Produtos'!C220=\"\",\"\",VLOOKUP(B228,'Cadastro de Produtos'!$B$5:$C$204,2,0))","v":""},{"$f":"IFERROR(IF(C228=\"\",\"\",SUMIFS(Inventário!$N$10:$N$150,Inventário!$D$10:$D$150,Estoque!D$10,Inventário!$E$10:$E$150,Estoque!$C228)),\"ERRO\")","v":""},{"$f":"IFERROR(IF(D228=\"\",\"\",SUMIFS(Inventário!$N$10:$N$150,Inventário!$D$10:$D$150,Estoque!E$10,Inventário!$E$10:$E$150,Estoque!$C228)),\"ERRO\")","v":""},{"$f":"IFERROR(IF(E228=\"\",\"\",SUMIFS(Inventário!$N$10:$N$150,Inventário!$D$10:$D$150,Estoque!F$10,Inventário!$E$10:$E$150,Estoque!$C228)),\"ERRO\")","v":""},{"$f":"IFERROR(IF(F228=\"\",\"\",SUMIFS(Inventário!$N$10:$N$150,Inventário!$D$10:$D$150,Estoque!G$10,Inventário!$E$10:$E$150,Estoque!$C228)),\"ERRO\")","v":""},{"$f":"IFERROR(IF(G228=\"\",\"\",SUMIFS(Inventário!$N$10:$N$150,Inventário!$D$10:$D$150,Estoque!H$10,Inventário!$E$10:$E$150,Estoque!$C228)),\"ERRO\")","v":""},{"$f":"IFERROR(IF(H228=\"\",\"\",SUMIFS(Inventário!$N$10:$N$150,Inventário!$D$10:$D$150,Estoque!I$10,Inventário!$E$10:$E$150,Estoque!$C228)),\"ERRO\")","v":""},{"$f":"IFERROR(IF(I228=\"\",\"\",SUMIFS(Inventário!$N$10:$N$150,Inventário!$D$10:$D$150,Estoque!J$10,Inventário!$E$10:$E$150,Estoque!$C228)),\"ERRO\")","v":""},{"$f":"IFERROR(IF(J228=\"\",\"\",SUMIFS(Inventário!$N$10:$N$150,Inventário!$D$10:$D$150,Estoque!K$10,Inventário!$E$10:$E$150,Estoque!$C228)),\"ERRO\")","v":""},{"$f":"IFERROR(IF(K228=\"\",\"\",SUMIFS(Inventário!$N$10:$N$150,Inventário!$D$10:$D$150,Estoque!L$10,Inventário!$E$10:$E$150,Estoque!$C228)),\"ERRO\")","v":""},{"$f":"IFERROR(IF(L228=\"\",\"\",SUMIFS(Inventário!$N$10:$N$150,Inventário!$D$10:$D$150,Estoque!M$10,Inventário!$E$10:$E$150,Estoque!$C228)),\"ERRO\")","v":""},{"$f":"IFERROR(IF(M228=\"\",\"\",SUMIFS(Inventário!$N$10:$N$150,Inventário!$D$10:$D$150,Estoque!N$10,Inventário!$E$10:$E$150,Estoque!$C228)),\"ERRO\")","v":""},{"$f":"IFERROR(IF(N228=\"\",\"\",SUMIFS(Inventário!$N$10:$N$150,Inventário!$D$10:$D$150,Estoque!O$10,Inventário!$E$10:$E$150,Estoque!$C228)),\"ERRO\")","v":""}]
[null,217,{"$f":"IF('Cadastro de Produtos'!C221=\"\",\"\",VLOOKUP(B229,'Cadastro de Produtos'!$B$5:$C$204,2,0))","v":""},{"$f":"IFERROR(IF(C229=\"\",\"\",SUMIFS(Inventário!$N$10:$N$150,Inventário!$D$10:$D$150,Estoque!D$10,Inventário!$E$10:$E$150,Estoque!$C229)),\"ERRO\")","v":""},{"$f":"IFERROR(IF(D229=\"\",\"\",SUMIFS(Inventário!$N$10:$N$150,Inventário!$D$10:$D$150,Estoque!E$10,Inventário!$E$10:$E$150,Estoque!$C229)),\"ERRO\")","v":""},{"$f":"IFERROR(IF(E229=\"\",\"\",SUMIFS(Inventário!$N$10:$N$150,Inventário!$D$10:$D$150,Estoque!F$10,Inventário!$E$10:$E$150,Estoque!$C229)),\"ERRO\")","v":""},{"$f":"IFERROR(IF(F229=\"\",\"\",SUMIFS(Inventário!$N$10:$N$150,Inventário!$D$10:$D$150,Estoque!G$10,Inventário!$E$10:$E$150,Estoque!$C229)),\"ERRO\")","v":""},{"$f":"IFERROR(IF(G229=\"\",\"\",SUMIFS(Inventário!$N$10:$N$150,Inventário!$D$10:$D$150,Estoque!H$10,Inventário!$E$10:$E$150,Estoque!$C229)),\"ERRO\")","v":""},{"$f":"IFERROR(IF(H229=\"\",\"\",SUMIFS(Inventário!$N$10:$N$150,Inventário!$D$10:$D$150,Estoque!I$10,Inventário!$E$10:$E$150,Estoque!$C229)),\"ERRO\")","v":""},{"$f":"IFERROR(IF(I229=\"\",\"\",SUMIFS(Inventário!$N$10:$N$150,Inventário!$D$10:$D$150,Estoque!J$10,Inventário!$E$10:$E$150,Estoque!$C229)),\"ERRO\")","v":""},{"$f":"IFERROR(IF(J229=\"\",\"\",SUMIFS(Inventário!$N$10:$N$150,Inventário!$D$10:$D$150,Estoque!K$10,Inventário!$E$10:$E$150,Estoque!$C229)),\"ERRO\")","v":""},{"$f":"IFERROR(IF(K229=\"\",\"\",SUMIFS(Inventário!$N$10:$N$150,Inventário!$D$10:$D$150,Estoque!L$10,Inventário!$E$10:$E$150,Estoque!$C229)),\"ERRO\")","v":""},{"$f":"IFERROR(IF(L229=\"\",\"\",SUMIFS(Inventário!$N$10:$N$150,Inventário!$D$10:$D$150,Estoque!M$10,Inventário!$E$10:$E$150,Estoque!$C229)),\"ERRO\")","v":""},{"$f":"IFERROR(IF(M229=\"\",\"\",SUMIFS(Inventário!$N$10:$N$150,Inventário!$D$10:$D$150,Estoque!N$10,Inventário!$E$10:$E$150,Estoque!$C229)),\"ERRO\")","v":""},{"$f":"IFERROR(IF(N229=\"\",\"\",SUMIFS(Inventário!$N$10:$N$150,Inventário!$D$10:$D$150,Estoque!O$10,Inventário!$E$10:$E$150,Estoque!$C229)),\"ERRO\")","v":""}]
[null,218,{"$f":"IF('Cadastro de Produtos'!C222=\"\",\"\",VLOOKUP(B230,'Cadastro de Produtos'!$B$5:$C$204,2,0))","v":""},{"$f":"IFERROR(IF(C230=\"\",\"\",SUMIFS(Inventário!$N$10:$N$150,Inventário!$D$10:$D$150,Estoque!D$10,Inventário!$E$10:$E$150,Estoque!$C230)),\"ERRO\")","v":""},{"$f":"IFERROR(IF(D230=\"\",\"\",SUMIFS(Inventário!$N$10:$N$150,Inventário!$D$10:$D$150,Estoque!E$10,Inventário!$E$10:$E$150,Estoque!$C230)),\"ERRO\")","v":""},{"$f":"IFERROR(IF(E230=\"\",\"\",SUMIFS(Inventário!$N$10:$N$150,Inventário!$D$10:$D$150,Estoque!F$10,Inventário!$E$10:$E$150,Estoque!$C230)),\"ERRO\")","v":""},{"$f":"IFERROR(IF(F230=\"\",\"\",SUMIFS(Inventário!$N$10:$N$150,Inventário!$D$10:$D$150,Estoque!G$10,Inventário!$E$10:$E$150,Estoque!$C230)),\"ERRO\")","v":""},{"$f":"IFERROR(IF(G230=\"\",\"\",SUMIFS(Inventário!$N$10:$N$150,Inventário!$D$10:$D$150,Estoque!H$10,Inventário!$E$10:$E$150,Estoque!$C230)),\"ERRO\")","v":""},{"$f":"IFERROR(IF(H230=\"\",\"\",SUMIFS(Inventário!$N$10:$N$150,Inventário!$D$10:$D$150,Estoque!I$10,Inventário!$E$10:$E$150,Estoque!$C230)),\"ERRO\")","v":""},{"$f":"IFERROR(IF(I230=\"\",\"\",SUMIFS(Inventário!$N$10:$N$150,Inventário!$D$10:$D$150,Estoque!J$10,Inventário!$E$10:$E$150,Estoque!$C230)),\"ERRO\")","v":""},{"$f":"IFERROR(IF(J230=\"\",\"\",SUMIFS(Inventário!$N$10:$N$150,Inventário!$D$10:$D$150,Estoque!K$10,Inventário!$E$10:$E$150,Estoque!$C230)),\"ERRO\")","v":""},{"$f":"IFERROR(IF(K230=\"\",\"\",SUMIFS(Inventário!$N$10:$N$150,Inventário!$D$10:$D$150,Estoque!L$10,Inventário!$E$10:$E$150,Estoque!$C230)),\"ERRO\")","v":""},{"$f":"IFERROR(IF(L230=\"\",\"\",SUMIFS(Inventário!$N$10:$N$150,Inventário!$D$10:$D$150,Estoque!M$10,Inventário!$E$10:$E$150,Estoque!$C230)),\"ERRO\")","v":""},{"$f":"IFERROR(IF(M230=\"\",\"\",SUMIFS(Inventário!$N$10:$N$150,Inventário!$D$10:$D$150,Estoque!N$10,Inventário!$E$10:$E$150,Estoque!$C230)),\"ERRO\")","v":""},{"$f":"IFERROR(IF(N230=\"\",\"\",SUMIFS(Inventário!$N$10:$N$150,Inventário!$D$10:$D$150,Estoque!O$10,Inventário!$E$10:$E$150,Estoque!$C230)),\"ERRO\")","v":""}]
[null,219,{"$f":"IF('Cadastro de Produtos'!C223=\"\",\"\",VLOOKUP(B231,'Cadastro de Produtos'!$B$5:$C$204,2,0))","v":""},{"$f":"IFERROR(IF(C231=\"\",\"\",SUMIFS(Inventário!$N$10:$N$150,Inventário!$D$10:$D$150,Estoque!D$10,Inventário!$E$10:$E$150,Estoque!$C231)),\"ERRO\")","v":""},{"$f":"IFERROR(IF(D231=\"\",\"\",SUMIFS(Inventário!$N$10:$N$150,Inventário!$D$10:$D$150,Estoque!E$10,Inventário!$E$10:$E$150,Estoque!$C231)),\"ERRO\")","v":""},{"$f":"IFERROR(IF(E231=\"\",\"\",SUMIFS(Inventário!$N$10:$N$150,Inventário!$D$10:$D$150,Estoque!F$10,Inventário!$E$10:$E$150,Estoque!$C231)),\"ERRO\")","v":""},{"$f":"IFERROR(IF(F231=\"\",\"\",SUMIFS(Inventário!$N$10:$N$150,Inventário!$D$10:$D$150,Estoque!G$10,Inventário!$E$10:$E$150,Estoque!$C231)),\"ERRO\")","v":""},{"$f":"IFERROR(IF(G231=\"\",\"\",SUMIFS(Inventário!$N$10:$N$150,Inventário!$D$10:$D$150,Estoque!H$10,Inventário!$E$10:$E$150,Estoque!$C231)),\"ERRO\")","v":""},{"$f":"IFERROR(IF(H231=\"\",\"\",SUMIFS(Inventário!$N$10:$N$150,Inventário!$D$10:$D$150,Estoque!I$10,Inventário!$E$10:$E$150,Estoque!$C231)),\"ERRO\")","v":""},{"$f":"IFERROR(IF(I231=\"\",\"\",SUMIFS(Inventário!$N$10:$N$150,Inventário!$D$10:$D$150,Estoque!J$10,Inventário!$E$10:$E$150,Estoque!$C231)),\"ERRO\")","v":""},{"$f":"IFERROR(IF(J231=\"\",\"\",SUMIFS(Inventário!$N$10:$N$150,Inventário!$D$10:$D$150,Estoque!K$10,Inventário!$E$10:$E$150,Estoque!$C231)),\"ERRO\")","v":""},{"$f":"IFERROR(IF(K231=\"\",\"\",SUMIFS(Inventário!$N$10:$N$150,Inventário!$D$10:$D$150,Estoque!L$10,Inventário!$E$10:$E$150,Estoque!$C231)),\"ERRO\")","v":""},{"$f":"IFERROR(IF(L231=\"\",\"\",SUMIFS(Inventário!$N$10:$N$150,Inventário!$D$10:$D$150,Estoque!M$10,Inventário!$E$10:$E$150,Estoque!$C231)),\"ERRO\")","v":""},{"$f":"IFERROR(IF(M231=\"\",\"\",SUMIFS(Inventário!$N$10:$N$150,Inventário!$D$10:$D$150,Estoque!N$10,Inventário!$E$10:$E$150,Estoque!$C231)),\"ERRO\")","v":""},{"$f":"IFERROR(IF(N231=\"\",\"\",SUMIFS(Inventário!$N$10:$N$150,Inventário!$D$10:$D$150,Estoque!O$10,Inventário!$E$10:$E$150,Estoque!$C231)),\"ERRO\")","v":""}]
[null,220,{"$f":"IF('Cadastro de Produtos'!C224=\"\",\"\",VLOOKUP(B232,'Cadastro de Produtos'!$B$5:$C$204,2,0))","v":""},{"$f":"IFERROR(IF(C232=\"\",\"\",SUMIFS(Inventário!$N$10:$N$150,Inventário!$D$10:$D$150,Estoque!D$10,Inventário!$E$10:$E$150,Estoque!$C232)),\"ERRO\")","v":""},{"$f":"IFERROR(IF(D232=\"\",\"\",SUMIFS(Inventário!$N$10:$N$150,Inventário!$D$10:$D$150,Estoque!E$10,Inventário!$E$10:$E$150,Estoque!$C232)),\"ERRO\")","v":""},{"$f":"IFERROR(IF(E232=\"\",\"\",SUMIFS(Inventário!$N$10:$N$150,Inventário!$D$10:$D$150,Estoque!F$10,Inventário!$E$10:$E$150,Estoque!$C232)),\"ERRO\")","v":""},{"$f":"IFERROR(IF(F232=\"\",\"\",SUMIFS(Inventário!$N$10:$N$150,Inventário!$D$10:$D$150,Estoque!G$10,Inventário!$E$10:$E$150,Estoque!$C232)),\"ERRO\")","v":""},{"$f":"IFERROR(IF(G232=\"\",\"\",SUMIFS(Inventário!$N$10:$N$150,Inventário!$D$10:$D$150,Estoque!H$10,Inventário!$E$10:$E$150,Estoque!$C232)),\"ERRO\")","v":""},{"$f":"IFERROR(IF(H232=\"\",\"\",SUMIFS(Inventário!$N$10:$N$150,Inventário!$D$10:$D$150,Estoque!I$10,Inventário!$E$10:$E$150,Estoque!$C232)),\"ERRO\")","v":""},{"$f":"IFERROR(IF(I232=\"\",\"\",SUMIFS(Inventário!$N$10:$N$150,Inventário!$D$10:$D$150,Estoque!J$10,Inventário!$E$10:$E$150,Estoque!$C232)),\"ERRO\")","v":""},{"$f":"IFERROR(IF(J232=\"\",\"\",SUMIFS(Inventário!$N$10:$N$150,Inventário!$D$10:$D$150,Estoque!K$10,Inventário!$E$10:$E$150,Estoque!$C232)),\"ERRO\")","v":""},{"$f":"IFERROR(IF(K232=\"\",\"\",SUMIFS(Inventário!$N$10:$N$150,Inventário!$D$10:$D$150,Estoque!L$10,Inventário!$E$10:$E$150,Estoque!$C232)),\"ERRO\")","v":""},{"$f":"IFERROR(IF(L232=\"\",\"\",SUMIFS(Inventário!$N$10:$N$150,Inventário!$D$10:$D$150,Estoque!M$10,Inventário!$E$10:$E$150,Estoque!$C232)),\"ERRO\")","v":""},{"$f":"IFERROR(IF(M232=\"\",\"\",SUMIFS(Inventário!$N$10:$N$150,Inventário!$D$10:$D$150,Estoque!N$10,Inventário!$E$10:$E$150,Estoque!$C232)),\"ERRO\")","v":""},{"$f":"IFERROR(IF(N232=\"\",\"\",SUMIFS(Inventário!$N$10:$N$150,Inventário!$D$10:$D$150,Estoque!O$10,Inventário!$E$10:$E$150,Estoque!$C232)),\"ERRO\")","v":""}]
[null,221,{"$f":"IF('Cadastro de Produtos'!C225=\"\",\"\",VLOOKUP(B233,'Cadastro de Produtos'!$B$5:$C$204,2,0))","v":""},{"$f":"IFERROR(IF(C233=\"\",\"\",SUMIFS(Inventário!$N$10:$N$150,Inventário!$D$10:$D$150,Estoque!D$10,Inventário!$E$10:$E$150,Estoque!$C233)),\"ERRO\")","v":""},{"$f":"IFERROR(IF(D233=\"\",\"\",SUMIFS(Inventário!$N$10:$N$150,Inventário!$D$10:$D$150,Estoque!E$10,Inventário!$E$10:$E$150,Estoque!$C233)),\"ERRO\")","v":""},{"$f":"IFERROR(IF(E233=\"\",\"\",SUMIFS(Inventário!$N$10:$N$150,Inventário!$D$10:$D$150,Estoque!F$10,Inventário!$E$10:$E$150,Estoque!$C233)),\"ERRO\")","v":""},{"$f":"IFERROR(IF(F233=\"\",\"\",SUMIFS(Inventário!$N$10:$N$150,Inventário!$D$10:$D$150,Estoque!G$10,Inventário!$E$10:$E$150,Estoque!$C233)),\"ERRO\")","v":""},{"$f":"IFERROR(IF(G233=\"\",\"\",SUMIFS(Inventário!$N$10:$N$150,Inventário!$D$10:$D$150,Estoque!H$10,Inventário!$E$10:$E$150,Estoque!$C233)),\"ERRO\")","v":""},{"$f":"IFERROR(IF(H233=\"\",\"\",SUMIFS(Inventário!$N$10:$N$150,Inventário!$D$10:$D$150,Estoque!I$10,Inventário!$E$10:$E$150,Estoque!$C233)),\"ERRO\")","v":""},{"$f":"IFERROR(IF(I233=\"\",\"\",SUMIFS(Inventário!$N$10:$N$150,Inventário!$D$10:$D$150,Estoque!J$10,Inventário!$E$10:$E$150,Estoque!$C233)),\"ERRO\")","v":""},{"$f":"IFERROR(IF(J233=\"\",\"\",SUMIFS(Inventário!$N$10:$N$150,Inventário!$D$10:$D$150,Estoque!K$10,Inventário!$E$10:$E$150,Estoque!$C233)),\"ERRO\")","v":""},{"$f":"IFERROR(IF(K233=\"\",\"\",SUMIFS(Inventário!$N$10:$N$150,Inventário!$D$10:$D$150,Estoque!L$10,Inventário!$E$10:$E$150,Estoque!$C233)),\"ERRO\")","v":""},{"$f":"IFERROR(IF(L233=\"\",\"\",SUMIFS(Inventário!$N$10:$N$150,Inventário!$D$10:$D$150,Estoque!M$10,Inventário!$E$10:$E$150,Estoque!$C233)),\"ERRO\")","v":""},{"$f":"IFERROR(IF(M233=\"\",\"\",SUMIFS(Inventário!$N$10:$N$150,Inventário!$D$10:$D$150,Estoque!N$10,Inventário!$E$10:$E$150,Estoque!$C233)),\"ERRO\")","v":""},{"$f":"IFERROR(IF(N233=\"\",\"\",SUMIFS(Inventário!$N$10:$N$150,Inventário!$D$10:$D$150,Estoque!O$10,Inventário!$E$10:$E$150,Estoque!$C233)),\"ERRO\")","v":""}]
[null,222,{"$f":"IF('Cadastro de Produtos'!C226=\"\",\"\",VLOOKUP(B234,'Cadastro de Produtos'!$B$5:$C$204,2,0))","v":""},{"$f":"IFERROR(IF(C234=\"\",\"\",SUMIFS(Inventário!$N$10:$N$150,Inventário!$D$10:$D$150,Estoque!D$10,Inventário!$E$10:$E$150,Estoque!$C234)),\"ERRO\")","v":""},{"$f":"IFERROR(IF(D234=\"\",\"\",SUMIFS(Inventário!$N$10:$N$150,Inventário!$D$10:$D$150,Estoque!E$10,Inventário!$E$10:$E$150,Estoque!$C234)),\"ERRO\")","v":""},{"$f":"IFERROR(IF(E234=\"\",\"\",SUMIFS(Inventário!$N$10:$N$150,Inventário!$D$10:$D$150,Estoque!F$10,Inventário!$E$10:$E$150,Estoque!$C234)),\"ERRO\")","v":""},{"$f":"IFERROR(IF(F234=\"\",\"\",SUMIFS(Inventário!$N$10:$N$150,Inventário!$D$10:$D$150,Estoque!G$10,Inventário!$E$10:$E$150,Estoque!$C234)),\"ERRO\")","v":""},{"$f":"IFERROR(IF(G234=\"\",\"\",SUMIFS(Inventário!$N$10:$N$150,Inventário!$D$10:$D$150,Estoque!H$10,Inventário!$E$10:$E$150,Estoque!$C234)),\"ERRO\")","v":""},{"$f":"IFERROR(IF(H234=\"\",\"\",SUMIFS(Inventário!$N$10:$N$150,Inventário!$D$10:$D$150,Estoque!I$10,Inventário!$E$10:$E$150,Estoque!$C234)),\"ERRO\")","v":""},{"$f":"IFERROR(IF(I234=\"\",\"\",SUMIFS(Inventário!$N$10:$N$150,Inventário!$D$10:$D$150,Estoque!J$10,Inventário!$E$10:$E$150,Estoque!$C234)),\"ERRO\")","v":""},{"$f":"IFERROR(IF(J234=\"\",\"\",SUMIFS(Inventário!$N$10:$N$150,Inventário!$D$10:$D$150,Estoque!K$10,Inventário!$E$10:$E$150,Estoque!$C234)),\"ERRO\")","v":""},{"$f":"IFERROR(IF(K234=\"\",\"\",SUMIFS(Inventário!$N$10:$N$150,Inventário!$D$10:$D$150,Estoque!L$10,Inventário!$E$10:$E$150,Estoque!$C234)),\"ERRO\")","v":""},{"$f":"IFERROR(IF(L234=\"\",\"\",SUMIFS(Inventário!$N$10:$N$150,Inventário!$D$10:$D$150,Estoque!M$10,Inventário!$E$10:$E$150,Estoque!$C234)),\"ERRO\")","v":""},{"$f":"IFERROR(IF(M234=\"\",\"\",SUMIFS(Inventário!$N$10:$N$150,Inventário!$D$10:$D$150,Estoque!N$10,Inventário!$E$10:$E$150,Estoque!$C234)),\"ERRO\")","v":""},{"$f":"IFERROR(IF(N234=\"\",\"\",SUMIFS(Inventário!$N$10:$N$150,Inventário!$D$10:$D$150,Estoque!O$10,Inventário!$E$10:$E$150,Estoque!$C234)),\"ERRO\")","v":""}]
[null,223,{"$f":"IF('Cadastro de Produtos'!C227=\"\",\"\",VLOOKUP(B235,'Cadastro de Produtos'!$B$5:$C$204,2,0))","v":""},{"$f":"IFERROR(IF(C235=\"\",\"\",SUMIFS(Inventário!$N$10:$N$150,Inventário!$D$10:$D$150,Estoque!D$10,Inventário!$E$10:$E$150,Estoque!$C235)),\"ERRO\")","v":""},{"$f":"IFERROR(IF(D235=\"\",\"\",SUMIFS(Inventário!$N$10:$N$150,Inventário!$D$10:$D$150,Estoque!E$10,Inventário!$E$10:$E$150,Estoque!$C235)),\"ERRO\")","v":""},{"$f":"IFERROR(IF(E235=\"\",\"\",SUMIFS(Inventário!$N$10:$N$150,Inventário!$D$10:$D$150,Estoque!F$10,Inventário!$E$10:$E$150,Estoque!$C235)),\"ERRO\")","v":""},{"$f":"IFERROR(IF(F235=\"\",\"\",SUMIFS(Inventário!$N$10:$N$150,Inventário!$D$10:$D$150,Estoque!G$10,Inventário!$E$10:$E$150,Estoque!$C235)),\"ERRO\")","v":""},{"$f":"IFERROR(IF(G235=\"\",\"\",SUMIFS(Inventário!$N$10:$N$150,Inventário!$D$10:$D$150,Estoque!H$10,Inventário!$E$10:$E$150,Estoque!$C235)),\"ERRO\")","v":""},{"$f":"IFERROR(IF(H235=\"\",\"\",SUMIFS(Inventário!$N$10:$N$150,Inventário!$D$10:$D$150,Estoque!I$10,Inventário!$E$10:$E$150,Estoque!$C235)),\"ERRO\")","v":""},{"$f":"IFERROR(IF(I235=\"\",\"\",SUMIFS(Inventário!$N$10:$N$150,Inventário!$D$10:$D$150,Estoque!J$10,Inventário!$E$10:$E$150,Estoque!$C235)),\"ERRO\")","v":""},{"$f":"IFERROR(IF(J235=\"\",\"\",SUMIFS(Inventário!$N$10:$N$150,Inventário!$D$10:$D$150,Estoque!K$10,Inventário!$E$10:$E$150,Estoque!$C235)),\"ERRO\")","v":""},{"$f":"IFERROR(IF(K235=\"\",\"\",SUMIFS(Inventário!$N$10:$N$150,Inventário!$D$10:$D$150,Estoque!L$10,Inventário!$E$10:$E$150,Estoque!$C235)),\"ERRO\")","v":""},{"$f":"IFERROR(IF(L235=\"\",\"\",SUMIFS(Inventário!$N$10:$N$150,Inventário!$D$10:$D$150,Estoque!M$10,Inventário!$E$10:$E$150,Estoque!$C235)),\"ERRO\")","v":""},{"$f":"IFERROR(IF(M235=\"\",\"\",SUMIFS(Inventário!$N$10:$N$150,Inventário!$D$10:$D$150,Estoque!N$10,Inventário!$E$10:$E$150,Estoque!$C235)),\"ERRO\")","v":""},{"$f":"IFERROR(IF(N235=\"\",\"\",SUMIFS(Inventário!$N$10:$N$150,Inventário!$D$10:$D$150,Estoque!O$10,Inventário!$E$10:$E$150,Estoque!$C235)),\"ERRO\")","v":""}]
[null,224,{"$f":"IF('Cadastro de Produtos'!C228=\"\",\"\",VLOOKUP(B236,'Cadastro de Produtos'!$B$5:$C$204,2,0))","v":""},{"$f":"IFERROR(IF(C236=\"\",\"\",SUMIFS(Inventário!$N$10:$N$150,Inventário!$D$10:$D$150,Estoque!D$10,Inventário!$E$10:$E$150,Estoque!$C236)),\"ERRO\")","v":""},{"$f":"IFERROR(IF(D236=\"\",\"\",SUMIFS(Inventário!$N$10:$N$150,Inventário!$D$10:$D$150,Estoque!E$10,Inventário!$E$10:$E$150,Estoque!$C236)),\"ERRO\")","v":""},{"$f":"IFERROR(IF(E236=\"\",\"\",SUMIFS(Inventário!$N$10:$N$150,Inventário!$D$10:$D$150,Estoque!F$10,Inventário!$E$10:$E$150,Estoque!$C236)),\"ERRO\")","v":""},{"$f":"IFERROR(IF(F236=\"\",\"\",SUMIFS(Inventário!$N$10:$N$150,Inventário!$D$10:$D$150,Estoque!G$10,Inventário!$E$10:$E$150,Estoque!$C236)),\"ERRO\")","v":""},{"$f":"IFERROR(IF(G236=\"\",\"\",SUMIFS(Inventário!$N$10:$N$150,Inventário!$D$10:$D$150,Estoque!H$10,Inventário!$E$10:$E$150,Estoque!$C236)),\"ERRO\")","v":""},{"$f":"IFERROR(IF(H236=\"\",\"\",SUMIFS(Inventário!$N$10:$N$150,Inventário!$D$10:$D$150,Estoque!I$10,Inventário!$E$10:$E$150,Estoque!$C236)),\"ERRO\")","v":""},{"$f":"IFERROR(IF(I236=\"\",\"\",SUMIFS(Inventário!$N$10:$N$150,Inventário!$D$10:$D$150,Estoque!J$10,Inventário!$E$10:$E$150,Estoque!$C236)),\"ERRO\")","v":""},{"$f":"IFERROR(IF(J236=\"\",\"\",SUMIFS(Inventário!$N$10:$N$150,Inventário!$D$10:$D$150,Estoque!K$10,Inventário!$E$10:$E$150,Estoque!$C236)),\"ERRO\")","v":""},{"$f":"IFERROR(IF(K236=\"\",\"\",SUMIFS(Inventário!$N$10:$N$150,Inventário!$D$10:$D$150,Estoque!L$10,Inventário!$E$10:$E$150,Estoque!$C236)),\"ERRO\")","v":""},{"$f":"IFERROR(IF(L236=\"\",\"\",SUMIFS(Inventário!$N$10:$N$150,Inventário!$D$10:$D$150,Estoque!M$10,Inventário!$E$10:$E$150,Estoque!$C236)),\"ERRO\")","v":""},{"$f":"IFERROR(IF(M236=\"\",\"\",SUMIFS(Inventário!$N$10:$N$150,Inventário!$D$10:$D$150,Estoque!N$10,Inventário!$E$10:$E$150,Estoque!$C236)),\"ERRO\")","v":""},{"$f":"IFERROR(IF(N236=\"\",\"\",SUMIFS(Inventário!$N$10:$N$150,Inventário!$D$10:$D$150,Estoque!O$10,Inventário!$E$10:$E$150,Estoque!$C236)),\"ERRO\")","v":""}]

{"sheet":"Relatório","index":6,"n_rows":85,"n_cols":14,"rows_kept":85,"cut":false,"hidden":false,"merged":[[23,0,23,18],[54,1,54,19],[84,0,84,19],[1,1,1,8],[47,2,47,7],[48,2,50,2],[48,5,50,5],[50,3,50,4],[50,6,50,7],[4,0,4,18]]}
[]
[]
[]
[]
["Evolução do Estoque Total no Período\n"]
[]
[]
[]
[]
[]
[]
[]
[]
[]
[]
[]
[]
[]
[]
[]
[]
[]
[]
["Entradas e Saídas de Estoque em Valores e em Quantidade"]
[]
[null,"Mês:","Fev"]
[]
[]
[]
[]
[]
[]
[]
[]
[]
[]
[]
[]
[]
[]
[]
[]
[]
[]
[]
[]
[]
[null,null,"Controle de Estoque"]
[null,null,"Saldo Total em Custos","Entradas","Saídas","Saldo Total em Quantidade","Entradas","Saídas"]
[null,null,null,{"$f":"IF($C$26=\"Consolidado\",Inventário!$H$153,SUMIF(Inventário!$D$10:$D$150,Relatório!$C$26,Inventário!$J$10:J150))","v":0},{"$f":"IF($C$26=\"Consolidado\",Inventário!$H$154,SUMIF(Inventário!$D$10:$D$150,Relatório!$C$26,Inventário!$L$10:L150))","v":0},null,{"$f":"IF($C$26=\"Consolidado\",SUM(Inventário!$I$10:I150),SUMIF(Inventário!$D$10:$D$150,Relatório!$C$26,Inventário!$I$10:I150))","v":0},{"$f":"IF($C$26=\"Consolidado\",SUM(Inventário!$K$10:K150),SUMIF(Inventário!$D$10:$D$150,Relatório!$C$26,Inventário!$K$10:K150))","v":0}]
[null,null,null,{"$f":"D50-E50","v":0},null,null,{"$f":"G50-H50","v":0}]
[]
[]
[]
[null,"Evolução do Estoque por Produto"]
[]
[null,"Produto:","camisa"]
[]
[]
[]
[]
[]
[]
[]
[]
[]
[]
[]
[]
[]
[]
[]
[]
[]
[]
[]
[]
[]
[]
[]
[]
[null,"Produto",{"$f":"Estoque!D10","v":"Jan"},{"$f":"Estoque!E10","v":"Fev"},{"$f":"Estoque!F10","v":"Mar"},{"$f":"Estoque!G10","v":"Abr"},{"$f":"Estoque!H10","v":"Mai"},{"$f":"Estoque!I10","v":"Jun"},{"$f":"Estoque!J10","v":"Jul"},{"$f":"Estoque!K10","v":"Ago"},{"$f":"Estoque!L10","v":"Set"},{"$f":"Estoque!M10","v":"Out"},{"$f":"Estoque!N10","v":"Nov"},{"$f":"Estoque!O10","v":"Dez"}]
[null,{"$f":"$C$57","v":"camisa"},{"$f":"VLOOKUP($B$83,Estoque!$C$13:$O$236,2,0)","v":{"$error":"#N/A"}},{"$f":"VLOOKUP($B$83,Estoque!$C$13:$O$236,3,0)","v":{"$error":"#N/A"}},{"$f":"VLOOKUP($B$83,Estoque!$C$13:$O$236,4,0)","v":{"$error":"#N/A"}},{"$f":"VLOOKUP($B$83,Estoque!$C$13:$O$236,5,0)","v":{"$error":"#N/A"}},{"$f":"VLOOKUP($B$83,Estoque!$C$13:$O$236,6,0)","v":{"$error":"#N/A"}},{"$f":"VLOOKUP($B$83,Estoque!$C$13:$O$236,7,0)","v":{"$error":"#N/A"}},{"$f":"VLOOKUP($B$83,Estoque!$C$13:$O$236,8,0)","v":{"$error":"#N/A"}},{"$f":"VLOOKUP($B$83,Estoque!$C$13:$O$236,9,0)","v":{"$error":"#N/A"}},{"$f":"VLOOKUP($B$83,Estoque!$C$13:$O$236,10,0)","v":{"$error":"#N/A"}},{"$f":"VLOOKUP($B$83,Estoque!$C$13:$O$236,11,0)","v":{"$error":"#N/A"}},{"$f":"VLOOKUP($B$83,Estoque!$C$13:$O$236,12,0)","v":{"$error":"#N/A"}},{"$f":"VLOOKUP($B$83,Estoque!$C$13:$O$236,13,0)","v":{"$error":"#N/A"}}]
[null,{"$f":"CONCATENATE(\"Evolução do Estoque de \",$C$57, \" no Inventário\")","v":"Evolução do Estoque de camisa no Inventário"}]
["*** Fim ***"]